Workbook
Name Dressuur: Diversen!#REF!
Name Dressuur_1: Diversen!#REF!
Name Dressuur_10: Diversen!#REF!
Name Dressuur_11: Diversen!#REF!
Name Dressuur_12: Diversen!#REF!
Name Dressuur_13: Diversen!#REF!
Name Dressuur_2: Diversen!#REF!
Name Dressuur_3: Diversen!#REF!
Name Dressuur_4: Diversen!#REF!
Name Dressuur_5: Diversen!#REF!
Name Dressuur_6: Diversen!#REF!
Name Dressuur_7: Diversen!#REF!
Name Dressuur_8: Diversen!#REF!
Name Dressuur_9: Diversen!#REF!

Sheet Informatie
A1: LEES ONDERSTAANDE INFO EERST!!
A3: Zowel de afgevaardigden als de reserves dienen zich in te schrijven via mijn KNHS.
A5: Reserveruiters die niet ingezet worden, krijgen hun inschrijfgeld
A6: automatisch weer retour geboekt!

Sheet BB
A1: Selectie uitslagen
C2: 1 | D2: =FLOOR((C2+3)/4,1) -> 1 | H2: 192 | I2: 190 | J2: =H2+I2 -> 382 | N2: 1 | P2: 193 | Q2: 193 | R2: =P2+Q2 -> 386 | V2: 2 | X2: 198 | Y2: 198 | Z2: =X2+Y2 -> 396 | AD2: 3 | AF2: 177 | AG2: 177 | AH2: =AF2+AG2 -> 354 | AL2: 4 | AN2: 178 | AO2: 178 | AP2: =AN2+AO2 -> 356 | AT2: 5 | AV2: 179 | AW2: 179 | AX2: =AV2+AW2 -> 358 | BB2: 6 | BC2: =N2+V2+AD2+AL2+AT2+BB2 -> 21 | BD2: =J2+R2+Z2+AH2+AP2+AX2 -> 2232 | BE2: =IF($O$4>0,(LARGE(($N2,$V2,$AD2,$AL2,$AT2,$BB2),1)),"0") -> 6 | BF2: =IF($O$4>0,(LARGE(($N2,$V2,$AD2,$AL2,$AT2,$BB2),2)),"0") -> 5 | BG2: 354 | BH2: 354 | BI2: =BC2-BE2-BF2 -> 10 | BJ2: =BD2-BG2-BH2 -> 1524
A3: Kring: | C3: =Instellingen!B3 -> Kring Berkel IJssel | F3: Aantal afvaardiging Regio: | BC3: Aantal wedstrijden: | BL3: =Instellingen!B6 -> 3
A4: Klasse: | C4: BB | F4: Aantal afval resultaten: | O4: =Instellingen!B7 -> 1
A5: Cat.: | F5: Plaatsingspunten niet gestart: | O5: =Instellingen!B5 -> 99 | BC5: Aantal reserves:
F6: Lokatie: | G6: =Instellingen!B36 -> Brummen | O6: =Instellingen!B37 -> Brummen | W6: =Instellingen!B38 -> Gorssel | AE6: =Instellingen!B39 -> 0 | AM6: =Instellingen!B40 -> 0 | AU6: =Instellingen!B41 -> 0 | BC6: Dressuur | BI6: Pnt. 60% regel | BL6: 180
F7: Datum: | G7: =Instellingen!C36 -> 10-11 okt | O7: =Instellingen!C37 -> 6-8 nov | W7: =Instellingen!C38 -> 4-6 dec | AE7: =Instellingen!C39 | AM7: =Instellingen!C40 | AU7: =Instellingen!C41 | BC7: Tot. | BD7: Tot. | BE7: afval | BF7: afval | BG7: afval | BH7: afval | BI7: Beste | BJ7: Beste
A8: Pl. | B8: Comb.nr. | C8: Ruiter/amazone | D8: Paard/pony | E8: kl. | F8: vereniging | G8: Ring | H8: pnt.C | I8: pnt.H | J8: pnt.tot | K8: ex 1 | L8: ex 2 | M8: pl. | N8: pl.p. | O8: Ring | P8: pnt.C | Q8: pnt.H | R8: pnt.tot. | S8: ex 1 | T8: ex 2 | U8: pl. | V8: pl.p. | W8: Ring | X8: pnt.C | Y8: pnt. H | Z8: pnt.tot. | AA8: ex 1 | AB8: ex 2 | AC8: pl. | AD8: pl.p. | AE8: Ring | AF8: pnt.C | AG8: pnt.H | AH8: pnt.tot. | AI8: ex 1 | AJ8: ex 2 | AK8: pl. | AL8: pl.p. | AM8: Ring | AN8: pnt.C | AO8: pnt.H | AP8: pnt.tot. | AQ8: ex 1 | AR8: ex 2 | AS8: pl. | AT8: pl.p. | AU8: Ring | AV8: pnt.C | AW8: pnt.H | AX8: pnt.tot. | AY8: ex 1 | AZ8: ex 2 | BA8: pl. | BB8: pl.p. | BC8: pl.pnt | BD8: punten | BE8: pl.pnt | BF8: pl.pnt | BG8: punten | BH8: punten | BI8: pl.pnt | BJ8: punten | BK8: Afv. | BL8: Res. | BM8: Afv. Regio | BN8: opmerking

Sheet B
A1: Selectie uitslagen
C2: 1 | D2: =FLOOR((C2+3)/4,1) -> 1 | H2: 192 | I2: 190 | J2: =H2+I2 -> 382 | N2: 1 | P2: 193 | Q2: 193 | R2: =P2+Q2 -> 386 | V2: 2 | X2: 198 | Y2: 198 | Z2: =X2+Y2 -> 396 | AD2: 3 | AF2: 177 | AG2: 177 | AH2: =AF2+AG2 -> 354 | AL2: 4 | AN2: 178 | AO2: 178 | AP2: =AN2+AO2 -> 356 | AT2: 5 | AV2: 179 | AW2: 179 | AX2: =AV2+AW2 -> 358 | BB2: 6 | BC2: =N2+V2+AD2+AL2+AT2+BB2 -> 21 | BD2: =J2+R2+Z2+AH2+AP2+AX2 -> 2232 | BE2: =IF($O$4>0,(LARGE(($N2,$V2,$AD2,$AL2,$AT2,$BB2),1)),"0") -> 6 | BF2: =IF($O$4>0,(LARGE(($N2,$V2,$AD2,$AL2,$AT2,$BB2),2)),"0") -> 5 | BG2: 354 | BH2: 354 | BI2: =BC2-BE2-BF2 -> 10 | BJ2: =BD2-BG2-BH2 -> 1524
A3: Kring: | C3: =Instellingen!B3 -> Kring Berkel IJssel | F3: Aantal afvaardiging Regio: | O3: 3 | BC3: Aantal wedstrijden: | BL3: =Instellingen!B6 -> 3
A4: Klasse: | C4: B | F4: Aantal afval resultaten: | O4: 1
A5: Cat.: | F5: Plaatsingspunten niet gestart: | O5: =Instellingen!B5 -> 99 | BC5: Aantal reserves: | BL5: 2
F6: Lokatie: | G6: =Instellingen!B36 -> Brummen | O6: =Instellingen!B37 -> Brummen | W6: =Instellingen!B38 -> Gorssel | AE6: =Instellingen!B39 -> 0 | AM6: =Instellingen!B40 -> 0 | AU6: =Instellingen!B41 -> 0 | BC6: Dressuur | BI6: Pnt. 60% regel | BL6: 180
F7: Datum: | G7: =Instellingen!C36 -> 10-11 okt | O7: =Instellingen!C37 -> 6-8 nov | W7: =Instellingen!C38 -> 4-6 dec | AE7: =Instellingen!C39 | AM7: =Instellingen!C40 | AU7: =Instellingen!C41 | BC7: Tot. | BD7: Tot. | BE7: afval | BF7: afval | BG7: afval | BH7: afval | BI7: Beste | BJ7: Beste
A8: Pl. | B8: Comb.nr. | C8: Ruiter/amazone | D8: Paard/pony | E8: kl. | F8: vereniging | G8: Ring | H8: pnt.C | I8: pnt.H | J8: pnt.tot | K8: ex 1 | L8: ex 2 | M8: pl. | N8: pl.p. | O8: Ring | P8: pnt.C | Q8: pnt.H | R8: pnt.tot. | S8: ex 1 | T8: ex 2 | U8: pl. | V8: pl.p. | W8: Ring | X8: pnt.C | Y8: pnt. H | Z8: pnt.tot. | AA8: ex 1 | AB8: ex 2 | AC8: pl. | AD8: pl.p. | AE8: Ring | AF8: pnt.C | AG8: pnt.H | AH8: pnt.tot. | AI8: ex 1 | AJ8: ex 2 | AK8: pl. | AL8: pl.p. | AM8: Ring | AN8: pnt.C | AO8: pnt.H | AP8: pnt.tot. | AQ8: ex 1 | AR8: ex 2 | AS8: pl. | AT8: pl.p. | AU8: Ring | AV8: pnt.C | AW8: pnt.H | AX8: pnt.tot. | AY8: ex 1 | AZ8: ex 2 | BA8: pl. | BB8: pl.p. | BC8: pl.pnt | BD8: punten | BE8: pl.pnt | BF8: pl.pnt | BG8: punten | BH8: punten | BI8: pl.pnt | BJ8: punten | BK8: Afv. | BL8: Res. | BM8: Afv. Regio | BN8: opmerking
A9: 1 | B9: 1062572RS | C9: Jose Koopman | D9: Rubinetta Acb | E9: B | F9: IJsselruiters, RV. | H9: 213 | I9: 0 | J9: =H9+I9 -> 213 | K9: 8 | L9: 8 | M9: 1 | N9: 1 | R9: =P9+Q9 -> 0 | Z9: =X9+Y9 -> 0 | BC9: =N9+V9+AD9+AL9+AT9+BB9 -> 1 | BD9: =J9+R9+Z9+AH9+AP9+AX9 -> 213 | BI9: =BC9-BE9-BF9 -> 1 | BJ9: =BD9-BG9-BH9 -> 213
A10: 2 | B10: 1065074RJ | C10: Noor Jansen | D10: Remington Cg | E10: B | F10: Gorssel-Zutphen, RV. | H10: 197.5 | I10: 0 | J10: =H10+I10 -> 197.5 | K10: 6.5 | L10: 7 | M10: 2 | N10: 2 | R10: =P10+Q10 -> 0 | Z10: =X10+Y10 -> 0 | BC10: =N10+V10+AD10+AL10+AT10+BB10 -> 2 | BD10: =J10+R10+Z10+AH10+AP10+AX10 -> 197.5 | BI10: =BC10-BE10-BF10 -> 2 | BJ10: =BD10-BG10-BH10 -> 197.5
A11: 3 | B11: 1068082SN | C11: Sophie Nijenhof | D11: Silke van het d'olde lantschap | E11: B | F11: Veluwezoom (HSV.), RV. de | H11: 193.5 | I11: 0 | J11: =H11+I11 -> 193.5 | K11: 7 | L11: 7 | M11: 3 | N11: 3 | R11: =P11+Q11 -> 0 | Z11: =X11+Y11 -> 0 | BC11: =N11+V11+AD11+AL11+AT11+BB11 -> 3 | BD11: =J11+R11+Z11+AH11+AP11+AX11 -> 193.5 | BI11: =BC11-BE11-BF11 -> 3 | BJ11: =BD11-BG11-BH11 -> 193.5
A12: 4 | B12: 1066556MX | C12: Stephanie Xhofleer | D12: Molenberg's Lorenzo | E12: B | F12: Oortveldruiters, RV. | H12: 193 | I12: 0 | J12: =H12+I12 -> 193 | K12: 6.5 | L12: 7 | M12: 4 | N12: 4 | R12: =P12+Q12 -> 0 | Z12: =X12+Y12 -> 0 | BC12: =N12+V12+AD12+AL12+AT12+BB12 -> 4 | BD12: =J12+R12+Z12+AH12+AP12+AX12 -> 193 | BI12: =BC12-BE12-BF12 -> 4 | BJ12: =BD12-BG12-BH12 -> 193
A13: 5 | B13: 1040605PE | C13: Indy Elissen | D13: Purdey | E13: B | F13: Veluwezoom (HSV.), RV. de | H13: 192 | I13: 0 | J13: =H13+I13 -> 192 | K13: 6 | L13: 6.5 | M13: 5 | N13: 5 | R13: =P13+Q13 -> 0 | Z13: =X13+Y13 -> 0 | BC13: =N13+V13+AD13+AL13+AT13+BB13 -> 5 | BD13: =J13+R13+Z13+AH13+AP13+AX13 -> 192 | BI13: =BC13-BE13-BF13 -> 5 | BJ13: =BD13-BG13-BH13 -> 192
A14: 6 | B14: 1065761SK | C14: Meike Kemperman | D14: Shakira | E14: B | F14: Gorssel-Zutphen, RV. | H14: 187 | I14: 0 | J14: =H14+I14 -> 187 | K14: 6 | L14: 6.5 | M14: 6 | N14: 6 | R14: =P14+Q14 -> 0 | Z14: =X14+Y14 -> 0 | BC14: =N14+V14+AD14+AL14+AT14+BB14 -> 6 | BD14: =J14+R14+Z14+AH14+AP14+AX14 -> 187 | BI14: =BC14-BE14-BF14 -> 6 | BJ14: =BD14-BG14-BH14 -> 187
A15: 7 | B15: 1044832AB | C15: Sanne van den Berg | D15: Aymayra | E15: B | F15: Gorssel-Zutphen, RV. | H15: 185.5 | I15: 0 | J15: =H15+I15 -> 185.5 | K15: 6 | L15: 7 | M15: 7 | N15: 7 | R15: =P15+Q15 -> 0 | Z15: =X15+Y15 -> 0 | BC15: =N15+V15+AD15+AL15+AT15+BB15 -> 7 | BD15: =J15+R15+Z15+AH15+AP15+AX15 -> 185.5 | BI15: =BC15-BE15-BF15 -> 7 | BJ15: =BD15-BG15-BH15 -> 185.5
A16: 8 | B16: 1068226LD | C16: Maree Doornink | D16: Lucky Dream | E16: B | F16: IJsselruiters, RV. | H16: 184.5 | I16: 0 | J16: =H16+I16 -> 184.5 | K16: 6 | L16: 6 | M16: 8 | N16: 8 | R16: =P16+Q16 -> 0 | Z16: =X16+Y16 -> 0 | BC16: =N16+V16+AD16+AL16+AT16+BB16 -> 8 | BD16: =J16+R16+Z16+AH16+AP16+AX16 -> 184.5 | BI16: =BC16-BE16-BF16 -> 8 | BJ16: =BD16-BG16-BH16 -> 184.5
A17: 9 | B17: 1067740SL | C17: Eileen Leeflang | D17: Savita | E17: B | F17: IJsselruiters, RV. | H17: 182.5 | I17: 0 | J17: =H17+I17 -> 182.5 | K17: 5.5 | L17: 6 | M17: 9 | N17: 9 | R17: =P17+Q17 -> 0 | Z17: =X17+Y17 -> 0 | BC17: =N17+V17+AD17+AL17+AT17+BB17 -> 9 | BD17: =J17+R17+Z17+AH17+AP17+AX17 -> 182.5 | BI17: =BC17-BE17-BF17 -> 9 | BJ17: =BD17-BG17-BH17 -> 182.5
A18: 10 | B18: 1067538ZW | C18: Veere Van der Weide | D18: Zofrei | E18: B | F18: IJsselruiters, RV. | H18: 181.5 | I18: 0 | J18: =H18+I18 -> 181.5 | K18: 5.5 | L18: 6 | M18: 10 | N18: 10 | R18: =P18+Q18 -> 0 | Z18: =X18+Y18 -> 0 | BC18: =N18+V18+AD18+AL18+AT18+BB18 -> 10 | BD18: =J18+R18+Z18+AH18+AP18+AX18 -> 181.5 | BI18: =BC18-BE18-BF18 -> 10 | BJ18: =BD18-BG18-BH18 -> 181.5
A19: 11 | B19: 1062671SB | C19: Jasmijn Bitter | D19: Saga Diesodorette Fs | E19: B | F19: Dressuurstal Seren (RV) | H19: 178.5 | I19: 0 | J19: =H19+I19 -> 178.5 | K19: 6 | L19: 6 | M19: 11 | N19: 11 | R19: =P19+Q19 -> 0 | Z19: =X19+Y19 -> 0 | BC19: =N19+V19+AD19+AL19+AT19+BB19 -> 11 | BD19: =J19+R19+Z19+AH19+AP19+AX19 -> 178.5 | BI19: =BC19-BE19-BF19 -> 11 | BJ19: =BD19-BG19-BH19 -> 178.5
A20: 12 | B20: 1068709MS | C20: Louna Sanderse | D20: Millennium | E20: B | F20: Spreng (PPSV), RV. | H20: 176.5 | I20: 0 | J20: =H20+I20 -> 176.5 | K20: 6 | L20: 6.5 | M20: 12 | N20: 12 | R20: =P20+Q20 -> 0 | Z20: =X20+Y20 -> 0 | BC20: =N20+V20+AD20+AL20+AT20+BB20 -> 12 | BD20: =J20+R20+Z20+AH20+AP20+AX20 -> 176.5 | BI20: =BC20-BE20-BF20 -> 12 | BJ20: =BD20-BG20-BH20 -> 176.5
... A25: 17 | B25: 1042130FB | C25: Rosa Baake | D25: Fibonacci Square | E25: B | F25: Spreng (PPSV), RV. | H25: 164.5 | I25: 0 | J25: =H25+I25 -> 164.5 | K25: 5.5 | L25: 6 | M25: 17 | N25: 17 | R25: =P25+Q25 -> 0 | Z25: =X25+Y25 -> 0 | BC25: =N25+V25+AD25+AL25+AT25+BB25 -> 17 | BD25: =J25+R25+Z25+AH25+AP25+AX25 -> 164.5 | BI25: =BC25-BE25-BF25 -> 17 | BJ25: =BD25-BG25-BH25 -> 164.5
I26: 0 | J26: =H26+I26 -> 0 | Q26: 0 | R26: =P26+Q26 -> 0 | Y26: 0 | Z26: =X26+Y26 -> 0 | BD26: =J26+R26+Z26+AH26+AP26+AX26 -> 0 | BG26: 191.5 | BH26: 0 | BJ26: =BD26-BG26-BH26 -> -191.5
I27: 0 | J27: =H27+I27 -> 0 | Q27: 0 | R27: =P27+Q27 -> 0 | Y27: 0 | Z27: =X27+Y27 -> 0 | BD27: =J27+R27+Z27+AH27+AP27+AX27 -> 0 | BG27: 193.5 | BH27: 0 | BJ27: =BD27-BG27-BH27 -> -193.5
I28: 0 | J28: =H28+I28 -> 0 | Q28: 0 | R28: =P28+Q28 -> 0 | Y28: 0 | Z28: =X28+Y28 -> 0 | BD28: =J28+R28+Z28+AH28+AP28+AX28 -> 0 | BG28: 190.5 | BH28: 0 | BJ28: =BD28-BG28-BH28 -> -190.5
I29: 0 | J29: =H29+I29 -> 0 | Q29: 0 | R29: =P29+Q29 -> 0 | Y29: 0 | Z29: =X29+Y29 -> 0 | BD29: =J29+R29+Z29+AH29+AP29+AX29 -> 0 | BG29: 179 | BH29: 0 | BJ29: =BD29-BG29-BH29 -> -179
I30: 0 | J30: =H30+I30 -> 0 | Q30: 0 | R30: =P30+Q30 -> 0 | Y30: 0 | Z30: =X30+Y30 -> 0 | BD30: =J30+R30+Z30+AH30+AP30+AX30 -> 0 | BG30: 170 | BH30: 0 | BJ30: =BD30-BG30-BH30 -> -170
I31: 0 | J31: =H31+I31 -> 0 | Q31: 0 | R31: =P31+Q31 -> 0 | Y31: 0 | Z31: =X31+Y31 -> 0 | BD31: =J31+R31+Z31+AH31+AP31+AX31 -> 0 | BG31: 0 | BH31: 0 | BJ31: =BD31-BG31-BH31 -> 0
I32: 0 | J32: =H32+I32 -> 0 | Q32: 0 | R32: =P32+Q32 -> 0 | Y32: 0 | Z32: =X32+Y32 -> 0 | BD32: =J32+R32+Z32+AH32+AP32+AX32 -> 0 | BG32: 0 | BH32: 0 | BJ32: =BD32-BG32-BH32 -> 0
I33: 0 | J33: =H33+I33 -> 0 | Q33: 0 | R33: =P33+Q33 -> 0 | Y33: 0 | Z33: =X33+Y33 -> 0 | BD33: =J33+R33+Z33+AH33+AP33+AX33 -> 0 | BG33: 0 | BH33: 0 | BJ33: =BD33-BG33-BH33 -> 0
I34: 0 | J34: =H34+I34 -> 0 | Q34: 0 | R34: =P34+Q34 -> 0 | Z34: =X34+Y34 -> 0 | BD34: =J34+R34+Z34+AH34+AP34+AX34 -> 0 | BG34: 0 | BH34: 0 | BJ34: =BD34-BG34-BH34 -> 0
I35: 0 | J35: =H35+I35 -> 0 | Q35: 0 | R35: =P35+Q35 -> 0 | Z35: =X35+Y35 -> 0 | BD35: =J35+R35+Z35+AH35+AP35+AX35 -> 0 | BG35: 0 | BH35: 0 | BJ35: =BD35-BG35-BH35 -> 0
J36: =H36+I36 -> 0 | Q36: 0 | R36: =P36+Q36 -> 0 | Y36: 0 | Z36: =X36+Y36 -> 0 | BD36: =J36+R36+Z36+AH36+AP36+AX36 -> 0 | BG36: 0 | BH36: 0 | BJ36: =BD36-BG36-BH36 -> 0
J37: =H37+I37 -> 0 | R37: =P37+Q37 -> 0 | Y37: 0 | Z37: =X37+Y37 -> 0 | BD37: =J37+R37+Z37+AH37+AP37+AX37 -> 0 | BG37: 0 | BH37: 0 | BJ37: =BD37-BG37-BH37 -> 0
J38: =H38+I38 -> 0 | Q38: 0 | R38: =P38+Q38 -> 0 | Z38: =X38+Y38 -> 0 | BD38: =J38+R38+Z38+AH38+AP38+AX38 -> 0 | BG38: 0 | BH38: 0 | BJ38: =BD38-BG38-BH38 -> 0
J39: =H39+I39 -> 0 | R39: =P39+Q39 -> 0 | Y39: 0 | Z39: =X39+Y39 -> 0 | BD39: =J39+R39+Z39+AH39+AP39+AX39 -> 0 | BG39: 0 | BH39: 0 | BJ39: =BD39-BG39-BH39 -> 0
J40: =H40+I40 -> 0 | R40: =P40+Q40 -> 0 | Z40: =X40+Y40 -> 0 | BD40: =J40+R40+Z40+AH40+AP40+AX40 -> 0 | BG40: 0 | BH40: 0 | BJ40: =BD40-BG40-BH40 -> 0
J41: =H41+I41 -> 0 | R41: =P41+Q41 -> 0 | Y41: 0 | Z41: =X41+Y41 -> 0 | BD41: =J41+R41+Z41+AH41+AP41+AX41 -> 0 | BG41: 0 | BH41: 0 | BJ41: =BD41-BG41-BH41 -> 0
J42: =H42+I42 -> 0 | Q42: 0 | R42: =P42+Q42 -> 0 | Z42: =X42+Y42 -> 0 | BD42: =J42+R42+Z42+AH42+AP42+AX42 -> 0 | BG42: 0 | BH42: 0 | BJ42: =BD42-BG42-BH42 -> 0
J43: =H43+I43 -> 0 | Q43: 0 | R43: =P43+Q43 -> 0 | Z43: =X43+Y43 -> 0 | BD43: =J43+R43+Z43+AH43+AP43+AX43 -> 0 | BG43: 0 | BH43: 0 | BJ43: =BD43-BG43-BH43 -> 0

Sheet L1
A1: Selectie uitslagen
C2: 1 | D2: =FLOOR((C2+3)/4,1) -> 1 | H2: 192 | I2: 190 | J2: =H2+I2 -> 382 | N2: 1 | P2: 193 | Q2: 193 | R2: =P2+Q2 -> 386 | V2: 2 | X2: 198 | Y2: 198 | Z2: =X2+Y2 -> 396 | AD2: 3 | AF2: 177 | AG2: 177 | AH2: =AF2+AG2 -> 354 | AL2: 4 | AN2: 178 | AO2: 178 | AP2: =AN2+AO2 -> 356 | AT2: 5 | AV2: 179 | AW2: 179 | AX2: =AV2+AW2 -> 358 | BB2: 6 | BC2: =N2+V2+AD2+AL2+AT2+BB2 -> 21 | BD2: =J2+R2+Z2+AH2+AP2+AX2 -> 2232 | BE2: =IF($O$4>0,(LARGE(($N2,$V2,$AD2,$AL2,$AT2,$BB2),1)),"0") -> 6 | BF2: =IF($O$4>0,(LARGE(($N2,$V2,$AD2,$AL2,$AT2,$BB2),2)),"0") -> 5 | BG2: 354 | BH2: 354 | BI2: =BC2-BE2-BF2 -> 10 | BJ2: =BD2-BG2-BH2 -> 1524
A3: Kring: | C3: =Instellingen!B3 -> Kring Berkel IJssel | F3: Aantal afvaardiging Regio: | O3: 4 | BC3: Aantal wedstrijden: | BL3: =Instellingen!B6 -> 3
A4: Klasse: | C4: L1 | F4: Aantal afval resultaten: | O4: =Instellingen!B7 -> 1
A5: Cat.: | F5: Plaatsingspunten niet gestart: | O5: =Instellingen!B5 -> 99 | BC5: Aantal reserves: | BL5: 2
F6: Lokatie: | G6: =Instellingen!B36 -> Brummen | O6: =Instellingen!B37 -> Brummen | W6: =Instellingen!B38 -> Gorssel | AE6: =Instellingen!B39 -> 0 | AM6: =Instellingen!B40 -> 0 | AU6: =Instellingen!B41 -> 0 | BC6: Dressuur | BI6: Pnt. 60% regel | BL6: 180
F7: Datum: | G7: =Instellingen!C36 -> 10-11 okt | O7: =Instellingen!C37 -> 6-8 nov | W7: =Instellingen!C38 -> 4-6 dec | AE7: =Instellingen!C39 | AM7: =Instellingen!C40 | AU7: =Instellingen!C41 | BC7: Tot. | BD7: Tot. | BE7: afval | BF7: afval | BG7: afval | BH7: afval | BI7: Beste | BJ7: Beste
A8: Pl. | B8: Comb.nr. | C8: Ruiter/amazone | D8: Paard/pony | E8: kl. | F8: vereniging | G8: Ring | H8: pnt.C | I8: pnt.H | J8: pnt.tot | K8: ex 1 | L8: ex 2 | M8: pl. | N8: pl.p. | O8: Ring | P8: pnt.C | Q8: pnt.H | R8: pnt.tot. | S8: ex 1 | T8: ex 2 | U8: pl. | V8: pl.p. | W8: Ring | X8: pnt.C | Y8: pnt. H | Z8: pnt.tot. | AA8: ex 1 | AB8: ex 2 | AC8: pl. | AD8: pl.p. | AE8: Ring | AF8: pnt.C | AG8: pnt.H | AH8: pnt.tot. | AI8: ex 1 | AJ8: ex 2 | AK8: pl. | AL8: pl.p. | AM8: Ring | AN8: pnt.C | AO8: pnt.H | AP8: pnt.tot. | AQ8: ex 1 | AR8: ex 2 | AS8: pl. | AT8: pl.p. | AU8: Ring | AV8: pnt.C | AW8: pnt.H | AX8: pnt.tot. | AY8: ex 1 | AZ8: ex 2 | BA8: pl. | BB8: pl.p. | BC8: pl.pnt | BD8: punten | BE8: pl.pnt | BF8: pl.pnt | BG8: punten | BH8: punten | BI8: pl.pnt | BJ8: punten | BK8: Afv. | BL8: Res. | BM8: Afv. Regio | BN8: opmerking
A9: 1 | B9: 1056667SM | C9: Stephanie Man in 't veld | D9: Something Special | E9: L1 | F9: IJsselruiters, RV. | H9: 204 | I9: 0 | J9: =H9+I9 -> 204 | K9: 7 | L9: 7 | M9: 1 | N9: 1 | R9: =P9+Q9 -> 0 | Z9: =X9+Y9 -> 0 | BC9: =N9+V9+AD9+AL9+AT9+BB9 -> 1 | BD9: =J9+R9+Z9+AH9+AP9+AX9 -> 204 | BI9: =BC9-BE9-BF9 -> 1 | BJ9: =BD9-BG9-BH9 -> 204
A10: 2 | B10: 1048508KH | C10: Anouk Hammink | D10: Kallisto DJ | E10: L1 | F10: Loenermarkruiters, RV. | H10: 201 | I10: 0 | J10: =H10+I10 -> 201 | K10: 6.5 | L10: 6.5 | M10: 2 | N10: 2 | R10: =P10+Q10 -> 0 | Z10: =X10+Y10 -> 0 | BC10: =N10+V10+AD10+AL10+AT10+BB10 -> 2 | BD10: =J10+R10+Z10+AH10+AP10+AX10 -> 201 | BI10: =BC10-BE10-BF10 -> 2 | BJ10: =BD10-BG10-BH10 -> 201
A11: 3 | B11: 1037611JD | C11: Kristel Djie | D11: Just My Way | E11: L1 | F11: IJsselruiters, RV. | H11: 199.5 | I11: 0 | J11: =H11+I11 -> 199.5 | K11: 6.5 | L11: 6.5 | M11: 3 | N11: 3 | Q11: 0 | R11: =P11+Q11 -> 0 | Y11: 0 | Z11: =X11+Y11 -> 0 | BC11: =N11+V11+AD11+AL11+AT11+BB11 -> 3 | BD11: =J11+R11+Z11+AH11+AP11+AX11 -> 199.5 | BG11: 0 | BH11: 0 | BI11: =BC11-BE11-BF11 -> 3 | BJ11: =BD11-BG11-BH11 -> 199.5
A12: 4 | B12: 1053814PK | C12: Mascha Klomp | D12: Paco | E12: L1 | F12: Oortveldruiters, RV. | H12: 197.5 | I12: 0 | J12: =H12+I12 -> 197.5 | K12: 6 | L12: 6.5 | M12: 4 | N12: 4 | R12: =P12+Q12 -> 0 | Z12: =X12+Y12 -> 0 | BC12: =N12+V12+AD12+AL12+AT12+BB12 -> 4 | BD12: =J12+R12+Z12+AH12+AP12+AX12 -> 197.5 | BI12: =BC12-BE12-BF12 -> 4 | BJ12: =BD12-BG12-BH12 -> 197.5
A13: 5 | B13: 1029440NS | C13: Tess van Seuren | D13: Noury B | E13: L1 | F13: Veluwezoom (HSV.), RV. de | H13: 193 | I13: 0 | J13: =H13+I13 -> 193 | K13: 6.5 | L13: 6.5 | M13: 5 | N13: 5 | R13: =P13+Q13 -> 0 | Z13: =X13+Y13 -> 0 | BC13: =N13+V13+AD13+AL13+AT13+BB13 -> 5 | BD13: =J13+R13+Z13+AH13+AP13+AX13 -> 193 | BI13: =BC13-BE13-BF13 -> 5 | BJ13: =BD13-BG13-BH13 -> 193
A14: 6 | B14: 963285MH | C14: Seline Hessels | D14: Mona Lisa | E14: L1 | F14: IJsselruiters, RV. | H14: 193 | I14: 0 | J14: =H14+I14 -> 193 | K14: 6 | L14: 6 | M14: 6 | N14: 6 | R14: =P14+Q14 -> 0 | Z14: =X14+Y14 -> 0 | BC14: =N14+V14+AD14+AL14+AT14+BB14 -> 6 | BD14: =J14+R14+Z14+AH14+AP14+AX14 -> 193 | BI14: =BC14-BE14-BF14 -> 6 | BJ14: =BD14-BG14-BH14 -> 193
A15: 7 | B15: 1057533DD | C15: Merle van Dijk | D15: Dony SWD | E15: L1 | F15: IJsselruiters, RV. | H15: 192.5 | I15: 0 | J15: =H15+I15 -> 192.5 | K15: 6 | L15: 6.5 | M15: 7 | N15: 7 | R15: =P15+Q15 -> 0 | Z15: =X15+Y15 -> 0 | BC15: =N15+V15+AD15+AL15+AT15+BB15 -> 7 | BD15: =J15+R15+Z15+AH15+AP15+AX15 -> 192.5 | BI15: =BC15-BE15-BF15 -> 7 | BJ15: =BD15-BG15-BH15 -> 192.5
A16: 8 | B16: 1026565GM | C16: Sophie Mennes | D16: Gaesbekers Idefix | E16: L1 | F16: Gorssel-Zutphen, RV. | H16: 186 | I16: 0 | J16: =H16+I16 -> 186 | K16: 6 | L16: 6 | M16: 8 | N16: 8 | R16: =P16+Q16 -> 0 | Z16: =X16+Y16 -> 0 | BC16: =N16+V16+AD16+AL16+AT16+BB16 -> 8 | BD16: =J16+R16+Z16+AH16+AP16+AX16 -> 186 | BI16: =BC16-BE16-BF16 -> 8 | BJ16: =BD16-BG16-BH16 -> 186
A17: 9 | B17: 1069127WH | C17: Zoë Hesse | D17: Wally's Logaritme | E17: L1 | F17: Spreng (PPSV), RV. | H17: 186 | I17: 0 | J17: =H17+I17 -> 186 | K17: 6 | L17: 6 | M17: 8 | N17: 8 | R17: =P17+Q17 -> 0 | Z17: =X17+Y17 -> 0 | BC17: =N17+V17+AD17+AL17+AT17+BB17 -> 8 | BD17: =J17+R17+Z17+AH17+AP17+AX17 -> 186 | BI17: =BC17-BE17-BF17 -> 8 | BJ17: =BD17-BG17-BH17 -> 186
A18: 10 | B18: 1069210RJ | C18: Lisanne Jonkers | D18: Rinolle LD | E18: L1 | F18: IJsselruiters, RV. | H18: 184.5 | I18: 0 | J18: =H18+I18 -> 184.5 | K18: 6 | L18: 6 | M18: 10 | N18: 10 | R18: =P18+Q18 -> 0 | Z18: =X18+Y18 -> 0 | BC18: =N18+V18+AD18+AL18+AT18+BB18 -> 10 | BD18: =J18+R18+Z18+AH18+AP18+AX18 -> 184.5 | BI18: =BC18-BE18-BF18 -> 10 | BJ18: =BD18-BG18-BH18 -> 184.5
A19: 11 | B19: 1004276GK | C19: Lisa Kunze | D19: Giovanni Picasso | E19: L1 | F19: Graafschap, RV. | H19: 171 | I19: 0 | J19: =H19+I19 -> 171 | K19: 5.5 | L19: 6 | M19: 11 | N19: 11 | R19: =P19+Q19 -> 0 | Z19: =X19+Y19 -> 0 | BC19: =N19+V19+AD19+AL19+AT19+BB19 -> 11 | BD19: =J19+R19+Z19+AH19+AP19+AX19 -> 171 | BI19: =BC19-BE19-BF19 -> 11 | BJ19: =BD19-BG19-BH19 -> 171
I20: 0 | J20: =H20+I20 -> 0 | Q20: 0 | R20: =P20+Q20 -> 0 | Y20: 0 | Z20: =X20+Y20 -> 0 | BD20: =J20+R20+Z20+AH20+AP20+AX20 -> 0 | BG20: 194.5 | BH20: 0 | BJ20: =BD20-BG20-BH20 -> -194.5
I21: 0 | J21: =H21+I21 -> 0 | Q21: 0 | R21: =P21+Q21 -> 0 | Y21: 0 | Z21: =X21+Y21 -> 0 | BD21: =J21+R21+Z21+AH21+AP21+AX21 -> 0 | BG21: 176.5 | BH21: 0 | BJ21: =BD21-BG21-BH21 -> -176.5
I22: 0 | J22: =H22+I22 -> 0 | Q22: 0 | R22: =P22+Q22 -> 0 | Y22: 0 | Z22: =X22+Y22 -> 0 | BD22: =J22+R22+Z22+AH22+AP22+AX22 -> 0 | BG22: 193.5 | BH22: 0 | BJ22: =BD22-BG22-BH22 -> -193.5
I23: 0 | J23: =H23+I23 -> 0 | Q23: 0 | R23: =P23+Q23 -> 0 | Y23: 0 | Z23: =X23+Y23 -> 0 | BD23: =J23+R23+Z23+AH23+AP23+AX23 -> 0 | BG23: 184.5 | BH23: 0 | BJ23: =BD23-BG23-BH23 -> -184.5
I24: 0 | J24: =H24+I24 -> 0 | Q24: 0 | R24: =P24+Q24 -> 0 | Y24: 0 | Z24: =X24+Y24 -> 0 | BD24: =J24+R24+Z24+AH24+AP24+AX24 -> 0 | BG24: 182.5 | BH24: 0 | BJ24: =BD24-BG24-BH24 -> -182.5
I25: 0 | J25: =H25+I25 -> 0 | Q25: 0 | R25: =P25+Q25 -> 0 | Y25: 0 | Z25: =X25+Y25 -> 0 | BD25: =J25+R25+Z25+AH25+AP25+AX25 -> 0 | BG25: 190 | BH25: 0 | BJ25: =BD25-BG25-BH25 -> -190
I26: 0 | J26: =H26+I26 -> 0 | Q26: 0 | R26: =P26+Q26 -> 0 | Y26: 0 | Z26: =X26+Y26 -> 0 | BD26: =J26+R26+Z26+AH26+AP26+AX26 -> 0 | BG26: 189.5 | BH26: 0 | BJ26: =BD26-BG26-BH26 -> -189.5
I27: 0 | J27: =H27+I27 -> 0 | Q27: 0 | R27: =P27+Q27 -> 0 | Y27: 0 | Z27: =X27+Y27 -> 0 | BD27: =J27+R27+Z27+AH27+AP27+AX27 -> 0 | BG27: 182.5 | BH27: 0 | BJ27: =BD27-BG27-BH27 -> -182.5
I28: 0 | J28: =H28+I28 -> 0 | Q28: 0 | R28: =P28+Q28 -> 0 | Y28: 0 | Z28: =X28+Y28 -> 0 | BD28: =J28+R28+Z28+AH28+AP28+AX28 -> 0 | BG28: 0 | BH28: 0 | BJ28: =BD28-BG28-BH28 -> 0
I29: 0 | J29: =H29+I29 -> 0 | Q29: 0 | R29: =P29+Q29 -> 0 | Y29: 0 | Z29: =X29+Y29 -> 0 | BD29: =J29+R29+Z29+AH29+AP29+AX29 -> 0 | BG29: 0 | BH29: 0 | BJ29: =BD29-BG29-BH29 -> 0
I30: 0 | J30: =H30+I30 -> 0 | Q30: 0 | R30: =P30+Q30 -> 0 | Y30: 0 | Z30: =X30+Y30 -> 0 | BD30: =J30+R30+Z30+AH30+AP30+AX30 -> 0 | BG30: 0 | BH30: 0 | BJ30: =BD30-BG30-BH30 -> 0
I31: 0 | J31: =H31+I31 -> 0 | Q31: 0 | R31: =P31+Q31 -> 0 | Y31: 0 | Z31: =X31+Y31 -> 0 | BD31: =J31+R31+Z31+AH31+AP31+AX31 -> 0 | BG31: 0 | BH31: 0 | BJ31: =BD31-BG31-BH31 -> 0
I32: 0 | J32: =H32+I32 -> 0 | Q32: 0 | R32: =P32+Q32 -> 0 | Y32: 0 | Z32: =X32+Y32 -> 0 | BD32: =J32+R32+Z32+AH32+AP32+AX32 -> 0 | BG32: 0 | BH32: 0 | BJ32: =BD32-BG32-BH32 -> 0
I33: 0 | J33: =H33+I33 -> 0 | Q33: 0 | R33: =P33+Q33 -> 0 | Z33: =X33+Y33 -> 0 | BD33: =J33+R33+Z33+AH33+AP33+AX33 -> 0 | BG33: 0 | BH33: 0 | BJ33: =BD33-BG33-BH33 -> 0
I34: 0 | J34: =H34+I34 -> 0 | Q34: 0 | R34: =P34+Q34 -> 0 | Y34: 0 | Z34: =X34+Y34 -> 0 | BD34: =J34+R34+Z34+AH34+AP34+AX34 -> 0 | BG34: 0 | BH34: 0 | BJ34: =BD34-BG34-BH34 -> 0
I35: 0 | J35: =H35+I35 -> 0 | Q35: 0 | R35: =P35+Q35 -> 0 | Y35: 0 | Z35: =X35+Y35 -> 0 | BD35: =J35+R35+Z35+AH35+AP35+AX35 -> 0 | BG35: 0 | BH35: 0 | BJ35: =BD35-BG35-BH35 -> 0
I36: 0 | J36: =H36+I36 -> 0 | Q36: 0 | R36: =P36+Q36 -> 0 | Z36: =X36+Y36 -> 0 | BD36: =J36+R36+Z36+AH36+AP36+AX36 -> 0 | BG36: 0 | BH36: 0 | BJ36: =BD36-BG36-BH36 -> 0
J37: =H37+I37 -> 0 | Q37: 0 | R37: =P37+Q37 -> 0 | Y37: 0 | Z37: =X37+Y37 -> 0 | BD37: =J37+R37+Z37+AH37+AP37+AX37 -> 0 | BG37: 0 | BH37: 0 | BJ37: =BD37-BG37-BH37 -> 0
J38: =H38+I38 -> 0 | Q38: 0 | R38: =P38+Q38 -> 0 | Y38: 0 | Z38: =X38+Y38 -> 0 | BD38: =J38+R38+Z38+AH38+AP38+AX38 -> 0 | BG38: 0 | BH38: 0 | BJ38: =BD38-BG38-BH38 -> 0
J39: =H39+I39 -> 0 | Q39: 0 | R39: =P39+Q39 -> 0 | Y39: 0 | Z39: =X39+Y39 -> 0 | BD39: =J39+R39+Z39+AH39+AP39+AX39 -> 0 | BG39: 0 | BH39: 0 | BJ39: =BD39-BG39-BH39 -> 0
J40: =H40+I40 -> 0 | R40: =P40+Q40 -> 0 | Y40: 0 | Z40: =X40+Y40 -> 0 | BD40: =J40+R40+Z40+AH40+AP40+AX40 -> 0 | BG40: 0 | BH40: 0 | BJ40: =BD40-BG40-BH40 -> 0
...

Sheet L2
A1: Selectie uitslagen
C2: 1 | D2: =FLOOR((C2+3)/4,1) -> 1 | H2: 192 | I2: 190 | J2: =H2+I2 -> 382 | N2: 1 | P2: 193 | Q2: 193 | R2: =P2+Q2 -> 386 | V2: 2 | X2: 198 | Y2: 198 | Z2: =X2+Y2 -> 396 | AD2: 3 | AF2: 177 | AG2: 177 | AH2: =AF2+AG2 -> 354 | AL2: 4 | AN2: 178 | AO2: 178 | AP2: =AN2+AO2 -> 356 | AT2: 5 | AV2: 179 | AW2: 179 | AX2: =AV2+AW2 -> 358 | BB2: 6 | BC2: =N2+V2+AD2+AL2+AT2+BB2 -> 21 | BD2: =J2+R2+Z2+AH2+AP2+AX2 -> 2232 | BE2: =IF($O$4>0,(LARGE(($N2,$V2,$AD2,$AL2,$AT2,$BB2),1)),"0") -> 6 | BF2: =IF($O$4>0,(LARGE(($N2,$V2,$AD2,$AL2,$AT2,$BB2),2)),"0") -> 5 | BG2: 354 | BH2: 354 | BI2: =BC2-BE2-BF2 -> 10 | BJ2: =BD2-BG2-BH2 -> 1524
A3: Kring: | C3: =Instellingen!B3 -> Kring Berkel IJssel | F3: Aantal afvaardiging Regio: | BC3: Aantal wedstrijden: | BL3: =Instellingen!B6 -> 3
A4: Klasse: | C4: L2 | F4: Aantal afval resultaten: | O4: =Instellingen!B7 -> 1
A5: Cat.: | F5: Plaatsingspunten niet gestart: | O5: =Instellingen!B5 -> 99 | BC5: Aantal reserves: | BL5: 2
F6: Lokatie: | G6: =Instellingen!B36 -> Brummen | O6: =Instellingen!B37 -> Brummen | W6: =Instellingen!B38 -> Gorssel | AE6: =Instellingen!B39 -> 0 | AM6: =Instellingen!B40 -> 0 | AU6: =Instellingen!B41 -> 0 | BC6: Dressuur | BI6: Pnt. 60% regel | BL6: 180
F7: Datum: | G7: =Instellingen!C36 -> 10-11 okt | O7: =Instellingen!C37 -> 6-8 nov | W7: =Instellingen!C38 -> 4-6 dec | AE7: =Instellingen!C39 | AM7: =Instellingen!C40 | AU7: =Instellingen!C41 | BC7: Tot. | BD7: Tot. | BE7: afval | BF7: afval | BG7: afval | BH7: afval | BI7: Beste | BJ7: Beste
A8: Pl. | B8: Comb.nr. | C8: Ruiter/amazone | D8: Paard/pony | E8: kl. | F8: vereniging | G8: Ring | H8: pnt.C | I8: pnt.H | J8: pnt.tot | K8: ex 1 | L8: ex 2 | M8: pl. | N8: pl.p. | O8: Ring | P8: pnt.C | Q8: pnt.H | R8: pnt.tot. | S8: ex 1 | T8: ex 2 | U8: pl. | V8: pl.p. | W8: Ring | X8: pnt.C | Y8: pnt. H | Z8: pnt.tot. | AA8: ex 1 | AB8: ex 2 | AC8: pl. | AD8: pl.p. | AE8: Ring | AF8: pnt.C | AG8: pnt.H | AH8: pnt.tot. | AI8: ex 1 | AJ8: ex 2 | AK8: pl. | AL8: pl.p. | AM8: Ring | AN8: pnt.C | AO8: pnt.H | AP8: pnt.tot. | AQ8: ex 1 | AR8: ex 2 | AS8: pl. | AT8: pl.p. | AU8: Ring | AV8: pnt.C | AW8: pnt.H | AX8: pnt.tot. | AY8: ex 1 | AZ8: ex 2 | BA8: pl. | BB8: pl.p. | BC8: pl.pnt | BD8: punten | BE8: pl.pnt | BF8: pl.pnt | BG8: punten | BH8: punten | BI8: pl.pnt | BJ8: punten | BK8: Afv. | BL8: Res. | BM8: Afv. Regio | BN8: opmerking
A9: 1 | B9: 1059673SW | C9: Sophie Welmers | D9: Succession Us | E9: L2 | F9: IJsselruiters, RV. | H9: 211.5 | I9: 0 | J9: =H9+I9 -> 211.5 | K9: 6.5 | L9: 7 | M9: 1 | N9: 1 | R9: =P9+Q9 -> 0 | Z9: =X9+Y9 -> 0 | BC9: =N9+V9+AD9+AL9+AT9+BB9 -> 1 | BD9: =J9+R9+Z9+AH9+AP9+AX9 -> 211.5 | BI9: =BC9-BE9-BF9 -> 1 | BJ9: =BD9-BG9-BH9 -> 211.5
A10: 2 | B10: 1069712PM | C10: Angela Breukink - Menger | D10: Pair of hearts SW | E10: L2 | F10: IJsselruiters, RV. | H10: 211 | I10: 0 | J10: =H10+I10 -> 211 | K10: 6.5 | L10: 7.5 | M10: 2 | N10: 2 | R10: =P10+Q10 -> 0 | Z10: =X10+Y10 -> 0 | BC10: =N10+V10+AD10+AL10+AT10+BB10 -> 2 | BD10: =J10+R10+Z10+AH10+AP10+AX10 -> 211 | BI10: =BC10-BE10-BF10 -> 2 | BJ10: =BD10-BG10-BH10 -> 211
A11: 3 | B11: 1047931PZ | C11: Maartje Zonderland | D11: Julavanck PP | E11: L2 | F11: Gorssel-Zutphen, RV. | H11: 204.5 | I11: 0 | J11: =H11+I11 -> 204.5 | K11: 6.5 | L11: 7.5 | M11: 3 | N11: 3 | R11: =P11+Q11 -> 0 | Z11: =X11+Y11 -> 0 | BC11: =N11+V11+AD11+AL11+AT11+BB11 -> 3 | BD11: =J11+R11+Z11+AH11+AP11+AX11 -> 204.5 | BI11: =BC11-BE11-BF11 -> 3 | BJ11: =BD11-BG11-BH11 -> 204.5
A12: 4 | B12: 1030958RH | C12: Iris Hengeveld | D12: Ready To Go | E12: L2 | F12: Bussloo, RV. PPSV | H12: 197 | I12: 0 | J12: =H12+I12 -> 197 | K12: 6 | L12: 7 | M12: 4 | N12: 4 | R12: =P12+Q12 -> 0 | Z12: =X12+Y12 -> 0 | BC12: =N12+V12+AD12+AL12+AT12+BB12 -> 4 | BD12: =J12+R12+Z12+AH12+AP12+AX12 -> 197 | BI12: =BC12-BE12-BF12 -> 4 | BJ12: =BD12-BG12-BH12 -> 197
A13: 5 | B13: 1057624RS | C13: Kyra Stern | D13: Rosette Van Groot Bentink | E13: L2 | F13: Semper Fidelis, RV. | H13: 194 | I13: 0 | J13: =H13+I13 -> 194 | K13: 6.5 | L13: 7 | M13: 5 | N13: 5 | R13: =P13+Q13 -> 0 | Z13: =X13+Y13 -> 0 | BC13: =N13+V13+AD13+AL13+AT13+BB13 -> 5 | BD13: =J13+R13+Z13+AH13+AP13+AX13 -> 194 | BI13: =BC13-BE13-BF13 -> 5 | BJ13: =BD13-BG13-BH13 -> 194
A14: 6 | B14: 1000388NB | C14: Danielle van Beek | D14: Novell | E14: L2 | F14: Bussloo, RV. PPSV | H14: 171 | I14: 0 | J14: =H14+I14 -> 171 | K14: 6 | L14: 5 | M14: 6 | N14: 6 | R14: =P14+Q14 -> 0 | Z14: =X14+Y14 -> 0 | BC14: =N14+V14+AD14+AL14+AT14+BB14 -> 6 | BD14: =J14+R14+Z14+AH14+AP14+AX14 -> 171 | BI14: =BC14-BE14-BF14 -> 6 | BJ14: =BD14-BG14-BH14 -> 171
A15: 7 | B15: 1065167SV | C15: Chantal Van den Vlekkert | D15: Sébas | E15: L2 | F15: Graafschap, RV. | H15: 0 | I15: 0 | J15: =H15+I15 -> 0 | M15: 7 | N15: 90 | R15: =P15+Q15 -> 0 | Z15: =X15+Y15 -> 0 | BC15: =N15+V15+AD15+AL15+AT15+BB15 -> 90 | BD15: =J15+R15+Z15+AH15+AP15+AX15 -> 0 | BI15: =BC15-BE15-BF15 -> 90 | BJ15: =BD15-BG15-BH15 -> 0
E16: L2 | I16: 0 | J16: =H16+I16 -> 0 | Q16: 0 | R16: =P16+Q16 -> 0 | Y16: 0 | Z16: =X16+Y16 -> 0 | BD16: =J16+R16+Z16+AH16+AP16+AX16 -> 0 | BG16: 184.5 | BH16: 0 | BJ16: =BD16-BG16-BH16 -> -184.5
E17: L2 | I17: 0 | J17: =H17+I17 -> 0 | Q17: 0 | R17: =P17+Q17 -> 0 | Y17: 0 | Z17: =X17+Y17 -> 0 | BD17: =J17+R17+Z17+AH17+AP17+AX17 -> 0 | BG17: 189 | BH17: 0 | BJ17: =BD17-BG17-BH17 -> -189
E18: L2 | I18: 0 | J18: =H18+I18 -> 0 | Q18: 0 | R18: =P18+Q18 -> 0 | Y18: 0 | Z18: =X18+Y18 -> 0 | BD18: =J18+R18+Z18+AH18+AP18+AX18 -> 0 | BG18: 188.5 | BH18: 0 | BJ18: =BD18-BG18-BH18 -> -188.5
E19: L2 | I19: 0 | J19: =H19+I19 -> 0 | Q19: 0 | R19: =P19+Q19 -> 0 | Y19: 0 | Z19: =X19+Y19 -> 0 | BD19: =J19+R19+Z19+AH19+AP19+AX19 -> 0 | BG19: 179.5 | BH19: 0 | BJ19: =BD19-BG19-BH19 -> -179.5
E20: L2 | I20: 0 | J20: =H20+I20 -> 0 | Q20: 0 | R20: =P20+Q20 -> 0 | Y20: 0 | Z20: =X20+Y20 -> 0 | BD20: =J20+R20+Z20+AH20+AP20+AX20 -> 0 | BG20: 180.5 | BH20: 0 | BJ20: =BD20-BG20-BH20 -> -180.5
E21: L2 | I21: 0 | J21: =H21+I21 -> 0 | Q21: 0 | R21: =P21+Q21 -> 0 | Y21: 0 | Z21: =X21+Y21 -> 0 | BD21: =J21+R21+Z21+AH21+AP21+AX21 -> 0 | BG21: 0 | BH21: 0 | BJ21: =BD21-BG21-BH21 -> 0
E22: L2 | I22: 0 | J22: =H22+I22 -> 0 | Q22: 0 | R22: =P22+Q22 -> 0 | Z22: =X22+Y22 -> 0 | BD22: =J22+R22+Z22+AH22+AP22+AX22 -> 0 | BG22: 0 | BH22: 0 | BJ22: =BD22-BG22-BH22 -> 0
E23: L2 | I23: 0 | J23: =H23+I23 -> 0 | Q23: 0 | R23: =P23+Q23 -> 0 | Y23: 0 | Z23: =X23+Y23 -> 0 | BD23: =J23+R23+Z23+AH23+AP23+AX23 -> 0 | BG23: 0 | BH23: 0 | BJ23: =BD23-BG23-BH23 -> 0
E24: L2 | I24: 0 | J24: =H24+I24 -> 0 | Q24: 0 | R24: =P24+Q24 -> 0 | Y24: 0 | Z24: =X24+Y24 -> 0 | BD24: =J24+R24+Z24+AH24+AP24+AX24 -> 0 | BG24: 166.5 | BH24: 0 | BJ24: =BD24-BG24-BH24 -> -166.5
E25: L2 | I25: 0 | J25: =H25+I25 -> 0 | Q25: 0 | R25: =P25+Q25 -> 0 | Y25: 0 | Z25: =X25+Y25 -> 0 | BD25: =J25+R25+Z25+AH25+AP25+AX25 -> 0 | BG25: 0 | BH25: 0 | BJ25: =BD25-BG25-BH25 -> 0
E26: L2 | I26: 0 | J26: =H26+I26 -> 0 | Q26: 0 | R26: =P26+Q26 -> 0 | Z26: =X26+Y26 -> 0 | BD26: =J26+R26+Z26+AH26+AP26+AX26 -> 0 | BG26: 0 | BH26: 0 | BJ26: =BD26-BG26-BH26 -> 0
E27: L2 | J27: =H27+I27 -> 0 | Q27: 0 | R27: =P27+Q27 -> 0 | Z27: =X27+Y27 -> 0 | BD27: =J27+R27+Z27+AH27+AP27+AX27 -> 0 | BG27: 0 | BH27: 0 | BJ27: =BD27-BG27-BH27 -> 0
E28: L2 | J28: =H28+I28 -> 0 | R28: =P28+Q28 -> 0 | Y28: 0 | Z28: =X28+Y28 -> 0 | BD28: =J28+R28+Z28+AH28+AP28+AX28 -> 0 | BG28: 0 | BH28: 0 | BJ28: =BD28-BG28-BH28 -> 0
E29: L2 | J29: =H29+I29 -> 0 | Q29: 0 | R29: =P29+Q29 -> 0 | Z29: =X29+Y29 -> 0 | BD29: =J29+R29+Z29+AH29+AP29+AX29 -> 0 | BG29: 0 | BH29: 0 | BJ29: =BD29-BG29-BH29 -> 0
E30: L2 | J30: =H30+I30 -> 0 | R30: =P30+Q30 -> 0 | Y30: 0 | Z30: =X30+Y30 -> 0 | BD30: =J30+R30+Z30+AH30+AP30+AX30 -> 0 | BG30: 0 | BH30: 0 | BJ30: =BD30-BG30-BH30 -> 0

Sheet L1 - L2
A1: Selectie uitslagen
C2: 1 | D2: =FLOOR((C2+3)/4,1) -> 1 | G2: 192 | H2: 192 | I2: 190 | J2: =H2+I2 -> 382 | N2: 1 | O2: 193 | P2: 193 | Q2: 193 | R2: =P2+Q2 -> 386 | V2: 2 | W2: 198 | X2: 198 | Y2: 198 | Z2: =X2+Y2 -> 396 | AD2: 3 | AE2: 177 | AF2: 177 | AG2: 177 | AH2: =AF2+AG2 -> 354 | AL2: 4 | AM2: 178 | AN2: 178 | AO2: 178 | AP2: =AN2+AO2 -> 356 | AT2: 5 | AU2: 179 | AV2: 179 | AW2: 179 | AX2: =AV2+AW2 -> 358 | BB2: 6 | BC2: =N2+V2+AD2+AL2+AT2+BB2 -> 21 | BD2: =J2+R2+Z2+AH2+AP2+AX2 -> 2232 | BE2: =IF($O$4>0,(LARGE(($N2,$V2,$AD2,$AL2,$AT2,$BB2),1)),"0") -> 6 | BF2: =IF($O$4>0,(LARGE(($N2,$V2,$AD2,$AL2,$AT2,$BB2),2)),"0") -> 5 | BG2: 354 | BH2: 354 | BI2: =BC2-BE2-BF2 -> 10 | BJ2: =BD2-BG2-BH2 -> 1524
A3: Kring: | C3: =Instellingen!B3 -> Kring Berkel IJssel | BC3: Aantal wedstrijden: | BL3: =Instellingen!B6 -> 3
A4: Klasse: | C4: L1 - L2 | F4: Aantal afval resultaten: | O4: =Instellingen!B7 -> 1
A5: Cat.: | F5: Plaatsingspunten niet gestart: | O5: =Instellingen!B5 -> 99
F6: Lokatie: | G6: =Instellingen!B36 -> Brummen | O6: =Instellingen!B37 -> Brummen | W6: =Instellingen!B38 -> Gorssel | AE6: =Instellingen!B39 -> 0 | AM6: =Instellingen!B40 -> 0 | AU6: =Instellingen!B41 -> 0 | BC6: Dressuur
F7: Datum: | G7: =Instellingen!C36 -> 10-11 okt | O7: =Instellingen!C37 -> 6-8 nov | W7: =Instellingen!C38 -> 4-6 dec | AE7: =Instellingen!C39 | AM7: =Instellingen!C40 | AU7: =Instellingen!C41 | BC7: Tot. | BD7: Tot. | BE7: afval | BF7: afval | BG7: afval | BH7: afval | BI7: Beste | BJ7: Beste
A8: Pl. | B8: Comb.nr. | C8: Ruiter/amazone | D8: Paard/pony | E8: kl. | F8: vereniging | G8: Ring | H8: pnt.C | I8: pnt.H | J8: pnt.tot | K8: ex 1 | L8: ex 2 | M8: pl. | N8: pl.p. | O8: Ring | P8: pnt.C | Q8: pnt.H | R8: pnt.tot. | S8: ex 1 | T8: ex 2 | U8: pl. | V8: pl.p. | W8: Ring | X8: pnt.C | Y8: pnt. H | Z8: pnt.tot. | AA8: ex 1 | AB8: ex 2 | AC8: pl. | AD8: pl.p. | AE8: Ring | AF8: pnt.C | AG8: pnt.H | AH8: pnt.tot. | AI8: ex 1 | AJ8: ex 2 | AK8: pl. | AL8: pl.p. | AM8: Ring | AN8: pnt.C | AO8: pnt.H | AP8: pnt.tot. | AQ8: ex 1 | AR8: ex 2 | AS8: pl. | AT8: pl.p. | AU8: Ring | AV8: pnt.C | AW8: pnt.H | AX8: pnt.tot. | AY8: ex 1 | AZ8: ex 2 | BA8: pl. | BB8: pl.p. | BC8: pl.pnt | BD8: punten | BE8: pl.pnt | BF8: pl.pnt | BG8: punten | BH8: punten | BI8: pl.pnt | BJ8: punten | BK8: Afv. | BL8: Res. | BN8: opmerking

Sheet M1
A1: Selectie uitslagen
C2: 1 | D2: =FLOOR((C2+3)/4,1) -> 1 | H2: 192 | I2: 190 | J2: =H2+I2 -> 382 | N2: 1 | P2: 193 | Q2: 193 | R2: =P2+Q2 -> 386 | V2: 2 | X2: 198 | Y2: 198 | Z2: =X2+Y2 -> 396 | AD2: 3 | AF2: 177 | AG2: 177 | AH2: =AF2+AG2 -> 354 | AL2: 4 | AN2: 178 | AO2: 178 | AP2: =AN2+AO2 -> 356 | AT2: 5 | AV2: 179 | AW2: 179 | AX2: =AV2+AW2 -> 358 | BB2: 6 | BC2: =N2+V2+AD2+AL2+AT2+BB2 -> 21 | BD2: =J2+R2+Z2+AH2+AP2+AX2 -> 2232 | BE2: =IF($O$4>0,(LARGE(($N2,$V2,$AD2,$AL2,$AT2,$BB2),1)),"0") -> 6 | BF2: =IF($O$4>0,(LARGE(($N2,$V2,$AD2,$AL2,$AT2,$BB2),2)),"0") -> 5 | BG2: 354 | BH2: 354 | BI2: =BC2-BE2-BF2 -> 10 | BJ2: =BD2-BG2-BH2 -> 1524
A3: Kring: | C3: =Instellingen!B3 -> Kring Berkel IJssel | F3: Aantal afvaardiging Regio: | BC3: Aantal wedstrijden: | BL3: =Instellingen!B6 -> 3
A4: Klasse: | C4: M1 | F4: Aantal afval resultaten: | O4: =Instellingen!B7 -> 1
A5: Cat.: | F5: Plaatsingspunten niet gestart: | O5: =Instellingen!B5 -> 99 | BC5: Aantal reserves: | BL5: 2
F6: Lokatie: | G6: =Instellingen!B36 -> Brummen | O6: =Instellingen!B37 -> Brummen | W6: =Instellingen!B38 -> Gorssel | AE6: =Instellingen!B39 -> 0 | AM6: =Instellingen!B40 -> 0 | AU6: =Instellingen!B41 -> 0 | BC6: Dressuur | BI6: Pnt. 60% regel | BL6: 180
F7: Datum: | G7: =Instellingen!C36 -> 10-11 okt | O7: =Instellingen!C37 -> 6-8 nov | W7: =Instellingen!C38 -> 4-6 dec | AE7: =Instellingen!C39 | AM7: =Instellingen!C40 | AU7: =Instellingen!C41 | BC7: Tot. | BD7: Tot. | BE7: afval | BF7: afval | BG7: afval | BH7: afval | BI7: Beste | BJ7: Beste
A8: Pl. | B8: Comb.nr. | C8: Ruiter/amazone | D8: Paard/pony | E8: kl. | F8: vereniging | G8: Ring | H8: pnt.C | I8: pnt.H | J8: pnt.tot | K8: ex 1 | L8: ex 2 | M8: pl. | N8: pl.p. | O8: Ring | P8: pnt.C | Q8: pnt.H | R8: pnt.tot. | S8: ex 1 | T8: ex 2 | U8: pl. | V8: pl.p. | W8: Ring | X8: pnt.C | Y8: pnt. H | Z8: pnt.tot. | AA8: ex 1 | AB8: ex 2 | AC8: pl. | AD8: pl.p. | AE8: Ring | AF8: pnt.C | AG8: pnt.H | AH8: pnt.tot. | AI8: ex 1 | AJ8: ex 2 | AK8: pl. | AL8: pl.p. | AM8: Ring | AN8: pnt.C | AO8: pnt.H | AP8: pnt.tot. | AQ8: ex 1 | AR8: ex 2 | AS8: pl. | AT8: pl.p. | AU8: Ring | AV8: pnt.C | AW8: pnt.H | AX8: pnt.tot. | AY8: ex 1 | AZ8: ex 2 | BA8: pl. | BB8: pl.p. | BC8: pl.pnt | BD8: punten | BE8: pl.pnt | BF8: pl.pnt | BG8: punten | BH8: punten | BI8: pl.pnt | BJ8: punten | BK8: Afv. | BL8: Res. | BM8: Afv. Regio | BN8: opmerking
A9: 1 | B9: 1016935PA | C9: Kim Van Amersvoort | D9: Pareltje | E9: M1 | F9: Veluwezoom (HSV.), RV. de | H9: 212.5 | I9: 0 | J9: =H9+I9 -> 212.5 | K9: 7 | L9: 8 | M9: 1 | N9: 1 | R9: =P9+Q9 -> 0 | Z9: =X9+Y9 -> 0 | BC9: =N9+V9+AD9+AL9+AT9+BB9 -> 1 | BD9: =J9+R9+Z9+AH9+AP9+AX9 -> 212.5 | BI9: =BC9-BE9-BF9 -> 1 | BJ9: =BD9-BG9-BH9 -> 212.5
A10: 2 | B10: 1054681NS | C10: Kyra Stern | D10: Nouveau-Daula | E10: M1 | F10: Semper Fidelis, RV. | H10: 210.5 | I10: 0 | J10: =H10+I10 -> 210.5 | K10: 7 | L10: 7 | M10: 2 | N10: 2 | R10: =P10+Q10 -> 0 | Z10: =X10+Y10 -> 0 | BC10: =N10+V10+AD10+AL10+AT10+BB10 -> 2 | BD10: =J10+R10+Z10+AH10+AP10+AX10 -> 210.5 | BI10: =BC10-BE10-BF10 -> 2 | BJ10: =BD10-BG10-BH10 -> 210.5
A11: 3 | B11: 1059153RD | C11: Jacobine Bijl - Dijkshoorn | D11: Red Bull P.O. | E11: M1 | F11: Spreng (PPSV), RV. | H11: 193.5 | I11: 0 | J11: =H11+I11 -> 193.5 | K11: 7 | L11: 7 | M11: 3 | N11: 3 | R11: =P11+Q11 -> 0 | Z11: =X11+Y11 -> 0 | BC11: =N11+V11+AD11+AL11+AT11+BB11 -> 3 | BD11: =J11+R11+Z11+AH11+AP11+AX11 -> 193.5 | BI11: =BC11-BE11-BF11 -> 3 | BJ11: =BD11-BG11-BH11 -> 193.5
A12: 4 | B12: 1027896PV | C12: Cerena Vacirca | D12: Parvani Wrl | E12: M1 | F12: Zuidwijk, RV. | H12: 188.5 | I12: 0 | J12: =H12+I12 -> 188.5 | K12: 6 | L12: 7 | M12: 4 | N12: 4 | R12: =P12+Q12 -> 0 | Z12: =X12+Y12 -> 0 | BC12: =N12+V12+AD12+AL12+AT12+BB12 -> 4 | BD12: =J12+R12+Z12+AH12+AP12+AX12 -> 188.5 | BI12: =BC12-BE12-BF12 -> 4 | BJ12: =BD12-BG12-BH12 -> 188.5
A13: 5 | B13: 976531FK | C13: Silke Kemperman | D13: Felix van de Leemhorst | E13: M1 | F13: Gorssel-Zutphen, RV. | H13: 185.5 | I13: 0 | J13: =H13+I13 -> 185.5 | K13: 6 | L13: 7 | M13: 5 | N13: 5 | R13: =P13+Q13 -> 0 | Z13: =X13+Y13 -> 0 | BC13: =N13+V13+AD13+AL13+AT13+BB13 -> 5 | BD13: =J13+R13+Z13+AH13+AP13+AX13 -> 185.5 | BI13: =BC13-BE13-BF13 -> 5 | BJ13: =BD13-BG13-BH13 -> 185.5
A14: 6 | B14: 1029513GE | C14: Esmee Eikendal | D14: Gardens Zoef | E14: M1 | F14: Loenermarkruiters, RV. | H14: 184 | I14: 0 | J14: =H14+I14 -> 184 | K14: 6.5 | L14: 7 | M14: 6 | N14: 6 | R14: =P14+Q14 -> 0 | Z14: =X14+Y14 -> 0 | BC14: =N14+V14+AD14+AL14+AT14+BB14 -> 6 | BD14: =J14+R14+Z14+AH14+AP14+AX14 -> 184 | BI14: =BC14-BE14-BF14 -> 6 | BJ14: =BD14-BG14-BH14 -> 184
A15: 7 | B15: 1040330FV | C15: Leah Verspuy | D15: Fratello H.H | E15: M1 | F15: Loenermarkruiters, RV. | H15: 180.5 | I15: 0 | J15: =H15+I15 -> 180.5 | K15: 6 | L15: 7 | M15: 7 | N15: 7 | R15: =P15+Q15 -> 0 | Z15: =X15+Y15 -> 0 | BC15: =N15+V15+AD15+AL15+AT15+BB15 -> 7 | BD15: =J15+R15+Z15+AH15+AP15+AX15 -> 180.5 | BI15: =BC15-BE15-BF15 -> 7 | BJ15: =BD15-BG15-BH15 -> 180.5
A16: 8 | B16: 999350FG | C16: Ilonka Gerritsen | D16: For Global | E16: M1 | F16: Semper Fidelis, RV. | H16: 178 | I16: 0 | J16: =H16+I16 -> 178 | K16: 6 | L16: 6 | M16: 8 | N16: 8 | R16: =P16+Q16 -> 0 | Z16: =X16+Y16 -> 0 | BC16: =N16+V16+AD16+AL16+AT16+BB16 -> 8 | BD16: =J16+R16+Z16+AH16+AP16+AX16 -> 178 | BI16: =BC16-BE16-BF16 -> 8 | BJ16: =BD16-BG16-BH16 -> 178
A17: 9 | B17: 1030436NS | C17: Ilse Sanderse - Van Swaay | D17: Nakagami Le Donia | E17: M1 | F17: Spreng (PPSV), RV. | H17: 178 | I17: 0 | J17: =H17+I17 -> 178 | K17: 5.5 | L17: 6 | M17: 9 | N17: 9 | R17: =P17+Q17 -> 0 | Z17: =X17+Y17 -> 0 | BC17: =N17+V17+AD17+AL17+AT17+BB17 -> 9 | BD17: =J17+R17+Z17+AH17+AP17+AX17 -> 178 | BI17: =BC17-BE17-BF17 -> 9 | BJ17: =BD17-BG17-BH17 -> 178
A18: 10 | B18: 886594CL | C18: Samantha Lensink | D18: Curiosa | E18: M1 | F18: IJsselruiters, RV. | H18: 177.5 | I18: 0 | J18: =H18+I18 -> 177.5 | K18: 6.5 | L18: 7 | M18: 10 | N18: 10 | R18: =P18+Q18 -> 0 | Z18: =X18+Y18 -> 0 | BC18: =N18+V18+AD18+AL18+AT18+BB18 -> 10 | BD18: =J18+R18+Z18+AH18+AP18+AX18 -> 177.5 | BI18: =BC18-BE18-BF18 -> 10 | BJ18: =BD18-BG18-BH18 -> 177.5
A19: 11 | B19: 968723EB | C19: Sandra Lukassen - Boer | D19: Endeavour- Izaira | E19: M1 | F19: Velp en omstreken, RV. | H19: 165 | I19: 0 | J19: =H19+I19 -> 165 | K19: 5 | L19: 6 | M19: 11 | N19: 11 | Q19: 0 | R19: =P19+Q19 -> 0 | Z19: =X19+Y19 -> 0 | BC19: =N19+V19+AD19+AL19+AT19+BB19 -> 11 | BD19: =J19+R19+Z19+AH19+AP19+AX19 -> 165 | BG19: 0 | BH19: 0 | BI19: =BC19-BE19-BF19 -> 11 | BJ19: =BD19-BG19-BH19 -> 165
I20: 0 | J20: =H20+I20 -> 0 | Q20: 0 | R20: =P20+Q20 -> 0 | Y20: 0 | Z20: =X20+Y20 -> 0 | BD20: =J20+R20+Z20+AH20+AP20+AX20 -> 0 | BG20: 199.5 | BH20: 0 | BJ20: =BD20-BG20-BH20 -> -199.5
I21: 0 | J21: =H21+I21 -> 0 | Q21: 0 | R21: =P21+Q21 -> 0 | Y21: 0 | Z21: =X21+Y21 -> 0 | BD21: =J21+R21+Z21+AH21+AP21+AX21 -> 0 | BG21: 179 | BH21: 0 | BJ21: =BD21-BG21-BH21 -> -179
I22: 0 | J22: =H22+I22 -> 0 | Q22: 0 | R22: =P22+Q22 -> 0 | Y22: 0 | Z22: =X22+Y22 -> 0 | BD22: =J22+R22+Z22+AH22+AP22+AX22 -> 0 | BG22: 180 | BH22: 0 | BJ22: =BD22-BG22-BH22 -> -180
I23: 0 | J23: =H23+I23 -> 0 | Q23: 0 | R23: =P23+Q23 -> 0 | Y23: 0 | Z23: =X23+Y23 -> 0 | BD23: =J23+R23+Z23+AH23+AP23+AX23 -> 0 | BG23: 171 | BH23: 0 | BJ23: =BD23-BG23-BH23 -> -171
I24: 0 | J24: =H24+I24 -> 0 | Q24: 0 | R24: =P24+Q24 -> 0 | Z24: =X24+Y24 -> 0 | BD24: =J24+R24+Z24+AH24+AP24+AX24 -> 0 | BG24: 0 | BH24: 0 | BJ24: =BD24-BG24-BH24 -> 0
I25: 0 | J25: =H25+I25 -> 0 | Q25: 0 | R25: =P25+Q25 -> 0 | Y25: 0 | Z25: =X25+Y25 -> 0 | BD25: =J25+R25+Z25+AH25+AP25+AX25 -> 0 | BG25: 0 | BH25: 0 | BJ25: =BD25-BG25-BH25 -> 0
I26: 0 | J26: =H26+I26 -> 0 | Q26: 0 | R26: =P26+Q26 -> 0 | Y26: 0 | Z26: =X26+Y26 -> 0 | BD26: =J26+R26+Z26+AH26+AP26+AX26 -> 0 | BG26: 0 | BH26: 0 | BJ26: =BD26-BG26-BH26 -> 0
I27: 0 | J27: =H27+I27 -> 0 | Q27: 0 | R27: =P27+Q27 -> 0 | Z27: =X27+Y27 -> 0 | BD27: =J27+R27+Z27+AH27+AP27+AX27 -> 0 | BG27: 0 | BH27: 0 | BJ27: =BD27-BG27-BH27 -> 0
I28: 0 | J28: =H28+I28 -> 0 | R28: =P28+Q28 -> 0 | Y28: 0 | Z28: =X28+Y28 -> 0 | BD28: =J28+R28+Z28+AH28+AP28+AX28 -> 0 | BG28: 0 | BH28: 0 | BJ28: =BD28-BG28-BH28 -> 0
I29: 0 | J29: =H29+I29 -> 0 | R29: =P29+Q29 -> 0 | Z29: =X29+Y29 -> 0 | BD29: =J29+R29+Z29+AH29+AP29+AX29 -> 0 | BG29: 0 | BH29: 0 | BJ29: =BD29-BG29-BH29 -> 0
J30: =H30+I30 -> 0 | R30: =P30+Q30 -> 0 | Y30: 0 | Z30: =X30+Y30 -> 0 | BD30: =J30+R30+Z30+AH30+AP30+AX30 -> 0 | BG30: 0 | BH30: 0 | BJ30: =BD30-BG30-BH30 -> 0

Sheet M2
A1: Selectie uitslagen
C2: 1 | D2: =FLOOR((C2+3)/4,1) -> 1 | H2: 192 | I2: 190 | J2: =H2+I2 -> 382 | N2: 1 | P2: 193 | Q2: 193 | R2: =P2+Q2 -> 386 | V2: 2 | X2: 198 | Y2: 198 | Z2: =X2+Y2 -> 396 | AD2: 3 | AF2: 177 | AG2: 177 | AH2: =AF2+AG2 -> 354 | AL2: 4 | AN2: 178 | AO2: 178 | AP2: =AN2+AO2 -> 356 | AT2: 5 | AV2: 179 | AW2: 179 | AX2: =AV2+AW2 -> 358 | BB2: 6 | BC2: =N2+V2+AD2+AL2+AT2+BB2 -> 21 | BD2: =J2+R2+Z2+AH2+AP2+AX2 -> 2232 | BE2: =IF($O$4>0,(LARGE(($N2,$V2,$AD2,$AL2,$AT2,$BB2),1)),"0") -> 6 | BF2: =IF($O$4>0,(LARGE(($N2,$V2,$AD2,$AL2,$AT2,$BB2),2)),"0") -> 5 | BG2: 354 | BH2: 354 | BI2: =BC2-BE2-BF2 -> 10 | BJ2: =BD2-BG2-BH2 -> 1524
A3: Kring: | C3: =Instellingen!B3 -> Kring Berkel IJssel | F3: Aantal afvaardiging Regio: | BC3: Aantal wedstrijden: | BL3: =Instellingen!B6 -> 3
A4: Klasse: | C4: M2 | F4: Aantal afval resultaten: | O4: =Instellingen!B7 -> 1
A5: Cat.: | F5: Plaatsingspunten niet gestart: | O5: =Instellingen!B5 -> 99 | BC5: Aantal reserves: | BL5: 2
F6: Lokatie: | G6: =Instellingen!B36 -> Brummen | O6: =Instellingen!B37 -> Brummen | W6: =Instellingen!B38 -> Gorssel | AE6: =Instellingen!B39 -> 0 | AM6: =Instellingen!B40 -> 0 | AU6: =Instellingen!B41 -> 0 | BC6: Dressuur | BI6: Pnt. 60% regel | BL6: 180
F7: Datum: | G7: =Instellingen!C36 -> 10-11 okt | O7: =Instellingen!C37 -> 6-8 nov | W7: =Instellingen!C38 -> 4-6 dec | AE7: =Instellingen!C39 | AM7: =Instellingen!C40 | AU7: =Instellingen!C41 | BC7: Tot. | BD7: Tot. | BE7: afval | BF7: afval | BG7: afval | BH7: afval | BI7: Beste | BJ7: Beste
A8: Pl. | B8: Comb.nr. | C8: Ruiter/amazone | D8: Paard/pony | E8: kl. | F8: vereniging | G8: Ring | H8: pnt.C | I8: pnt.H | J8: pnt.tot | K8: ex 1 | L8: ex 2 | M8: pl. | N8: pl.p. | O8: Ring | P8: pnt.C | Q8: pnt.H | R8: pnt.tot. | S8: ex 1 | T8: ex 2 | U8: pl. | V8: pl.p. | W8: Ring | X8: pnt.C | Y8: pnt. H | Z8: pnt.tot. | AA8: ex 1 | AB8: ex 2 | AC8: pl. | AD8: pl.p. | AE8: Ring | AF8: pnt.C | AG8: pnt.H | AH8: pnt.tot. | AI8: ex 1 | AJ8: ex 2 | AK8: pl. | AL8: pl.p. | AM8: Ring | AN8: pnt.C | AO8: pnt.H | AP8: pnt.tot. | AQ8: ex 1 | AR8: ex 2 | AS8: pl. | AT8: pl.p. | AU8: Ring | AV8: pnt.C | AW8: pnt.H | AX8: pnt.tot. | AY8: ex 1 | AZ8: ex 2 | BA8: pl. | BB8: pl.p. | BC8: pl.pnt | BD8: punten | BE8: pl.pnt | BF8: pl.pnt | BG8: punten | BH8: punten | BI8: pl.pnt | BJ8: punten | BK8: Afv. | BL8: Res. | BM8: Afv. Regio | BN8: opmerking
A9: 1 | B9: 996508PG | C9: Myrthe Groen | D9: Papacita | E9: M2 | F9: IJsselruiters, RV. | H9: 207.5 | I9: 0 | J9: =H9+I9 -> 207.5 | K9: 7 | L9: 7.5 | M9: 1 | N9: 1 | R9: =P9+Q9 -> 0 | Z9: =X9+Y9 -> 0 | BC9: =N9+V9+AD9+AL9+AT9+BB9 -> 1 | BD9: =J9+R9+Z9+AH9+AP9+AX9 -> 207.5 | BI9: =BC9-BE9-BF9 -> 1 | BJ9: =BD9-BG9-BH9 -> 207.5
A10: 2 | B10: 960708IW | C10: Susan Wijs | D10: Ilse fan 't Reidfjild | E10: M2 | F10: Dressuurstal Seren (RV) | H10: 191.5 | I10: 0 | J10: =H10+I10 -> 191.5 | K10: 6.5 | L10: 7 | M10: 2 | N10: 2 | R10: =P10+Q10 -> 0 | Z10: =X10+Y10 -> 0 | BC10: =N10+V10+AD10+AL10+AT10+BB10 -> 2 | BD10: =J10+R10+Z10+AH10+AP10+AX10 -> 191.5 | BI10: =BC10-BE10-BF10 -> 2 | BJ10: =BD10-BG10-BH10 -> 191.5
A11: 3 | B11: 875406JB | C11: Melissa Boone | D11: Jayla | E11: M2 | F11: Velp en omstreken, RV. | H11: 185.5 | I11: 0 | J11: =H11+I11 -> 185.5 | K11: 6 | L11: 6 | M11: 3 | N11: 3 | R11: =P11+Q11 -> 0 | Z11: =X11+Y11 -> 0 | BC11: =N11+V11+AD11+AL11+AT11+BB11 -> 3 | BD11: =J11+R11+Z11+AH11+AP11+AX11 -> 185.5 | BI11: =BC11-BE11-BF11 -> 3 | BJ11: =BD11-BG11-BH11 -> 185.5
A12: 4 | B12: 999565MD | C12: Jedi Damkat | D12: Mimosa Barones | E12: M2 | F12: Spreng (PPSV), RV. | H12: 185 | I12: 0 | J12: =H12+I12 -> 185 | K12: 6.5 | L12: 6.5 | M12: 4 | N12: 4 | R12: =P12+Q12 -> 0 | Z12: =X12+Y12 -> 0 | BC12: =N12+V12+AD12+AL12+AT12+BB12 -> 4 | BD12: =J12+R12+Z12+AH12+AP12+AX12 -> 185 | BI12: =BC12-BE12-BF12 -> 4 | BJ12: =BD12-BG12-BH12 -> 185
A13: 5 | B13: 942939OB | C13: Hanna Bakker | D13: Omare Marie | E13: M2 | F13: Loenermarkruiters, RV. | H13: 179.5 | I13: 0 | J13: =H13+I13 -> 179.5 | K13: 6 | L13: 6 | M13: 5 | N13: 5 | R13: =P13+Q13 -> 0 | Z13: =X13+Y13 -> 0 | BC13: =N13+V13+AD13+AL13+AT13+BB13 -> 5 | BD13: =J13+R13+Z13+AH13+AP13+AX13 -> 179.5 | BI13: =BC13-BE13-BF13 -> 5 | BJ13: =BD13-BG13-BH13 -> 179.5
A14: 6 | B14: 1003961PH | C14: Iris Hengeveld | D14: PatserK | E14: M2 | F14: Bussloo, RV. PPSV | H14: 178 | I14: 0 | J14: =H14+I14 -> 178 | K14: 5 | L14: 6 | M14: 6 | N14: 6 | R14: =P14+Q14 -> 0 | Z14: =X14+Y14 -> 0 | BC14: =N14+V14+AD14+AL14+AT14+BB14 -> 6 | BD14: =J14+R14+Z14+AH14+AP14+AX14 -> 178 | BI14: =BC14-BE14-BF14 -> 6 | BJ14: =BD14-BG14-BH14 -> 178
A15: 7 | B15: 1030086RH | C15: Zoë Hesse | D15: Royal Dreamgirl | E15: M2 | F15: Spreng (PPSV), RV. | H15: 175.5 | I15: 0 | J15: =H15+I15 -> 175.5 | K15: 5.5 | L15: 6 | M15: 7 | N15: 7 | R15: =P15+Q15 -> 0 | Z15: =X15+Y15 -> 0 | BC15: =N15+V15+AD15+AL15+AT15+BB15 -> 7 | BD15: =J15+R15+Z15+AH15+AP15+AX15 -> 175.5 | BI15: =BC15-BE15-BF15 -> 7 | BJ15: =BD15-BG15-BH15 -> 175.5
I16: 0 | J16: =H16+I16 -> 0 | Q16: 0 | R16: =P16+Q16 -> 0 | Y16: 0 | Z16: =X16+Y16 -> 0 | BD16: =J16+R16+Z16+AH16+AP16+AX16 -> 0 | BJ16: =BD16-BG16-BH16 -> 0
I17: 0 | J17: =H17+I17 -> 0 | Q17: 0 | R17: =P17+Q17 -> 0 | Y17: 0 | Z17: =X17+Y17 -> 0 | BD17: =J17+R17+Z17+AH17+AP17+AX17 -> 0 | BJ17: =BD17-BG17-BH17 -> 0
I18: 0 | J18: =H18+I18 -> 0 | Q18: 0 | R18: =P18+Q18 -> 0 | Y18: 0 | Z18: =X18+Y18 -> 0 | BD18: =J18+R18+Z18+AH18+AP18+AX18 -> 0 | BJ18: =BD18-BG18-BH18 -> 0
I19: 0 | J19: =H19+I19 -> 0 | Q19: 0 | R19: =P19+Q19 -> 0 | Y19: 0 | Z19: =X19+Y19 -> 0 | BD19: =J19+R19+Z19+AH19+AP19+AX19 -> 0 | BJ19: =BD19-BG19-BH19 -> 0
I20: 0 | J20: =H20+I20 -> 0 | Q20: 0 | R20: =P20+Q20 -> 0 | Y20: 0 | Z20: =X20+Y20 -> 0 | BD20: =J20+R20+Z20+AH20+AP20+AX20 -> 0 | BJ20: =BD20-BG20-BH20 -> 0
I21: 0 | J21: =H21+I21 -> 0 | Q21: 0 | R21: =P21+Q21 -> 0 | Y21: 0 | Z21: =X21+Y21 -> 0 | BD21: =J21+R21+Z21+AH21+AP21+AX21 -> 0 | BJ21: =BD21-BG21-BH21 -> 0
J22: =H22+I22 -> 0 | Q22: 0 | R22: =P22+Q22 -> 0 | Y22: 0 | Z22: =X22+Y22 -> 0 | BD22: =J22+R22+Z22+AH22+AP22+AX22 -> 0 | BJ22: =BD22-BG22-BH22 -> 0
J23: =H23+I23 -> 0 | Q23: 0 | R23: =P23+Q23 -> 0 | Z23: =X23+Y23 -> 0 | BD23: =J23+R23+Z23+AH23+AP23+AX23 -> 0 | BJ23: =BD23-BG23-BH23 -> 0

Sheet M1 - M2
A1: Selectie uitslagen
C2: 1 | D2: =FLOOR((C2+3)/4,1) -> 1 | G2: 192 | H2: 192 | I2: 190 | J2: =H2+I2 -> 382 | N2: 1 | O2: 193 | P2: 193 | Q2: 193 | R2: =P2+Q2 -> 386 | V2: 2 | W2: 198 | X2: 198 | Y2: 198 | Z2: =X2+Y2 -> 396 | AD2: 3 | AE2: 177 | AF2: 177 | AG2: 177 | AH2: =AF2+AG2 -> 354 | AL2: 4 | AM2: 178 | AN2: 178 | AO2: 178 | AP2: =AN2+AO2 -> 356 | AT2: 5 | AU2: 179 | AV2: 179 | AW2: 179 | AX2: =AV2+AW2 -> 358 | BB2: 6 | BC2: =N2+V2+AD2+AL2+AT2+BB2 -> 21 | BD2: =J2+R2+Z2+AH2+AP2+AX2 -> 2232 | BE2: =IF($O$4>0,(LARGE(($N2,$V2,$AD2,$AL2,$AT2,$BB2),1)),"0") -> 6 | BF2: =IF($O$4>0,(LARGE(($N2,$V2,$AD2,$AL2,$AT2,$BB2),2)),"0") -> 5 | BG2: 354 | BH2: 354 | BI2: =BC2-BE2-BF2 -> 10 | BJ2: =BD2-BG2-BH2 -> 1524
A3: Kring: | C3: =Instellingen!B3 -> Kring Berkel IJssel | BC3: Aantal wedstrijden: | BL3: =Instellingen!B6 -> 3
A4: Klasse: | C4: M1 - M2 | F4: Aantal afval resultaten: | O4: =Instellingen!B7 -> 1
A5: Cat.: | F5: Plaatsingspunten niet gestart: | O5: =Instellingen!B5 -> 99
F6: Lokatie: | G6: =Instellingen!B36 -> Brummen | O6: =Instellingen!B37 -> Brummen | W6: =Instellingen!B38 -> Gorssel | AE6: =Instellingen!B39 -> 0 | AM6: =Instellingen!B40 -> 0 | AU6: =Instellingen!B41 -> 0 | BC6: Dressuur
F7: Datum: | G7: =Instellingen!C36 -> 10-11 okt | O7: =Instellingen!C37 -> 6-8 nov | W7: =Instellingen!C38 -> 4-6 dec | AE7: =Instellingen!C39 | AM7: =Instellingen!C40 | AU7: =Instellingen!C41 | BC7: Tot. | BD7: Tot. | BE7: afval | BF7: afval | BG7: afval | BH7: afval | BI7: Beste | BJ7: Beste
A8: Pl. | B8: Comb.nr. | C8: Ruiter/amazone | D8: Paard/pony | E8: kl. | F8: vereniging | G8: Ring | H8: pnt.C | I8: pnt.H | J8: pnt.tot | K8: ex 1 | L8: ex 2 | M8: pl. | N8: pl.p. | O8: Ring | P8: pnt.C | Q8: pnt.H | R8: pnt.tot. | S8: ex 1 | T8: ex 2 | U8: pl. | V8: pl.p. | W8: Ring | X8: pnt.C | Y8: pnt. H | Z8: pnt.tot. | AA8: ex 1 | AB8: ex 2 | AC8: pl. | AD8: pl.p. | AE8: Ring | AF8: pnt.C | AG8: pnt.H | AH8: pnt.tot. | AI8: ex 1 | AJ8: ex 2 | AK8: pl. | AL8: pl.p. | AM8: Ring | AN8: pnt.C | AO8: pnt.H | AP8: pnt.tot. | AQ8: ex 1 | AR8: ex 2 | AS8: pl. | AT8: pl.p. | AU8: Ring | AV8: pnt.C | AW8: pnt.H | AX8: pnt.tot. | AY8: ex 1 | AZ8: ex 2 | BA8: pl. | BB8: pl.p. | BC8: pl.pnt | BD8: punten | BE8: pl.pnt | BF8: pl.pnt | BG8: punten | BH8: punten | BI8: pl.pnt | BJ8: punten | BK8: Afv. | BL8: Res. | BN8: opmerking

Sheet Z1
A1: Selectie uitslagen
C2: 1 | D2: =FLOOR((C2+3)/4,1) -> 1 | H2: 192 | I2: 190 | J2: =H2+I2 -> 382 | N2: 1 | P2: 193 | Q2: 193 | R2: =P2+Q2 -> 386 | V2: 2 | X2: 198 | Y2: 198 | Z2: =X2+Y2 -> 396 | AD2: 3 | AF2: 177 | AG2: 177 | AH2: =AF2+AG2 -> 354 | AL2: 4 | AN2: 178 | AO2: 178 | AP2: =AN2+AO2 -> 356 | AT2: 5 | AV2: 179 | AW2: 179 | AX2: =AV2+AW2 -> 358 | BB2: 6 | BC2: =N2+V2+AD2+AL2+AT2+BB2 -> 21 | BD2: =J2+R2+Z2+AH2+AP2+AX2 -> 2232 | BE2: =IF($O$4>0,(LARGE(($N2,$V2,$AD2,$AL2,$AT2,$BB2),1)),"0") -> 6 | BF2: =IF($O$4>0,(LARGE(($N2,$V2,$AD2,$AL2,$AT2,$BB2),2)),"0") -> 5 | BG2: 354 | BH2: 354 | BI2: =BC2-BE2-BF2 -> 10 | BJ2: =BD2-BG2-BH2 -> 1524
A3: Kring: | C3: =Instellingen!B3 -> Kring Berkel IJssel | F3: Aantal afvaardiging Regio: | BC3: Aantal wedstrijden: | BL3: =Instellingen!B6 -> 3
A4: Klasse: | C4: Z1 | F4: Aantal afval resultaten: | O4: =Instellingen!B7 -> 1
A5: Cat.: | F5: Plaatsingspunten niet gestart: | O5: =Instellingen!B5 -> 99 | BC5: Aantal reserves: | BL5: 2
F6: Lokatie: | G6: =Instellingen!B36 -> Brummen | O6: =Instellingen!B37 -> Brummen | W6: =Instellingen!B38 -> Gorssel | AE6: =Instellingen!B39 -> 0 | AM6: =Instellingen!B40 -> 0 | AU6: =Instellingen!B41 -> 0 | BC6: Dressuur | BI6: Pnt. 60% regel | BL6: 210
F7: Datum: | G7: 3 okt | O7: =Instellingen!C37 -> 6-8 nov | W7: =Instellingen!C38 -> 4-6 dec | AE7: =Instellingen!C39 | AM7: =Instellingen!C40 | AU7: =Instellingen!C41 | BC7: Tot. | BD7: Tot. | BE7: afval | BF7: afval | BG7: afval | BH7: afval | BI7: Beste | BJ7: Beste
A8: Pl. | B8: Comb.nr. | C8: Ruiter/amazone | D8: Paard/pony | E8: kl. | F8: vereniging | G8: Ring | H8: pnt.C | I8: pnt.H | J8: pnt.tot | K8: ex 1 | L8: ex 2 | M8: pl. | N8: pl.p. | O8: Ring | P8: pnt.C | Q8: pnt.H | R8: pnt.tot. | S8: ex 1 | T8: ex 2 | U8: pl. | V8: pl.p. | W8: Ring | X8: pnt.C | Y8: pnt. H | Z8: pnt.tot. | AA8: ex 1 | AB8: ex 2 | AC8: pl. | AD8: pl.p. | AE8: Ring | AF8: pnt.C | AG8: pnt.H | AH8: pnt.tot. | AI8: ex 1 | AJ8: ex 2 | AK8: pl. | AL8: pl.p. | AM8: Ring | AN8: pnt.C | AO8: pnt.H | AP8: pnt.tot. | AQ8: ex 1 | AR8: ex 2 | AS8: pl. | AT8: pl.p. | AU8: Ring | AV8: pnt.C | AW8: pnt.H | AX8: pnt.tot. | AY8: ex 1 | AZ8: ex 2 | BA8: pl. | BB8: pl.p. | BC8: pl.pnt | BD8: punten | BE8: pl.pnt | BF8: pl.pnt | BG8: punten | BH8: punten | BI8: pl.pnt | BJ8: punten | BK8: Afv. | BL8: Res. | BM8: Afv. Regio | BN8: opmerking
A9: 1 | B9: 889362KB | C9: Aniek Breukink | D9: Kingstar B | E9: Z1 | F9: IJsselruiters, RV. | H9: 240.5 | I9: 0 | J9: =H9+I9 -> 240.5 | K9: 7 | L9: 7 | M9: 1 | N9: 1 | Q9: 0 | R9: =P9+Q9 -> 0 | Z9: =X9+Y9 -> 0 | BC9: =N9+V9+AD9+AL9+AT9+BB9 -> 1 | BD9: =J9+R9+Z9+AH9+AP9+AX9 -> 240.5 | BG9: 0 | BH9: 0 | BI9: =BC9-BE9-BF9 -> 1 | BJ9: =BD9-BG9-BH9 -> 240.5
A10: 2 | B10: 1035893FT | C10: Ise Timmer | D10: Fash | E10: Z1 | F10: IJsselruiters, RV. | H10: 234 | J10: =H10+I10 -> 234 | K10: 7 | L10: 7 | M10: 2 | N10: 2 | R10: =P10+Q10 -> 0 | Z10: =X10+Y10 -> 0 | BC10: =N10+V10+AD10+AL10+AT10+BB10 -> 2 | BD10: =J10+R10+Z10+AH10+AP10+AX10 -> 234 | BI10: =BC10-BE10-BF10 -> 2 | BJ10: =BD10-BG10-BH10 -> 234
A11: 3 | B11: 906167LM | C11: Chloë Middelburg | D11: L'Estelle | E11: Z1 | F11: Bussloo, RV. PPSV | H11: 230.5 | I11: 0 | J11: =H11+I11 -> 230.5 | K11: 6.5 | L11: 7 | M11: 3 | N11: 3 | Q11: 0 | R11: =P11+Q11 -> 0 | Y11: 0 | Z11: =X11+Y11 -> 0 | BC11: =N11+V11+AD11+AL11+AT11+BB11 -> 3 | BD11: =J11+R11+Z11+AH11+AP11+AX11 -> 230.5 | BG11: 186 | BH11: 0 | BI11: =BC11-BE11-BF11 -> 3 | BJ11: =BD11-BG11-BH11 -> 44.5
A12: 4 | B12: 985488LS | C12: Renée Schefczyk | D12: Lilith Dodona | E12: Z1 | F12: IJsselruiters, RV. | H12: 228.5 | J12: =H12+I12 -> 228.5 | K12: 6.5 | L12: 6.5 | M12: 4 | N12: 4 | R12: =P12+Q12 -> 0 | Z12: =X12+Y12 -> 0 | BC12: =N12+V12+AD12+AL12+AT12+BB12 -> 4 | BD12: =J12+R12+Z12+AH12+AP12+AX12 -> 228.5 | BI12: =BC12-BE12-BF12 -> 4 | BJ12: =BD12-BG12-BH12 -> 228.5
A13: 5 | B13: 1067737OH | C13: Mindy Hoekstra | D13: Onassis S | E13: Z1 | F13: Zuidwijk, RV. | H13: 223 | J13: =H13+I13 -> 223 | K13: 6 | L13: 6.5 | M13: 5 | N13: 5 | R13: =P13+Q13 -> 0 | Z13: =X13+Y13 -> 0 | BC13: =N13+V13+AD13+AL13+AT13+BB13 -> 5 | BD13: =J13+R13+Z13+AH13+AP13+AX13 -> 223 | BI13: =BC13-BE13-BF13 -> 5 | BJ13: =BD13-BG13-BH13 -> 223
A14: 6 | B14: 1035343MH | C14: Meike Heijmans | D14: Minerva Dodona | E14: Z1 | F14: Zuidwijk, RV. | H14: 216.5 | J14: =H14+I14 -> 216.5 | K14: 6 | L14: 6.5 | M14: 6 | N14: 6 | R14: =P14+Q14 -> 0 | Z14: =X14+Y14 -> 0 | BC14: =N14+V14+AD14+AL14+AT14+BB14 -> 6 | BD14: =J14+R14+Z14+AH14+AP14+AX14 -> 216.5 | BI14: =BC14-BE14-BF14 -> 6 | BJ14: =BD14-BG14-BH14 -> 216.5

Sheet Z2
A1: Selectie uitslagen
C2: 1 | D2: =FLOOR((C2+3)/4,1) -> 1 | H2: 192 | I2: 190 | J2: =H2+I2 -> 382 | N2: 1 | P2: 193 | Q2: 193 | R2: =P2+Q2 -> 386 | V2: 2 | X2: 198 | Y2: 198 | Z2: =X2+Y2 -> 396 | AD2: 3 | AF2: 177 | AG2: 177 | AH2: =AF2+AG2 -> 354 | AL2: 4 | AN2: 178 | AO2: 178 | AP2: =AN2+AO2 -> 356 | AT2: 5 | AV2: 179 | AW2: 179 | AX2: =AV2+AW2 -> 358 | BB2: 6 | BC2: =N2+V2+AD2+AL2+AT2+BB2 -> 21 | BD2: =J2+R2+Z2+AH2+AP2+AX2 -> 2232 | BE2: =IF($O$4>0,(LARGE(($N2,$V2,$AD2,$AL2,$AT2,$BB2),1)),"0") -> 6 | BF2: =IF($O$4>0,(LARGE(($N2,$V2,$AD2,$AL2,$AT2,$BB2),2)),"0") -> 5 | BG2: 354 | BH2: 354 | BI2: =BC2-BE2-BF2 -> 10 | BJ2: =BD2-BG2-BH2 -> 1524
A3: Kring: | C3: =Instellingen!B3 -> Kring Berkel IJssel | F3: Aantal afvaardiging Regio: | BC3: Aantal wedstrijden: | BL3: =Instellingen!B6 -> 3
A4: Klasse: | C4: Z2 | F4: Aantal afval resultaten: | O4: =Instellingen!B7 -> 1
A5: Cat.: | F5: Plaatsingspunten niet gestart: | O5: =Instellingen!B5 -> 99 | BC5: Aantal reserves: | BL5: 2
F6: Lokatie: | G6: =Instellingen!B36 -> Brummen | O6: =Instellingen!B37 -> Brummen | W6: =Instellingen!B38 -> Gorssel | AE6: =Instellingen!B39 -> 0 | AM6: =Instellingen!B40 -> 0 | AU6: =Instellingen!B41 -> 0 | BC6: Dressuur | BI6: Pnt. 60% regel | BL6: 210
F7: Datum: | G7: =Instellingen!C36 -> 10-11 okt | O7: =Instellingen!C37 -> 6-8 nov | W7: =Instellingen!C38 -> 4-6 dec | AE7: =Instellingen!C39 | AM7: =Instellingen!C40 | AU7: =Instellingen!C41 | BC7: Tot. | BD7: Tot. | BE7: afval | BF7: afval | BG7: afval | BH7: afval | BI7: Beste | BJ7: Beste
A8: Pl. | B8: Comb.nr. | C8: Ruiter/amazone | D8: Paard/pony | E8: kl. | F8: vereniging | G8: Ring | H8: pnt.C | I8: pnt.H | J8: pnt.tot | K8: ex 1 | L8: ex 2 | M8: pl. | N8: pl.p. | O8: Ring | P8: pnt.C | Q8: pnt.H | R8: pnt.tot. | S8: ex 1 | T8: ex 2 | U8: pl. | V8: pl.p. | W8: Ring | X8: pnt.C | Y8: pnt. H | Z8: pnt.tot. | AA8: ex 1 | AB8: ex 2 | AC8: pl. | AD8: pl.p. | AE8: Ring | AF8: pnt.C | AG8: pnt.H | AH8: pnt.tot. | AI8: ex 1 | AJ8: ex 2 | AK8: pl. | AL8: pl.p. | AM8: Ring | AN8: pnt.C | AO8: pnt.H | AP8: pnt.tot. | AQ8: ex 1 | AR8: ex 2 | AS8: pl. | AT8: pl.p. | AU8: Ring | AV8: pnt.C | AW8: pnt.H | AX8: pnt.tot. | AY8: ex 1 | AZ8: ex 2 | BA8: pl. | BB8: pl.p. | BC8: pl.pnt | BD8: punten | BE8: pl.pnt | BF8: pl.pnt | BG8: punten | BH8: punten | BI8: pl.pnt | BJ8: punten | BK8: Afv. | BL8: Res. | BM8: Afv. Regio | BN8: opmerking
A9: 1 | B9: 1056566NB | C9: Felyne Boschloo Karsijns | D9: No Signal Bowdy | E9: Z2 | F9: IJsselruiters, RV. | H9: 241.5 | I9: 0 | J9: =H9+I9 -> 241.5 | K9: 7 | L9: 8 | M9: 1 | N9: 1 | Q9: 0 | R9: =P9+Q9 -> 0 | Y9: 0 | Z9: =X9+Y9 -> 0 | BC9: =N9+V9+AD9+AL9+AT9+BB9 -> 1 | BD9: =J9+R9+Z9+AH9+AP9+AX9 -> 241.5 | BG9: 225.5 | BH9: 0 | BI9: =BC9-BE9-BF9 -> 1 | BJ9: =BD9-BG9-BH9 -> 16
A10: 2 | B10: 1028766PW | C10: Sophie Welmers | D10: Puy Du Fou | E10: Z2 | F10: IJsselruiters, RV. | H10: 231 | J10: =H10+I10 -> 231 | K10: 6.5 | L10: 6.5 | M10: 2 | N10: 2 | R10: =P10+Q10 -> 0 | Z10: =X10+Y10 -> 0 | BC10: =N10+V10+AD10+AL10+AT10+BB10 -> 2 | BD10: =J10+R10+Z10+AH10+AP10+AX10 -> 231 | BI10: =BC10-BE10-BF10 -> 2 | BJ10: =BD10-BG10-BH10 -> 231
A11: 3 | B11: 1061308OH | C11: Mindy Hoekstra | D11: Odine | E11: Z2 | F11: Zuidwijk, RV. | H11: 219.5 | J11: =H11+I11 -> 219.5 | K11: 6 | L11: 6.5 | M11: 3 | N11: 3 | R11: =P11+Q11 -> 0 | Z11: =X11+Y11 -> 0 | BC11: =N11+V11+AD11+AL11+AT11+BB11 -> 3 | BD11: =J11+R11+Z11+AH11+AP11+AX11 -> 219.5 | BI11: =BC11-BE11-BF11 -> 3 | BJ11: =BD11-BG11-BH11 -> 219.5
A12: 4 | B12: 906366DS | C12: Renée Schefczyk | D12: DJ Tiesto | E12: Z2 | F12: IJsselruiters, RV. | H12: 206.5 | J12: =H12+I12 -> 206.5 | K12: 6 | L12: 6.5 | M12: 4 | N12: 4 | R12: =P12+Q12 -> 0 | Z12: =X12+Y12 -> 0 | BC12: =N12+V12+AD12+AL12+AT12+BB12 -> 4 | BD12: =J12+R12+Z12+AH12+AP12+AX12 -> 206.5 | BI12: =BC12-BE12-BF12 -> 4 | BJ12: =BD12-BG12-BH12 -> 206.5
A13: 5 | B13: 965069UH | C13: Claire De Haan | D13: United Coltun | E13: Z2 | F13: Oortveldruiters, RV. | H13: 196 | J13: =H13+I13 -> 196 | K13: 6 | L13: 6.5 | M13: 5 | N13: 5 | R13: =P13+Q13 -> 0 | Z13: =X13+Y13 -> 0 | BC13: =N13+V13+AD13+AL13+AT13+BB13 -> 5 | BD13: =J13+R13+Z13+AH13+AP13+AX13 -> 196 | BI13: =BC13-BE13-BF13 -> 5 | BJ13: =BD13-BG13-BH13 -> 196
J14: =H14+I14 -> 0 | R14: =P14+Q14 -> 0 | Z14: =X14+Y14 -> 0 | BD14: =J14+R14+Z14+AH14+AP14+AX14 -> 0 | BJ14: =BD14-BG14-BH14 -> 0
E15: Z2 | I15: 0 | J15: =H15+I15 -> 0 | Q15: 0 | R15: =P15+Q15 -> 0 | Y15: 0 | Z15: =X15+Y15 -> 0 | BD15: =J15+R15+Z15+AH15+AP15+AX15 -> 0 | BG15: 0 | BH15: 0 | BJ15: =BD15-BG15-BH15 -> 0
