Workbook
Name Dressuur: Diversen!#REF!
Name Dressuur_1: Diversen!#REF!
Name Dressuur_2: Diversen!#REF!
Name Dressuur_3: Diversen!#REF!
Name Springen: Diversen!#REF!
Name Springen_1: Diversen!#REF!
Name Springen_10: Diversen!#REF!
Name Springen_11: Diversen!#REF!
Name Springen_12: Diversen!#REF!
Name Springen_13: Diversen!#REF!
Name Springen_14: Diversen!#REF!
Name Springen_15: Diversen!#REF!
Name Springen_16: Diversen!#REF!
Name Springen_17: Diversen!#REF!
Name Springen_18: Diversen!#REF!
Name Springen_19: Diversen!#REF!
Name Springen_2: Diversen!#REF!
Name Springen_21: Diversen!$A$9:$O$116
Name Springen_3: Diversen!#REF!
Name Springen_4: Diversen!#REF!
Name Springen_5: Diversen!#REF!
Name Springen_6: Diversen!#REF!
Name Springen_7: Diversen!#REF!
Name Springen_8: Diversen!#REF!
Name Springen_9: Diversen!#REF!

Sheet Informatie
A1: LEES ONDERSTAANDE INFO EERST!!
A3: Zowel de afgevaardigden als de reserves dienen zich in te schrijven via mijn KNHS.
A5: Reserveruiters die niet ingezet worden, krijgen hun inschrijfgeld
A6: automatisch weer retour geboekt!

Sheet 50(AB)
A1: Selectie uitslagen
N2: 1 | W2: 2 | AF2: 3 | AN2: 4 | AV2: 5 | BD2: 6 | BE2: =N2+W2+AF2+AN2+AV2+BD2 -> 21 | BF2: =IF($O$4>0,(LARGE(($N2,$W2,$AF2,$AN2,$AV2,$BD2),1)),"0") -> 6 | BG2: =BE2-BF2 -> 15 | BH2: =IF($O$4>1,(LARGE(($N2,$W2,$AF2,$AN2,$AV2,$BD2),1))+(LARGE(($N2,$W2,$AF2,$AN2,$AV2,$BD2),2)),"0") -> 0 | BM2: =IF(G2>99,199,G2) -> 0 | BN2: =IF(H2="",0,H2) -> 0 | BO2: =IF(J2>99,199,J2) -> 0 | BP2: =IF(K2="",0,K2) -> 0 | BQ2: =BM2+BO2 -> 0 | BR2: =IF(O2>99,199,O2) -> 0 | BS2: =IF(P2="",0,P2) -> 0 | BT2: =IF(S2>99,199,S2) -> 0 | BU2: =IF(T2="",0,T2) -> 0 | BV2: =BR2+BT2 -> 0 | BW2: =IF(X2>99,199,X2) -> 0 | BX2: =IF(Y2="",0,Y2) -> 0 | BY2: =IF(AB2>99,199,AB2) -> 0 | BZ2: =IF(AC2="",0,AC2) -> 0 | CA2: =BW2+BY2 -> 0 | CB2: =IF(AG2>99,199,AG2) -> 0 | CC2: =IF(AH2="",0,AH2) -> 0 | CD2: =IF(AJ2>99,199,AJ2) -> 0 | CE2: =IF(AK2="",0,AK2) -> 0 | CF2: =CB2+CD2 -> 0 | CG2: =IF(AO2>99,199,AO2) -> 0 | CH2: =IF(AP2="",0,AP2) -> 0 | CI2: =IF(AR2>99,199,AR2) -> 0 | CJ2: =IF(AS2="",0,AS2) -> 0 | CK2: =CG2+CI2 -> 0 | CL2: =IF(AW2>99,199,AW2) -> 0 | CM2: =IF(AX2="",0,AX2) -> 0 | CN2: =IF(AZ2>99,199,AZ2) -> 0 | CO2: =IF(BA2="",0,BA2) -> 0 | CP2: =CL2+CN2 -> 0
A3: Kring: | C3: =Instellingen!B3 -> Kring Berkel IJssel | F3: Aantal afvaardiging Regio: | BE3: Aantal wedstrijden: | BI3: =Instellingen!B6 -> 3
A4: Klasse: | C4: 0.50 | F4: Aantal afval resultaten: | O4: =Instellingen!B7 -> 1
A5: Cat.: | C5: A / B | F5: Plaatsingspunten niet gestart: | O5: =Instellingen!B5 -> 99 | BE5: Aantal reserves: | BI5: 2
F6: Lokatie: | G6: =Instellingen!B40 -> Laag-Soeren | O6: =Instellingen!B41 -> Brummen | X6: =Instellingen!B42 -> Brummen | AG6: =Instellingen!B43 | AO6: =Instellingen!B44 | AW6: =Instellingen!B45 | BE6: Springen
F7: Datum: | G7: =Instellingen!C40 -> 18-10-2026 | O7: =Instellingen!C41 -> 6-12-2026 | X7: =Instellingen!C42 -> 10-1-2027 | AG7: =Instellingen!C43 | AO7: =Instellingen!C44 | AW7: =Instellingen!C45 | BE7: Tot. | BF7: afval | BG7: Beste
A8: Pl. | B8: Comb.nr. | C8: Ruiter/amazone | D8: Paard/pony | E8: kl. | F8: vereniging | G8: ftn1 | H8: styl1 | I8: wvr1 | J8: ftn2 | K8: styl2 | L8: wvr2 | M8: pl. | N8: pl.p. | O8: ftn1 | P8: styl1 | Q8: wvr1 | R8: pp1 | S8: ftn2 | T8: tijd1 | U8: pp2 | V8: pl. | W8: pl.p. | X8: ftn1 | Y8: styl1 | Z8: wvr1 | AA8: pp1 | AB8: ftn2 | AC8: tijd1 | AD8: pp2 | AE8: pl. | AF8: pl.p. | AG8: ftn1 | AH8: styl1 | AI8: wvr1 | AJ8: ftn2 | AK8: styl2 | AL8: wvr2 | AM8: pl. | AN8: pl.p. | AO8: ftn1 | AP8: styl1 | AQ8: wvr1 | AR8: ftn2 | AS8: styl2 | AT8: wvr2 | AU8: pl. | AV8: pl.p. | AW8: ftn1 | AX8: styl1 | AY8: wvr1 | AZ8: ftn2 | BA8: styl2 | BB8: wvr2 | BC8: pl. | BD8: pl.p. | BE8: pl.pnt | BF8: pl.pnt | BG8: pl.pnt | BH8: Afv. | BI8: Res. | BJ8: Afv. Regio | BK8: opmerking | BM8: ftn1 1e | BN8: styl1 1e | BO8: ftn2 1e | BP8: styl2 1e bar. | BQ8: 1e tot ftn | BR8: ftn1 2e | BS8: styl1 2e | BT8: ftn2 2e | BU8: styl2 2e bar. | BV8: 2e tot ftn | BW8: ftn1 3e | BX8: styl1 3e | BY8: ftn2 3e | BZ8: styl2 3e bar. | CA8: 3e tot ftn | CB8: ftn1 4e | CC8: styl1 4e | CD8: ftn2 4e | CE8: styl2 4e bar. | CF8: 4e tot ftn | CG8: ftn1 5e | CH8: styl1 5e | CI8: ftn2 5e | CJ8: styl2 5e bar. | CK8: 5e tot ftn | CL8: ftn1 6e | CM8: styl1 6e | CN8: ftn2 6e | CO8: styl2 6e bar. | CP8: 6e tot ftn
A9: 1 | B9: 1059507DO | C9: Lars Oostenenk | D9: Dino | E9: 0.50 -B | F9: Semper Fidelis, PC. | G9: 0 | H9: 70.5 | I9: 7 | J9: 0 | K9: 73 | L9: 7.5 | N9: 1 | BE9: =N9+W9+AF9+AN9+AV9+BD9 -> 1 | BG9: =BE9-BF9 -> 1 | BM9: =IF(G9>99,199,G9) -> 0 | BN9: =IF(H9="",0,H9) -> 70.5 | BO9: =IF(J9>99,199,J9) -> 0 | BP9: =IF(K9="",0,K9) -> 73 | BQ9: =BM9+BO9 -> 0 | BR9: =IF(O9>99,199,O9) -> 0 | BS9: =IF(P9="",0,P9) -> 0 | BT9: =IF(S9>99,199,S9) -> 0 | BU9: =IF(T9="",0,T9) -> 0 | BV9: =BR9+BT9 -> 0 | BW9: =IF(X9>99,199,X9) -> 0 | BX9: =IF(Y9="",0,Y9) -> 0 | BY9: =IF(AB9>99,199,AB9) -> 0 | BZ9: =IF(AC9="",0,AC9) -> 0 | CA9: =BW9+BY9 -> 0 | CB9: =IF(AG9>99,199,AG9) -> 0 | CC9: =IF(AH9="",0,AH9) -> 0 | CD9: =IF(AJ9>99,199,AJ9) -> 0 | CE9: =IF(AK9="",0,AK9) -> 0 | CF9: =CB9+CD9 -> 0 | CG9: =IF(AO9>99,199,AO9) -> 0 | CH9: =IF(AP9="",0,AP9) -> 0 | CI9: =IF(AR9>99,199,AR9) -> 0 | CJ9: =IF(AS9="",0,AS9) -> 0 | CK9: =CG9+CI9 -> 0 | CL9: =IF(AW9>99,199,AW9) -> 0 | CM9: =IF(AX9="",0,AX9) -> 0 | CN9: =IF(AZ9>99,199,AZ9) -> 0 | CO9: =IF(BA9="",0,BA9) -> 0 | CP9: =CL9+CN9 -> 0
A10: 2 | B10: 1065212ML | C10: Lyan Looman | D10: Mandy | E10: 0.50 -B | F10: Gorssel-Zutphen, PC. | G10: 18 | H10: 65 | I10: 6 | N10: 2

Sheet 60(AB)
A1: Selectie uitslagen
N2: 1 | W2: 2 | AF2: 3 | AN2: 4 | AV2: 5 | BD2: 6 | BE2: =N2+W2+AF2+AN2+AV2+BD2 -> 21 | BF2: =IF($O$4>0,(LARGE(($N2,$W2,$AF2,$AN2,$AV2,$BD2),1)),"0") -> 6 | BG2: =BE2-BF2 -> 15 | BH2: =IF($O$4>1,(LARGE(($N2,$W2,$AF2,$AN2,$AV2,$BD2),1))+(LARGE(($N2,$W2,$AF2,$AN2,$AV2,$BD2),2)),"0") -> 0 | BM2: =IF(G2>99,199,G2) -> 0 | BN2: =IF(H2="",0,H2) -> 0 | BO2: =IF(J2>99,199,J2) -> 0 | BP2: =IF(K2="",0,K2) -> 0 | BQ2: =BM2+BO2 -> 0 | BR2: =IF(O2>99,199,O2) -> 0 | BS2: =IF(P2="",0,P2) -> 0 | BT2: =IF(S2>99,199,S2) -> 0 | BU2: =IF(T2="",0,T2) -> 0 | BV2: =BR2+BT2 -> 0 | BW2: =IF(X2>99,199,X2) -> 0 | BX2: =IF(Y2="",0,Y2) -> 0 | BY2: =IF(AB2>99,199,AB2) -> 0 | BZ2: =IF(AC2="",0,AC2) -> 0 | CA2: =BW2+BY2 -> 0 | CB2: =IF(AG2>99,199,AG2) -> 0 | CC2: =IF(AH2="",0,AH2) -> 0 | CD2: =IF(AJ2>99,199,AJ2) -> 0 | CE2: =IF(AK2="",0,AK2) -> 0 | CF2: =CB2+CD2 -> 0 | CG2: =IF(AO2>99,199,AO2) -> 0 | CH2: =IF(AP2="",0,AP2) -> 0 | CI2: =IF(AR2>99,199,AR2) -> 0 | CJ2: =IF(AS2="",0,AS2) -> 0 | CK2: =CG2+CI2 -> 0 | CL2: =IF(AW2>99,199,AW2) -> 0 | CM2: =IF(AX2="",0,AX2) -> 0 | CN2: =IF(AZ2>99,199,AZ2) -> 0 | CO2: =IF(BA2="",0,BA2) -> 0 | CP2: =CL2+CN2 -> 0
A3: Kring: | C3: =Instellingen!B3 -> Kring Berkel IJssel | F3: Aantal afvaardiging Regio: | BE3: Aantal wedstrijden: | BI3: =Instellingen!B6 -> 3
A4: Klasse: | C4: 0.60 | F4: Aantal afval resultaten: | O4: =Instellingen!B7 -> 1
A5: Cat.: | C5: A / B | F5: Plaatsingspunten niet gestart: | O5: =Instellingen!B5 -> 99 | BE5: Aantal reserves: | BI5: 2
F6: Lokatie: | G6: =Instellingen!B40 -> Laag-Soeren | O6: =Instellingen!B41 -> Brummen | X6: =Instellingen!B42 -> Brummen | AG6: =Instellingen!B43 | AO6: =Instellingen!B44 | AW6: =Instellingen!B45 | BE6: Springen
F7: Datum: | G7: =Instellingen!C40 -> 18-10-2026 | O7: =Instellingen!C41 -> 6-12-2026 | X7: =Instellingen!C42 -> 10-1-2027 | AG7: =Instellingen!C43 | AO7: =Instellingen!C44 | AW7: =Instellingen!C45 | BE7: Tot. | BF7: afval | BG7: Beste
A8: Pl. | B8: Comb.nr. | C8: Ruiter/amazone | D8: Paard/pony | E8: kl. | F8: vereniging | G8: ftn1 | H8: styl1 | I8: wvr1 | J8: ftn2 | K8: styl2 | L8: wvr2 | M8: pl. | N8: pl.p. | O8: ftn1 | P8: styl1 | Q8: wvr1 | R8: pp1 | S8: ftn2 | T8: tijd1 | U8: pp2 | V8: pl. | W8: pl.p. | X8: ftn1 | Y8: styl1 | Z8: wvr1 | AA8: pp1 | AB8: ftn2 | AC8: tijd1 | AD8: pp2 | AE8: pl. | AF8: pl.p. | AG8: ftn1 | AH8: styl1 | AI8: wvr1 | AJ8: ftn2 | AK8: styl2 | AL8: wvr2 | AM8: pl. | AN8: pl.p. | AO8: ftn1 | AP8: styl1 | AQ8: wvr1 | AR8: ftn2 | AS8: styl2 | AT8: wvr2 | AU8: pl. | AV8: pl.p. | AW8: ftn1 | AX8: styl1 | AY8: wvr1 | AZ8: ftn2 | BA8: styl2 | BB8: wvr2 | BC8: pl. | BD8: pl.p. | BE8: pl.pnt | BF8: pl.pnt | BG8: pl.pnt | BH8: Afv. | BI8: Res. | BJ8: Afv. Regio | BK8: opmerking | BM8: ftn1 1e | BN8: styl1 1e | BO8: ftn2 1e | BP8: styl2 1e bar. | BQ8: 1e tot ftn | BR8: ftn1 2e | BS8: styl1 2e | BT8: ftn2 2e | BU8: styl2 2e bar. | BV8: 2e tot ftn | BW8: ftn1 3e | BX8: styl1 3e | BY8: ftn2 3e | BZ8: styl2 3e bar. | CA8: 3e tot ftn | CB8: ftn1 4e | CC8: styl1 4e | CD8: ftn2 4e | CE8: styl2 4e bar. | CF8: 4e tot ftn | CG8: ftn1 5e | CH8: styl1 5e | CI8: ftn2 5e | CJ8: styl2 5e bar. | CK8: 5e tot ftn | CL8: ftn1 6e | CM8: styl1 6e | CN8: ftn2 6e | CO8: styl2 6e bar. | CP8: 6e tot ftn
A9: 1 | B9: 1025578LH | C9: Annette Hamoen Kleerekooper | D9: Sitte Xagovia | E9: 0.60 -B | F9: Krimhoeve (PC), RSC de | G9: 0 | H9: 73 | I9: 7.5 | J9: 0 | K9: 73 | L9: 7.5 | N9: 1 | BE9: =N9+W9+AF9+AN9+AV9+BD9 -> 1 | BG9: =BE9-BF9 -> 1 | BM9: =IF(G9>99,199,G9) -> 0 | BN9: =IF(H9="",0,H9) -> 73 | BO9: =IF(J9>99,199,J9) -> 0 | BP9: =IF(K9="",0,K9) -> 73 | BQ9: =BM9+BO9 -> 0 | BR9: =IF(O9>99,199,O9) -> 0 | BS9: =IF(P9="",0,P9) -> 0 | BT9: =IF(S9>99,199,S9) -> 0 | BU9: =IF(T9="",0,T9) -> 0 | BV9: =BR9+BT9 -> 0 | BW9: =IF(X9>99,199,X9) -> 0 | BX9: =IF(Y9="",0,Y9) -> 0 | BY9: =IF(AB9>99,199,AB9) -> 0 | BZ9: =IF(AC9="",0,AC9) -> 0 | CA9: =BW9+BY9 -> 0 | CB9: =IF(AG9>99,199,AG9) -> 0 | CC9: =IF(AH9="",0,AH9) -> 0 | CD9: =IF(AJ9>99,199,AJ9) -> 0 | CE9: =IF(AK9="",0,AK9) -> 0 | CF9: =CB9+CD9 -> 0 | CG9: =IF(AO9>99,199,AO9) -> 0 | CH9: =IF(AP9="",0,AP9) -> 0 | CI9: =IF(AR9>99,199,AR9) -> 0 | CJ9: =IF(AS9="",0,AS9) -> 0 | CK9: =CG9+CI9 -> 0 | CL9: =IF(AW9>99,199,AW9) -> 0 | CM9: =IF(AX9="",0,AX9) -> 0 | CN9: =IF(AZ9>99,199,AZ9) -> 0 | CO9: =IF(BA9="",0,BA9) -> 0 | CP9: =CL9+CN9 -> 0

Sheet 70(AB)
A1: Selectie uitslagen
N2: 1 | V2: 2 | AD2: 3 | AL2: 4 | AT2: 5 | BB2: 6 | BC2: =N2+V2+AD2+AL2+AT2+BB2 -> 21 | BD2: =IF($O$4>0,(LARGE(($N2,$V2,$AD2,$AL2,$AT2,$BB2),1)),"0") -> 6 | BE2: =BC2-BD2 -> 15 | BF2: =IF($O$4>1,(LARGE(($N2,$V2,$AD2,$AL2,$AT2,$BB2),1))+(LARGE(($N2,$V2,$AD2,$AL2,$AT2,$BB2),2)),"0") -> 0 | BK2: =IF(G2>99,199,G2) -> 0 | BL2: =IF(H2>99,0,H2) -> 0 | BM2: =IF(J2>99,199,J2) -> 0 | BN2: =IF(K2>99,0,K2) -> 0 | BO2: =BK2+BM2 -> 0 | BP2: =IF(O2>99,199,O2) -> 0 | BQ2: =IF(P2>99,0,P2) -> 0 | BR2: =IF(R2>99,199,R2) -> 0 | BS2: =IF(S2>99,0,S2) -> 0 | BT2: =BP2+BR2 -> 0 | BU2: =IF(W2>99,199,W2) -> 0 | BV2: =IF(X2>99,0,X2) -> 0 | BW2: =IF(Z2>99,199,Z2) -> 0 | BX2: =IF(AA2>99,0,AA2) -> 0 | BY2: =BU2+BW2 -> 0 | BZ2: =IF(AE2>99,199,AE2) -> 0 | CA2: =IF(AF2>99,0,AF2) -> 0 | CB2: =IF(AH2>99,199,AH2) -> 0 | CC2: =IF(AI2>99,0,AI2) -> 0 | CD2: =BZ2+CB2 -> 0 | CE2: =IF(AM2>99,199,AM2) -> 0 | CF2: =IF(AN2>99,0,AN2) -> 0 | CG2: =IF(AP2>99,199,AP2) -> 0 | CH2: =IF(AQ2>99,0,AQ2) -> 0 | CI2: =CE2+CG2 -> 0 | CJ2: =IF(AU2>99,199,AU2) -> 0 | CK2: =IF(AV2>99,0,AV2) -> 0 | CL2: =IF(AX2>99,199,AX2) -> 0 | CM2: =IF(AY2>99,0,AY2) -> 0 | CN2: =CJ2+CL2 -> 0
A3: Kring: | C3: =Instellingen!B3 -> Kring Berkel IJssel | F3: Aantal afvaardiging Regio: | BC3: Aantal wedstrijden: | BG3: =Instellingen!B6 -> 3
A4: Klasse: | C4: 0.70 | F4: Aantal afval resultaten: | O4: =Instellingen!B7 -> 1
A5: Cat.: | C5: A / B | F5: Plaatsingspunten niet gestart: | O5: =Instellingen!B5 -> 99 | BC5: Aantal reserves: | BG5: 2
F6: Lokatie: | G6: =Instellingen!B40 -> Laag-Soeren | O6: =Instellingen!B41 -> Brummen | W6: =Instellingen!B42 -> Brummen | AE6: =Instellingen!B43 | AM6: =Instellingen!B44 | AU6: =Instellingen!B45 | BC6: Springen
F7: Datum: | G7: =Instellingen!C40 -> 18-10-2026 | O7: =Instellingen!C41 -> 6-12-2026 | W7: =Instellingen!C42 -> 10-1-2027 | AE7: =Instellingen!C43 | AM7: =Instellingen!C44 | AU7: =Instellingen!C45 | BC7: Tot. | BD7: afval | BE7: Beste
A8: Pl. | B8: Comb.nr. | C8: Ruiter/amazone | D8: Paard/pony | E8: kl. | F8: vereniging | G8: ftn1 | H8: tijd1 | I8: wvr1 | J8: ftn2 | K8: tijd2 | L8: wvr2 | M8: pl. | N8: pl.p. | O8: ftn1 | P8: tijd1 | Q8: wvr1 | R8: ftn2 | S8: tijd2 | T8: wvr2 | U8: pl. | V8: pl.p. | W8: ftn1 | X8: tijd1 | Y8: wvr1 | Z8: ftn2 | AA8: tijd2 | AB8: wvr2 | AC8: pl. | AD8: pl.p. | AE8: ftn1 | AF8: tijd1 | AG8: wvr1 | AH8: ftn2 | AI8: tijd2 | AJ8: wvr2 | AK8: pl. | AL8: pl.p. | AM8: ftn1 | AN8: tijd1 | AO8: wvr1 | AP8: ftn2 | AQ8: tijd2 | AR8: wvr2 | AS8: pl. | AT8: pl.p. | AU8: ftn1 | AV8: tijd1 | AW8: wvr1 | AX8: ftn2 | AY8: tijd2 | AZ8: wvr2 | BA8: pl. | BB8: pl.p. | BC8: pl.pnt | BD8: pl.pnt | BE8: pl.pnt | BF8: Afv. | BG8: Res. | BH8: Afv. Regio | BI8: opmerking | BK8: ftn1 1e | BL8: styl1 1e | BM8: ftn2 1e | BN8: styl2 1e bar. | BO8: 1e tot ftn | BP8: ftn1 2e | BQ8: styl1 2e | BR8: ftn2 2e | BS8: styl2 2e bar. | BT8: 2e tot ftn | BU8: ftn1 3e | BV8: styl1 3e | BW8: ftn2 3e | BX8: styl2 3e bar. | BY8: 3e tot ftn | BZ8: ftn1 4e | CA8: styl1 4e | CB8: ftn2 4e | CC8: styl2 4e bar. | CD8: 4e tot ftn | CE8: ftn1 5e | CF8: styl1 5e | CG8: ftn2 5e | CH8: styl2 5e bar. | CI8: 5e tot ftn | CJ8: ftn1 6e | CK8: styl1 6e | CL8: ftn2 6e | CM8: styl2 6e bar. | CN8: 6e tot ftn
BC9: =N9+V9+AD9+AL9+AT9+BB9 -> 0 | BE9: =BC9-BD9 -> 0 | BK9: =IF(G9>99,199,G9) -> 0 | BL9: =IF(H9>99,0,H9) -> 0 | BM9: =IF(J9>99,199,J9) -> 0 | BN9: =IF(K9>99,0,K9) -> 0 | BO9: =BK9+BM9 -> 0 | BP9: =IF(O9>99,199,O9) -> 0 | BQ9: =IF(P9>99,0,P9) -> 0 | BR9: =IF(R9>99,199,R9) -> 0 | BS9: =IF(S9>99,0,S9) -> 0 | BT9: =BP9+BR9 -> 0 | BU9: =IF(W9>99,199,W9) -> 0 | BV9: =IF(X9>99,0,X9) -> 0 | BW9: =IF(Z9>99,199,Z9) -> 0 | BX9: =IF(AA9>99,0,AA9) -> 0 | BY9: =BU9+BW9 -> 0 | BZ9: =IF(AE9>99,199,AE9) -> 0 | CA9: =IF(AF9>99,0,AF9) -> 0 | CB9: =IF(AH9>99,199,AH9) -> 0 | CC9: =IF(AI9>99,0,AI9) -> 0 | CD9: =BZ9+CB9 -> 0 | CE9: =IF(AM9>99,199,AM9) -> 0 | CF9: =IF(AN9>99,0,AN9) -> 0 | CG9: =IF(AP9>99,199,AP9) -> 0 | CH9: =IF(AQ9>99,0,AQ9) -> 0 | CI9: =CE9+CG9 -> 0 | CJ9: =IF(AU9>99,199,AU9) -> 0 | CK9: =IF(AV9>99,0,AV9) -> 0 | CL9: =IF(AX9>99,199,AX9) -> 0 | CM9: =IF(AY9>99,0,AY9) -> 0 | CN9: =CJ9+CL9 -> 0

Sheet 60(C)
A1: Selectie uitslagen
N2: 1 | W2: 2 | AF2: 3 | AN2: 4 | AV2: 5 | BD2: 6 | BE2: =N2+W2+AF2+AN2+AV2+BD2 -> 21 | BF2: =IF($O$4>0,(LARGE(($N2,$W2,$AF2,$AN2,$AV2,$BD2),1)),"0") -> 6 | BG2: =BE2-BF2 -> 15 | BH2: =IF($O$4>1,(LARGE(($N2,$W2,$AF2,$AN2,$AV2,$BD2),1))+(LARGE(($N2,$W2,$AF2,$AN2,$AV2,$BD2),2)),"0") -> 0 | BM2: =IF(G2>99,199,G2) -> 0 | BN2: =IF(H2="",0,H2) -> 0 | BO2: =IF(J2>99,199,J2) -> 0 | BP2: =IF(K2="",0,K2) -> 0 | BQ2: =BM2+BO2 -> 0 | BR2: =IF(O2>99,199,O2) -> 0 | BS2: =IF(P2="",0,P2) -> 0 | BT2: =IF(S2>99,199,S2) -> 0 | BU2: =IF(T2="",0,T2) -> 0 | BV2: =BR2+BT2 -> 0 | BW2: =IF(X2>99,199,X2) -> 0 | BX2: =IF(Y2="",0,Y2) -> 0 | BY2: =IF(AB2>99,199,AB2) -> 0 | BZ2: =IF(AC2="",0,AC2) -> 0 | CA2: =BW2+BY2 -> 0 | CB2: =IF(AG2>99,199,AG2) -> 0 | CC2: =IF(AH2="",0,AH2) -> 0 | CD2: =IF(AJ2>99,199,AJ2) -> 0 | CE2: =IF(AK2="",0,AK2) -> 0 | CF2: =CB2+CD2 -> 0 | CG2: =IF(AO2>99,199,AO2) -> 0 | CH2: =IF(AP2="",0,AP2) -> 0 | CI2: =IF(AR2>99,199,AR2) -> 0 | CJ2: =IF(AS2="",0,AS2) -> 0 | CK2: =CG2+CI2 -> 0 | CL2: =IF(AW2>99,199,AW2) -> 0 | CM2: =IF(AX2="",0,AX2) -> 0 | CN2: =IF(AZ2>99,199,AZ2) -> 0 | CO2: =IF(BA2="",0,BA2) -> 0 | CP2: =CL2+CN2 -> 0
A3: Kring: | C3: =Instellingen!B3 -> Kring Berkel IJssel | F3: Aantal afvaardiging Regio: | BE3: Aantal wedstrijden: | BI3: =Instellingen!B6 -> 3
A4: Klasse: | C4: 0.60 | F4: Aantal afval resultaten: | O4: =Instellingen!B7 -> 1
A5: Cat.: | C5: C | F5: Plaatsingspunten niet gestart: | O5: =Instellingen!B5 -> 99 | BE5: Aantal reserves: | BI5: 2
F6: Lokatie: | G6: =Instellingen!B40 -> Laag-Soeren | O6: =Instellingen!B41 -> Brummen | X6: =Instellingen!B42 -> Brummen | AG6: =Instellingen!B43 | AO6: =Instellingen!B44 | AW6: =Instellingen!B45 | BE6: Springen
F7: Datum: | G7: =Instellingen!C40 -> 18-10-2026 | O7: =Instellingen!C41 -> 6-12-2026 | X7: =Instellingen!C42 -> 10-1-2027 | AG7: =Instellingen!C43 | AO7: =Instellingen!C44 | AW7: =Instellingen!C45 | BE7: Tot. | BF7: afval | BG7: Beste
A8: Pl. | B8: Comb.nr. | C8: Ruiter/amazone | D8: Paard/pony | E8: kl. | F8: vereniging | G8: ftn1 | H8: styl1 | I8: wvr1 | J8: ftn2 | K8: styl2 | L8: wvr2 | M8: pl. | N8: pl.p. | O8: ftn1 | P8: styl1 | Q8: wvr1 | R8: pp1 | S8: ftn2 | T8: tijd1 | U8: pp2 | V8: pl. | W8: pl.p. | X8: ftn1 | Y8: styl1 | Z8: wvr1 | AA8: pp1 | AB8: ftn2 | AC8: tijd1 | AD8: pp2 | AE8: pl. | AF8: pl.p. | AG8: ftn1 | AH8: styl1 | AI8: wvr1 | AJ8: ftn2 | AK8: styl2 | AL8: wvr2 | AM8: pl. | AN8: pl.p. | AO8: ftn1 | AP8: styl1 | AQ8: wvr1 | AR8: ftn2 | AS8: styl2 | AT8: wvr2 | AU8: pl. | AV8: pl.p. | AW8: ftn1 | AX8: styl1 | AY8: wvr1 | AZ8: ftn2 | BA8: styl2 | BB8: wvr2 | BC8: pl. | BD8: pl.p. | BE8: pl.pnt | BF8: pl.pnt | BG8: pl.pnt | BH8: Afv. | BI8: Res. | BJ8: Afv. Regio | BK8: opmerking | BM8: ftn1 1e | BN8: styl1 1e | BO8: ftn2 1e | BP8: styl2 1e bar. | BQ8: 1e tot ftn | BR8: ftn1 2e | BS8: styl1 2e | BT8: ftn2 2e | BU8: styl2 2e bar. | BV8: 2e tot ftn | BW8: ftn1 3e | BX8: styl1 3e | BY8: ftn2 3e | BZ8: styl2 3e bar. | CA8: 3e tot ftn | CB8: ftn1 4e | CC8: styl1 4e | CD8: ftn2 4e | CE8: styl2 4e bar. | CF8: 4e tot ftn | CG8: ftn1 5e | CH8: styl1 5e | CI8: ftn2 5e | CJ8: styl2 5e bar. | CK8: 5e tot ftn | CL8: ftn1 6e | CM8: styl1 6e | CN8: ftn2 6e | CO8: styl2 6e bar. | CP8: 6e tot ftn
A9: 1 | B9: 1064999CO | C9: Maud Oostenenk | D9: Caeli | E9: 0.60 -C | F9: Semper Fidelis, PC. | G9: 0 | H9: 77 | I9: 7.5 | J9: 0 | K9: 77 | L9: 7.5 | N9: 1 | AE9: 90 | BE9: =N9+W9+AF9+AN9+AV9+BD9 -> 1 | BF9: =IF($O$4>0,(LARGE(($N9,$W9,$AF9,$AN9,$AV9,$BD9),1)),"0") -> 1 | BM9: =IF(G9>99,199,G9) -> 0 | BN9: =IF(H9="",0,H9) -> 77 | BO9: =IF(J9>99,199,J9) -> 0 | BP9: =IF(K9="",0,K9) -> 77 | BQ9: =BM9+BO9 -> 0 | BR9: =IF(O9>99,199,O9) -> 0 | BS9: =IF(P9="",0,P9) -> 0 | BT9: =IF(S9>99,199,S9) -> 0 | BU9: =IF(T9="",0,T9) -> 0 | BV9: =BR9+BT9 -> 0 | BW9: =IF(X9>99,199,X9) -> 0 | BX9: =IF(Y9="",0,Y9) -> 0 | BY9: =IF(AB9>99,199,AB9) -> 0 | BZ9: =IF(AC9="",0,AC9) -> 0 | CA9: =BW9+BY9 -> 0 | CB9: =IF(AG9>99,199,AG9) -> 0 | CC9: =IF(AH9="",0,AH9) -> 0 | CD9: =IF(AJ9>99,199,AJ9) -> 0 | CE9: =IF(AK9="",0,AK9) -> 0 | CF9: =CB9+CD9 -> 0 | CG9: =IF(AO9>99,199,AO9) -> 0 | CH9: =IF(AP9="",0,AP9) -> 0 | CI9: =IF(AR9>99,199,AR9) -> 0 | CJ9: =IF(AS9="",0,AS9) -> 0 | CK9: =CG9+CI9 -> 0 | CL9: =IF(AW9>99,199,AW9) -> 0 | CM9: =IF(AX9="",0,AX9) -> 0 | CN9: =IF(AZ9>99,199,AZ9) -> 0 | CO9: =IF(BA9="",0,BA9) -> 0 | CP9: =CL9+CN9 -> 0
A10: 2 | B10: 1039100BN | C10: Naomi Nooteboom | D10: Blue Forest Genius Boy | E10: 0.60 -C | F10: Oortveldruiters, PC. De | G10: 0 | H10: 70 | I10: 7 | J10: 0 | K10: 71 | L10: 7 | N10: 2 | AE10: 90 | BE10: =N10+W10+AF10+AN10+AV10+BD10 -> 2 | BF10: =IF($O$4>0,(LARGE(($N10,$W10,$AF10,$AN10,$AV10,$BD10),1)),"0") -> 2 | BM10: =IF(G10>99,199,G10) -> 0 | BN10: =IF(H10="",0,H10) -> 70 | BO10: =IF(J10>99,199,J10) -> 0 | BP10: =IF(K10="",0,K10) -> 71 | BQ10: =BM10+BO10 -> 0 | BR10: =IF(O10>99,199,O10) -> 0 | BS10: =IF(P10="",0,P10) -> 0 | BT10: =IF(S10>99,199,S10) -> 0 | BU10: =IF(T10="",0,T10) -> 0 | BV10: =BR10+BT10 -> 0 | BW10: =IF(X10>99,199,X10) -> 0 | BX10: =IF(Y10="",0,Y10) -> 0 | BY10: =IF(AB10>99,199,AB10) -> 0 | BZ10: =IF(AC10="",0,AC10) -> 0 | CA10: =BW10+BY10 -> 0 | CB10: =IF(AG10>99,199,AG10) -> 0 | CC10: =IF(AH10="",0,AH10) -> 0 | CD10: =IF(AJ10>99,199,AJ10) -> 0 | CE10: =IF(AK10="",0,AK10) -> 0 | CF10: =CB10+CD10 -> 0 | CG10: =IF(AO10>99,199,AO10) -> 0 | CH10: =IF(AP10="",0,AP10) -> 0 | CI10: =IF(AR10>99,199,AR10) -> 0 | CJ10: =IF(AS10="",0,AS10) -> 0 | CK10: =CG10+CI10 -> 0 | CL10: =IF(AW10>99,199,AW10) -> 0 | CM10: =IF(AX10="",0,AX10) -> 0 | CN10: =IF(AZ10>99,199,AZ10) -> 0 | CO10: =IF(BA10="",0,BA10) -> 0 | CP10: =CL10+CN10 -> 0
A11: 3 | B11: 1062708DO | C11: Saar Onderwaater | D11: Deudericks Mister Noble FP | E11: 0.60 -C | F11: IJsselruiters, PC. De | G11: 4 | H11: 75 | I11: 7.5 | N11: 3

Sheet 70(C)
A1: Selectie uitslagen
O2: 1 | X2: 2 | AG2: 3 | AO2: 4 | AW2: 5 | BE2: 6 | BF2: =O2+X2+AG2+AO2+AW2+BE2 -> 21 | BG2: =IF($P$4>0,(LARGE(($O2,$X2,$AG2,$AO2,$AW2,$BE2),1)),"0") -> 6 | BH2: =BF2-BG2 -> 15 | BI2: =IF($P$4>1,(LARGE(($O2,$X2,$AG2,$AO2,$AW2,$BE2),1))+(LARGE(($O2,$X2,$AG2,$AO2,$AW2,$BE2),2)),"0") -> 0 | BN2: =IF(G2>99,199,G2) -> 0 | BO2: =IF(H2="",0,H2) -> 0 | BP2: =IF(K2>99,199,K2) -> 0 | BQ2: =IF(L2="",0,L2) -> 0 | BR2: =BN2+BP2 -> 0 | BS2: =IF(P2>99,199,P2) -> 0 | BT2: =IF(Q2="",0,Q2) -> 0 | BU2: =IF(T2>99,199,T2) -> 0 | BV2: =IF(U2="",0,U2) -> 0 | BW2: =BS2+BU2 -> 0 | BX2: =IF(Y2>99,199,Y2) -> 0 | BY2: =IF(Z2="",0,Z2) -> 0 | BZ2: =IF(AC2>99,199,AC2) -> 0 | CA2: =IF(AD2="",0,AD2) -> 0 | CB2: =BX2+BZ2 -> 0 | CC2: =IF(AH2>99,199,AH2) -> 0 | CD2: =IF(AI2="",0,AI2) -> 0 | CE2: =IF(AK2>99,199,AK2) -> 0 | CF2: =IF(AL2="",0,AL2) -> 0 | CG2: =CC2+CE2 -> 0 | CH2: =IF(AP2>99,199,AP2) -> 0 | CI2: =IF(AQ2="",0,AQ2) -> 0 | CJ2: =IF(AS2>99,199,AS2) -> 0 | CK2: =IF(AT2="",0,AT2) -> 0 | CL2: =CH2+CJ2 -> 0 | CM2: =IF(AX2>99,199,AX2) -> 0 | CN2: =IF(AY2="",0,AY2) -> 0 | CO2: =IF(BA2>99,199,BA2) -> 0 | CP2: =IF(BB2="",0,BB2) -> 0 | CQ2: =CM2+CO2 -> 0
A3: Kring: | C3: =Instellingen!B3 -> Kring Berkel IJssel | F3: Aantal afvaardiging Regio: | BF3: Aantal wedstrijden: | BJ3: =Instellingen!B6 -> 3
A4: Klasse: | C4: 0.70 | F4: Aantal afval resultaten: | P4: =Instellingen!B7 -> 1
A5: Cat.: | C5: C | F5: Plaatsingspunten niet gestart: | P5: =Instellingen!B5 -> 99 | BF5: Aantal reserves: | BJ5: 2
F6: Lokatie: | G6: =Instellingen!B40 -> Laag-Soeren | P6: =Instellingen!B41 -> Brummen | Y6: =Instellingen!B42 -> Brummen | AH6: =Instellingen!B43 | AP6: =Instellingen!B44 | AX6: =Instellingen!B45 | BF6: Springen
F7: Datum: | G7: =Instellingen!C40 -> 18-10-2026 | P7: =Instellingen!C41 -> 6-12-2026 | Y7: =Instellingen!C42 -> 10-1-2027 | AH7: =Instellingen!C43 | AP7: =Instellingen!C44 | AX7: =Instellingen!C45 | BF7: Tot. | BG7: afval | BH7: Beste
A8: Pl. | B8: Comb.nr. | C8: Ruiter/amazone | D8: Paard/pony | E8: kl. | F8: vereniging | G8: ftn1 | H8: styl1 | I8: wvr1 | J8: pp1 | K8: ftn2 | L8: tijd1 | M8: pp2 | N8: pl. | O8: pl.p. | P8: ftn1 | Q8: styl1 | R8: wvr1 | S8: pp1 | T8: ftn2 | U8: tijd1 | V8: pp2 | W8: pl. | X8: pl.p. | Y8: ftn1 | Z8: styl1 | AA8: wvr1 | AB8: pp1 | AC8: ftn2 | AD8: tijd1 | AE8: pp2 | AF8: pl. | AG8: pl.p. | AH8: ftn1 | AI8: styl1 | AJ8: wvr1 | AK8: ftn2 | AL8: styl2 | AM8: wvr2 | AN8: pl. | AO8: pl.p. | AP8: ftn1 | AQ8: styl1 | AR8: wvr1 | AS8: ftn2 | AT8: styl2 | AU8: wvr2 | AV8: pl. | AW8: pl.p. | AX8: ftn1 | AY8: styl1 | AZ8: wvr1 | BA8: ftn2 | BB8: styl2 | BC8: wvr2 | BD8: pl. | BE8: pl.p. | BF8: pl.pnt | BG8: pl.pnt | BH8: pl.pnt | BI8: Afv. | BJ8: Res. | BK8: Afv. Regio | BL8: opmerking | BN8: ftn1 1e | BO8: styl1 1e | BP8: ftn2 1e | BQ8: styl2 1e bar. | BR8: 1e tot ftn | BS8: ftn1 2e | BT8: styl1 2e | BU8: ftn2 2e | BV8: styl2 2e bar. | BW8: 2e tot ftn | BX8: ftn1 3e | BY8: styl1 3e | BZ8: ftn2 3e | CA8: styl2 3e bar. | CB8: 3e tot ftn | CC8: ftn1 4e | CD8: styl1 4e | CE8: ftn2 4e | CF8: styl2 4e bar. | CG8: 4e tot ftn | CH8: ftn1 5e | CI8: styl1 5e | CJ8: ftn2 5e | CK8: styl2 5e bar. | CL8: 5e tot ftn | CM8: ftn1 6e | CN8: styl1 6e | CO8: ftn2 6e | CP8: styl2 6e bar. | CQ8: 6e tot ftn
A9: 1 | B9: 1053200WO | C9: Maud Oostenenk | D9: Wellmoors Black Prince | E9: 0.70 -C | F9: Semper Fidelis, PC. | G9: 0 | H9: 77.5 | I9: 7.5 | J9: 1 | K9: 0 | L9: 31.45 | M9: 1 | N9: 2 | O9: 1 | AF9: 90 | BF9: =O9+X9+AG9+AO9+AW9+BE9 -> 1 | BG9: =IF($P$4>0,(LARGE(($O9,$X9,$AG9,$AO9,$AW9,$BE9),1)),"0") -> 1 | BN9: =IF(G9>99,199,G9) -> 0 | BO9: =IF(H9="",0,H9) -> 77.5 | BP9: =IF(K9>99,199,K9) -> 0 | BQ9: =IF(L9="",0,L9) -> 31.45 | BR9: =BN9+BP9 -> 0 | BS9: =IF(P9>99,199,P9) -> 0 | BT9: =IF(Q9="",0,Q9) -> 0 | BU9: =IF(T9>99,199,T9) -> 0 | BV9: =IF(U9="",0,U9) -> 0 | BW9: =BS9+BU9 -> 0 | BX9: =IF(Y9>99,199,Y9) -> 0 | BY9: =IF(Z9="",0,Z9) -> 0 | BZ9: =IF(AC9>99,199,AC9) -> 0 | CA9: =IF(AD9="",0,AD9) -> 0 | CB9: =BX9+BZ9 -> 0 | CC9: =IF(AH9>99,199,AH9) -> 0 | CD9: =IF(AI9="",0,AI9) -> 0 | CE9: =IF(AK9>99,199,AK9) -> 0 | CF9: =IF(AL9="",0,AL9) -> 0 | CG9: =CC9+CE9 -> 0 | CH9: =IF(AP9>99,199,AP9) -> 0 | CI9: =IF(AQ9="",0,AQ9) -> 0 | CJ9: =IF(AS9>99,199,AS9) -> 0 | CK9: =IF(AT9="",0,AT9) -> 0 | CL9: =CH9+CJ9 -> 0 | CM9: =IF(AX9>99,199,AX9) -> 0 | CN9: =IF(AY9="",0,AY9) -> 0 | CO9: =IF(BA9>99,199,BA9) -> 0 | CP9: =IF(BB9="",0,BB9) -> 0 | CQ9: =CM9+CO9 -> 0
A10: 2 | B10: 1043475BN | C10: Reza Nooteboom | D10: Blue Forest Genius Boy | E10: 0.70 -C | F10: Oortveldruiters, PC. De | G10: 4 | H10: 71 | I10: 7 | J10: 2 | O10: 2 | AF10: 90 | BF10: =O10+X10+AG10+AO10+AW10+BE10 -> 2 | BG10: =IF($P$4>0,(LARGE(($O10,$X10,$AG10,$AO10,$AW10,$BE10),1)),"0") -> 2 | BN10: =IF(G10>99,199,G10) -> 4 | BO10: =IF(H10="",0,H10) -> 71 | BP10: =IF(K10>99,199,K10) -> 0 | BQ10: =IF(L10="",0,L10) -> 0 | BR10: =BN10+BP10 -> 4 | BS10: =IF(P10>99,199,P10) -> 0 | BT10: =IF(Q10="",0,Q10) -> 0 | BU10: =IF(T10>99,199,T10) -> 0 | BV10: =IF(U10="",0,U10) -> 0 | BW10: =BS10+BU10 -> 0 | BX10: =IF(Y10>99,199,Y10) -> 0 | BY10: =IF(Z10="",0,Z10) -> 0 | BZ10: =IF(AC10>99,199,AC10) -> 0 | CA10: =IF(AD10="",0,AD10) -> 0 | CB10: =BX10+BZ10 -> 0 | CC10: =IF(AH10>99,199,AH10) -> 0 | CD10: =IF(AI10="",0,AI10) -> 0 | CE10: =IF(AK10>99,199,AK10) -> 0 | CF10: =IF(AL10="",0,AL10) -> 0 | CG10: =CC10+CE10 -> 0 | CH10: =IF(AP10>99,199,AP10) -> 0 | CI10: =IF(AQ10="",0,AQ10) -> 0 | CJ10: =IF(AS10>99,199,AS10) -> 0 | CK10: =IF(AT10="",0,AT10) -> 0 | CL10: =CH10+CJ10 -> 0 | CM10: =IF(AX10>99,199,AX10) -> 0 | CN10: =IF(AY10="",0,AY10) -> 0 | CO10: =IF(BA10>99,199,BA10) -> 0 | CP10: =IF(BB10="",0,BB10) -> 0 | CQ10: =CM10+CO10 -> 0

Sheet 80(C)
A1: Selectie uitslagen
N2: 1 | V2: 2 | AD2: 3 | AL2: 4 | AT2: 5 | BB2: 6 | BC2: =N2+V2+AD2+AL2+AT2+BB2 -> 21 | BD2: =IF($O$4>0,(LARGE(($N2,$V2,$AD2,$AL2,$AT2,$BB2),1)),"0") -> 6 | BE2: =BC2-BD2 -> 15 | BF2: =IF($O$4>1,(LARGE(($N2,$V2,$AD2,$AL2,$AT2,$BB2),1))+(LARGE(($N2,$V2,$AD2,$AL2,$AT2,$BB2),2)),"0") -> 0 | BK2: =IF(G2>99,199,G2) -> 0 | BL2: =IF(H2>99,0,H2) -> 0 | BM2: =IF(J2>99,199,J2) -> 0 | BN2: =IF(K2>99,0,K2) -> 0 | BO2: =BK2+BM2 -> 0 | BP2: =IF(O2>99,199,O2) -> 0 | BQ2: =IF(P2>99,0,P2) -> 0 | BR2: =IF(R2>99,199,R2) -> 0 | BS2: =IF(S2>99,0,S2) -> 0 | BT2: =BP2+BR2 -> 0 | BU2: =IF(W2>99,199,W2) -> 0 | BV2: =IF(X2>99,0,X2) -> 0 | BW2: =IF(Z2>99,199,Z2) -> 0 | BX2: =IF(AA2>99,0,AA2) -> 0 | BY2: =BU2+BW2 -> 0 | BZ2: =IF(AE2>99,199,AE2) -> 0 | CA2: =IF(AF2>99,0,AF2) -> 0 | CB2: =IF(AH2>99,199,AH2) -> 0 | CC2: =IF(AI2>99,0,AI2) -> 0 | CD2: =BZ2+CB2 -> 0 | CE2: =IF(AM2>99,199,AM2) -> 0 | CF2: =IF(AN2>99,0,AN2) -> 0 | CG2: =IF(AP2>99,199,AP2) -> 0 | CH2: =IF(AQ2>99,0,AQ2) -> 0 | CI2: =CE2+CG2 -> 0 | CJ2: =IF(AU2>99,199,AU2) -> 0 | CK2: =IF(AV2>99,0,AV2) -> 0 | CL2: =IF(AX2>99,199,AX2) -> 0 | CM2: =IF(AY2>99,0,AY2) -> 0 | CN2: =CJ2+CL2 -> 0
A3: Kring: | C3: =Instellingen!B3 -> Kring Berkel IJssel | F3: Aantal afvaardiging Regio: | BC3: Aantal wedstrijden: | BG3: =Instellingen!B6 -> 3
A4: Klasse: | C4: 0.80 | F4: Aantal afval resultaten: | O4: =Instellingen!B7 -> 1
A5: Cat.: | C5: C | F5: Plaatsingspunten niet gestart: | O5: =Instellingen!B5 -> 99 | BC5: Aantal reserves: | BG5: 2
F6: Lokatie: | G6: =Instellingen!B40 -> Laag-Soeren | O6: =Instellingen!B41 -> Brummen | W6: =Instellingen!B42 -> Brummen | AE6: =Instellingen!B43 | AM6: =Instellingen!B44 | AU6: =Instellingen!B45 | BC6: Springen
F7: Datum: | G7: =Instellingen!C40 -> 18-10-2026 | O7: =Instellingen!C41 -> 6-12-2026 | W7: =Instellingen!C42 -> 10-1-2027 | AE7: =Instellingen!C43 | AM7: =Instellingen!C44 | AU7: =Instellingen!C45 | BC7: Tot. | BD7: afval | BE7: Beste
A8: Pl. | B8: Comb.nr. | C8: Ruiter/amazone | D8: Paard/pony | E8: kl. | F8: vereniging | G8: ftn1 | H8: tijd1 | I8: wvr1 | J8: ftn2 | K8: tijd2 | L8: wvr2 | M8: pl. | N8: pl.p. | O8: ftn1 | P8: tijd1 | Q8: wvr1 | R8: ftn2 | S8: tijd2 | T8: wvr2 | U8: pl. | V8: pl.p. | W8: ftn1 | X8: tijd1 | Y8: wvr1 | Z8: ftn2 | AA8: tijd2 | AB8: wvr2 | AC8: pl. | AD8: pl.p. | AE8: ftn1 | AF8: tijd1 | AG8: wvr1 | AH8: ftn2 | AI8: tijd2 | AJ8: wvr2 | AK8: pl. | AL8: pl.p. | AM8: ftn1 | AN8: tijd1 | AO8: wvr1 | AP8: ftn2 | AQ8: tijd2 | AR8: wvr2 | AS8: pl. | AT8: pl.p. | AU8: ftn1 | AV8: tijd1 | AW8: wvr1 | AX8: ftn2 | AY8: tijd2 | AZ8: wvr2 | BA8: pl. | BB8: pl.p. | BC8: pl.pnt | BD8: pl.pnt | BE8: pl.pnt | BF8: Afv. | BG8: Res. | BH8: Afv. Regio | BI8: opmerking | BK8: ftn1 1e | BL8: styl1 1e | BM8: ftn2 1e | BN8: styl2 1e bar. | BO8: 1e tot ftn | BP8: ftn1 2e | BQ8: styl1 2e | BR8: ftn2 2e | BS8: styl2 2e bar. | BT8: 2e tot ftn | BU8: ftn1 3e | BV8: styl1 3e | BW8: ftn2 3e | BX8: styl2 3e bar. | BY8: 3e tot ftn | BZ8: ftn1 4e | CA8: styl1 4e | CB8: ftn2 4e | CC8: styl2 4e bar. | CD8: 4e tot ftn | CE8: ftn1 5e | CF8: styl1 5e | CG8: ftn2 5e | CH8: styl2 5e bar. | CI8: 5e tot ftn | CJ8: ftn1 6e | CK8: styl1 6e | CL8: ftn2 6e | CM8: styl2 6e bar. | CN8: 6e tot ftn
BC9: =N9+V9+AD9+AL9+AT9+BB9 -> 0 | BE9: =BC9-BD9 -> 0 | BK9: =IF(G9>99,199,G9) -> 0 | BL9: =IF(H9>99,0,H9) -> 0 | BM9: =IF(J9>99,199,J9) -> 0 | BN9: =IF(K9>99,0,K9) -> 0 | BO9: =BK9+BM9 -> 0 | BP9: =IF(O9>99,199,O9) -> 0 | BQ9: =IF(P9>99,0,P9) -> 0 | BR9: =IF(R9>99,199,R9) -> 0 | BS9: =IF(S9>99,0,S9) -> 0 | BT9: =BP9+BR9 -> 0 | BU9: =IF(W9>99,199,W9) -> 0 | BV9: =IF(X9>99,0,X9) -> 0 | BW9: =IF(Z9>99,199,Z9) -> 0 | BX9: =IF(AA9>99,0,AA9) -> 0 | BY9: =BU9+BW9 -> 0 | BZ9: =IF(AE9>99,199,AE9) -> 0 | CA9: =IF(AF9>99,0,AF9) -> 0 | CB9: =IF(AH9>99,199,AH9) -> 0 | CC9: =IF(AI9>99,0,AI9) -> 0 | CD9: =BZ9+CB9 -> 0 | CE9: =IF(AM9>99,199,AM9) -> 0 | CF9: =IF(AN9>99,0,AN9) -> 0 | CG9: =IF(AP9>99,199,AP9) -> 0 | CH9: =IF(AQ9>99,0,AQ9) -> 0 | CI9: =CE9+CG9 -> 0 | CJ9: =IF(AU9>99,199,AU9) -> 0 | CK9: =IF(AV9>99,0,AV9) -> 0 | CL9: =IF(AX9>99,199,AX9) -> 0 | CM9: =IF(AY9>99,0,AY9) -> 0 | CN9: =CJ9+CL9 -> 0

Sheet 70(DE)
A1: Selectie uitslagen
O2: 1 | X2: 2 | AG2: 3 | AO2: 4 | AW2: 5 | BE2: 6 | BF2: =O2+X2+AG2+AO2+AW2+BE2 -> 21 | BG2: =IF($P$4>0,(LARGE(($O2,$X2,$AG2,$AO2,$AW2,$BE2),1)),"0") -> 6 | BH2: =BF2-BG2 -> 15 | BI2: =IF($P$4>1,(LARGE(($O2,$X2,$AG2,$AO2,$AW2,$BE2),1))+(LARGE(($O2,$X2,$AG2,$AO2,$AW2,$BE2),2)),"0") -> 0 | BN2: =IF(G2>99,199,G2) -> 0 | BO2: =IF(H2="",0,H2) -> 0 | BP2: =IF(K2>99,199,K2) -> 0 | BQ2: =IF(L2="",0,L2) -> 0 | BR2: =BN2+BP2 -> 0 | BS2: =IF(P2>99,199,P2) -> 0 | BT2: =IF(Q2="",0,Q2) -> 0 | BU2: =IF(T2>99,199,T2) -> 0 | BV2: =IF(U2="",0,U2) -> 0 | BW2: =BS2+BU2 -> 0 | BX2: =IF(Y2>99,199,Y2) -> 0 | BY2: =IF(Z2="",0,Z2) -> 0 | BZ2: =IF(AC2>99,199,AC2) -> 0 | CA2: =IF(AD2="",0,AD2) -> 0 | CB2: =BX2+BZ2 -> 0 | CC2: =IF(AH2>99,199,AH2) -> 0 | CD2: =IF(AI2="",0,AI2) -> 0 | CE2: =IF(AK2>99,199,AK2) -> 0 | CF2: =IF(AL2="",0,AL2) -> 0 | CG2: =CC2+CE2 -> 0 | CH2: =IF(AP2>99,199,AP2) -> 0 | CI2: =IF(AQ2="",0,AQ2) -> 0 | CJ2: =IF(AS2>99,199,AS2) -> 0 | CK2: =IF(AT2="",0,AT2) -> 0 | CL2: =CH2+CJ2 -> 0 | CM2: =IF(AX2>99,199,AX2) -> 0 | CN2: =IF(AY2="",0,AY2) -> 0 | CO2: =IF(BA2>99,199,BA2) -> 0 | CP2: =IF(BB2="",0,BB2) -> 0 | CQ2: =CM2+CO2 -> 0
A3: Kring: | C3: =Instellingen!B3 -> Kring Berkel IJssel | F3: Aantal afvaardiging Regio: | BF3: Aantal wedstrijden: | BJ3: =Instellingen!B6 -> 3
A4: Klasse: | C4: 0.70 | F4: Aantal afval resultaten: | P4: =Instellingen!B7 -> 1
A5: Cat.: | C5: D / E | F5: Plaatsingspunten niet gestart: | P5: =Instellingen!B5 -> 99 | BF5: Aantal reserves: | BJ5: 2
F6: Lokatie: | G6: =Instellingen!B40 -> Laag-Soeren | P6: =Instellingen!B41 -> Brummen | Y6: =Instellingen!B42 -> Brummen | AH6: =Instellingen!B43 | AP6: =Instellingen!B44 | AX6: =Instellingen!B45 | BF6: Springen
F7: Datum: | G7: =Instellingen!C40 -> 18-10-2026 | P7: =Instellingen!C41 -> 6-12-2026 | Y7: =Instellingen!C42 -> 10-1-2027 | AH7: =Instellingen!C43 | AP7: =Instellingen!C44 | AX7: =Instellingen!C45 | BF7: Tot. | BG7: afval | BH7: Beste
A8: Pl. | B8: Comb.nr. | C8: Ruiter/amazone | D8: Paard/pony | E8: kl. | F8: vereniging | G8: ftn1 | H8: styl1 | I8: wvr1 | J8: pp1 | K8: ftn2 | L8: tijd1 | M8: pp2 | N8: pl. | O8: pl.p. | P8: ftn1 | Q8: styl1 | R8: wvr1 | S8: pp1 | T8: ftn2 | U8: tijd1 | V8: pp2 | W8: pl. | X8: pl.p. | Y8: ftn1 | Z8: styl1 | AA8: wvr1 | AB8: pp1 | AC8: ftn2 | AD8: tijd1 | AE8: pp2 | AF8: pl. | AG8: pl.p. | AH8: ftn1 | AI8: styl1 | AJ8: wvr1 | AK8: ftn2 | AL8: styl2 | AM8: wvr2 | AN8: pl. | AO8: pl.p. | AP8: ftn1 | AQ8: styl1 | AR8: wvr1 | AS8: ftn2 | AT8: styl2 | AU8: wvr2 | AV8: pl. | AW8: pl.p. | AX8: ftn1 | AY8: styl1 | AZ8: wvr1 | BA8: ftn2 | BB8: styl2 | BC8: wvr2 | BD8: pl. | BE8: pl.p. | BF8: pl.pnt | BG8: pl.pnt | BH8: pl.pnt | BI8: Afv. | BJ8: Res. | BK8: Afv. Regio | BL8: opmerking | BN8: ftn1 1e | BO8: styl1 1e | BP8: ftn2 1e | BQ8: styl2 1e bar. | BR8: 1e tot ftn | BS8: ftn1 2e | BT8: styl1 2e | BU8: ftn2 2e | BV8: styl2 2e bar. | BW8: 2e tot ftn | BX8: ftn1 3e | BY8: styl1 3e | BZ8: ftn2 3e | CA8: styl2 3e bar. | CB8: 3e tot ftn | CC8: ftn1 4e | CD8: styl1 4e | CE8: ftn2 4e | CF8: styl2 4e bar. | CG8: 4e tot ftn | CH8: ftn1 5e | CI8: styl1 5e | CJ8: ftn2 5e | CK8: styl2 5e bar. | CL8: 5e tot ftn | CM8: ftn1 6e | CN8: styl1 6e | CO8: ftn2 6e | CP8: styl2 6e bar. | CQ8: 6e tot ftn
A9: 1 | B9: 1006797OB | C9: Maud Born | D9: Orchard Blue Dragon | E9: 0.70 -D | F9: Ppsv. Bussloo, PC. | G9: 0 | H9: 78 | I9: 8 | J9: 1 | K9: 0 | L9: 42.72 | M9: 3 | N9: 4 | O9: 1 | BF9: =O9+X9+AG9+AO9+AW9+BE9 -> 1 | BG9: =IF($P$4>0,(LARGE(($O9,$X9,$AG9,$AO9,$AW9,$BE9),1)),"0") -> 1 | BH9: =BF9-BG9 -> 0 | BN9: =IF(G9>99,199,G9) -> 0 | BO9: =IF(H9="",0,H9) -> 78 | BP9: =IF(K9>99,199,K9) -> 0 | BQ9: =IF(L9="",0,L9) -> 42.72 | BR9: =BN9+BP9 -> 0 | BS9: =IF(P9>99,199,P9) -> 0 | BT9: =IF(Q9="",0,Q9) -> 0 | BU9: =IF(T9>99,199,T9) -> 0 | BV9: =IF(U9="",0,U9) -> 0 | BW9: =BS9+BU9 -> 0 | BX9: =IF(Y9>99,199,Y9) -> 0 | BY9: =IF(Z9="",0,Z9) -> 0 | BZ9: =IF(AC9>99,199,AC9) -> 0 | CA9: =IF(AD9="",0,AD9) -> 0 | CB9: =BX9+BZ9 -> 0 | CC9: =IF(AH9>99,199,AH9) -> 0 | CD9: =IF(AI9="",0,AI9) -> 0 | CE9: =IF(AK9>99,199,AK9) -> 0 | CF9: =IF(AL9="",0,AL9) -> 0 | CG9: =CC9+CE9 -> 0 | CH9: =IF(AP9>99,199,AP9) -> 0 | CI9: =IF(AQ9="",0,AQ9) -> 0 | CJ9: =IF(AS9>99,199,AS9) -> 0 | CK9: =IF(AT9="",0,AT9) -> 0 | CL9: =CH9+CJ9 -> 0 | CM9: =IF(AX9>99,199,AX9) -> 0 | CN9: =IF(AY9="",0,AY9) -> 0 | CO9: =IF(BA9>99,199,BA9) -> 0 | CP9: =IF(BB9="",0,BB9) -> 0 | CQ9: =CM9+CO9 -> 0
A10: 2 | B10: 1022800DG | C10: Elin Gerritsen | D10: Diamond's Dio | E10: 0.70 -D | F10: Graafschap, PC. De | G10: 0 | H10: 77 | I10: 7.5 | J10: 2 | K10: 0 | L10: 40.14 | M10: 2 | N10: 4 | O10: 2 | BF10: =O10+X10+AG10+AO10+AW10+BE10 -> 2 | BG10: =IF($P$4>0,(LARGE(($O10,$X10,$AG10,$AO10,$AW10,$BE10),1)),"0") -> 2 | BH10: =BF10-BG10 -> 0 | BN10: =IF(G10>99,199,G10) -> 0 | BO10: =IF(H10="",0,H10) -> 77 | BP10: =IF(K10>99,199,K10) -> 0 | BQ10: =IF(L10="",0,L10) -> 40.14 | BR10: =BN10+BP10 -> 0 | BS10: =IF(P10>99,199,P10) -> 0 | BT10: =IF(Q10="",0,Q10) -> 0 | BU10: =IF(T10>99,199,T10) -> 0 | BV10: =IF(U10="",0,U10) -> 0 | BW10: =BS10+BU10 -> 0 | BX10: =IF(Y10>99,199,Y10) -> 0 | BY10: =IF(Z10="",0,Z10) -> 0 | BZ10: =IF(AC10>99,199,AC10) -> 0 | CA10: =IF(AD10="",0,AD10) -> 0 | CB10: =BX10+BZ10 -> 0 | CC10: =IF(AH10>99,199,AH10) -> 0 | CD10: =IF(AI10="",0,AI10) -> 0 | CE10: =IF(AK10>99,199,AK10) -> 0 | CF10: =IF(AL10="",0,AL10) -> 0 | CG10: =CC10+CE10 -> 0 | CH10: =IF(AP10>99,199,AP10) -> 0 | CI10: =IF(AQ10="",0,AQ10) -> 0 | CJ10: =IF(AS10>99,199,AS10) -> 0 | CK10: =IF(AT10="",0,AT10) -> 0 | CL10: =CH10+CJ10 -> 0 | CM10: =IF(AX10>99,199,AX10) -> 0 | CN10: =IF(AY10="",0,AY10) -> 0 | CO10: =IF(BA10>99,199,BA10) -> 0 | CP10: =IF(BB10="",0,BB10) -> 0 | CQ10: =CM10+CO10 -> 0
A11: 3 | B11: 1070300BK | C11: Kiki Peters | D11: Breukrechts Storm | E11: 0.70 -D | F11: Gorssel-Zutphen, PC. | G11: 0 | H11: 70.5 | I11: 7 | J11: 4 | K11: 0 | L11: 34.4 | M11: 1 | N11: 5 | O11: 3 | BF11: =O11+X11+AG11+AO11+AW11+BE11 -> 3 | BG11: =IF($P$4>0,(LARGE(($O11,$X11,$AG11,$AO11,$AW11,$BE11),1)),"0") -> 3 | BH11: =BF11-BG11 -> 0 | BN11: =IF(G11>99,199,G11) -> 0 | BO11: =IF(H11="",0,H11) -> 70.5 | BP11: =IF(K11>99,199,K11) -> 0 | BQ11: =IF(L11="",0,L11) -> 34.4 | BR11: =BN11+BP11 -> 0 | BS11: =IF(P11>99,199,P11) -> 0 | BT11: =IF(Q11="",0,Q11) -> 0 | BU11: =IF(T11>99,199,T11) -> 0 | BV11: =IF(U11="",0,U11) -> 0 | BW11: =BS11+BU11 -> 0 | BX11: =IF(Y11>99,199,Y11) -> 0 | BY11: =IF(Z11="",0,Z11) -> 0 | BZ11: =IF(AC11>99,199,AC11) -> 0 | CA11: =IF(AD11="",0,AD11) -> 0 | CB11: =BX11+BZ11 -> 0 | CC11: =IF(AH11>99,199,AH11) -> 0 | CD11: =IF(AI11="",0,AI11) -> 0 | CE11: =IF(AK11>99,199,AK11) -> 0 | CF11: =IF(AL11="",0,AL11) -> 0 | CG11: =CC11+CE11 -> 0 | CH11: =IF(AP11>99,199,AP11) -> 0 | CI11: =IF(AQ11="",0,AQ11) -> 0 | CJ11: =IF(AS11>99,199,AS11) -> 0 | CK11: =IF(AT11="",0,AT11) -> 0 | CL11: =CH11+CJ11 -> 0 | CM11: =IF(AX11>99,199,AX11) -> 0 | CN11: =IF(AY11="",0,AY11) -> 0 | CO11: =IF(BA11>99,199,BA11) -> 0 | CP11: =IF(BB11="",0,BB11) -> 0 | CQ11: =CM11+CO11 -> 0
A12: 4 | B12: 1065001HO | C12: Sven Oostenenk | D12: Hazelberg's Something Special | E12: 0.70 -D | F12: Semper Fidelis, PC. | G12: 0 | H12: 72.5 | I12: 7 | J12: 3 | K12: 4 | L12: 51.41 | M12: 4 | N12: 7 | O12: 4 | BF12: =O12+X12+AG12+AO12+AW12+BE12 -> 4 | BG12: =IF($P$4>0,(LARGE(($O12,$X12,$AG12,$AO12,$AW12,$BE12),1)),"0") -> 4 | BH12: =BF12-BG12 -> 0 | BN12: =IF(G12>99,199,G12) -> 0 | BO12: =IF(H12="",0,H12) -> 72.5 | BP12: =IF(K12>99,199,K12) -> 4 | BQ12: =IF(L12="",0,L12) -> 51.41 | BR12: =BN12+BP12 -> 4 | BS12: =IF(P12>99,199,P12) -> 0 | BT12: =IF(Q12="",0,Q12) -> 0 | BU12: =IF(T12>99,199,T12) -> 0 | BV12: =IF(U12="",0,U12) -> 0 | BW12: =BS12+BU12 -> 0 | BX12: =IF(Y12>99,199,Y12) -> 0 | BY12: =IF(Z12="",0,Z12) -> 0 | BZ12: =IF(AC12>99,199,AC12) -> 0 | CA12: =IF(AD12="",0,AD12) -> 0 | CB12: =BX12+BZ12 -> 0 | CC12: =IF(AH12>99,199,AH12) -> 0 | CD12: =IF(AI12="",0,AI12) -> 0 | CE12: =IF(AK12>99,199,AK12) -> 0 | CF12: =IF(AL12="",0,AL12) -> 0 | CG12: =CC12+CE12 -> 0 | CH12: =IF(AP12>99,199,AP12) -> 0 | CI12: =IF(AQ12="",0,AQ12) -> 0 | CJ12: =IF(AS12>99,199,AS12) -> 0 | CK12: =IF(AT12="",0,AT12) -> 0 | CL12: =CH12+CJ12 -> 0 | CM12: =IF(AX12>99,199,AX12) -> 0 | CN12: =IF(AY12="",0,AY12) -> 0 | CO12: =IF(BA12>99,199,BA12) -> 0 | CP12: =IF(BB12="",0,BB12) -> 0 | CQ12: =CM12+CO12 -> 0
A13: 5 | B13: 1065732OK | C13: Lorrèn Krabbenborg | D13: Lucky Charm | E13: 0.70 -D | F13: Gorssel-Zutphen, PC. | G13: 4 | H13: 72 | I13: 7 | J13: 5 | O13: 5 | BF13: =O13+X13+AG13+AO13+AW13+BE13 -> 5 | BG13: =IF($P$4>0,(LARGE(($O13,$X13,$AG13,$AO13,$AW13,$BE13),1)),"0") -> 5 | BH13: =BF13-BG13 -> 0 | BN13: =IF(G13>99,199,G13) -> 4 | BO13: =IF(H13="",0,H13) -> 72 | BP13: =IF(K13>99,199,K13) -> 0 | BQ13: =IF(L13="",0,L13) -> 0 | BR13: =BN13+BP13 -> 4 | BS13: =IF(P13>99,199,P13) -> 0 | BT13: =IF(Q13="",0,Q13) -> 0 | BU13: =IF(T13>99,199,T13) -> 0 | BV13: =IF(U13="",0,U13) -> 0 | BW13: =BS13+BU13 -> 0 | BX13: =IF(Y13>99,199,Y13) -> 0 | BY13: =IF(Z13="",0,Z13) -> 0 | BZ13: =IF(AC13>99,199,AC13) -> 0 | CA13: =IF(AD13="",0,AD13) -> 0 | CB13: =BX13+BZ13 -> 0 | CC13: =IF(AH13>99,199,AH13) -> 0 | CD13: =IF(AI13="",0,AI13) -> 0 | CE13: =IF(AK13>99,199,AK13) -> 0 | CF13: =IF(AL13="",0,AL13) -> 0 | CG13: =CC13+CE13 -> 0 | CH13: =IF(AP13>99,199,AP13) -> 0 | CI13: =IF(AQ13="",0,AQ13) -> 0 | CJ13: =IF(AS13>99,199,AS13) -> 0 | CK13: =IF(AT13="",0,AT13) -> 0 | CL13: =CH13+CJ13 -> 0 | CM13: =IF(AX13>99,199,AX13) -> 0 | CN13: =IF(AY13="",0,AY13) -> 0 | CO13: =IF(BA13>99,199,BA13) -> 0 | CP13: =IF(BB13="",0,BB13) -> 0 | CQ13: =CM13+CO13 -> 0
A14: 6 | B14: 1064921MF | C14: Giuliana Finke | D14: Molenberg's Lorenzo | E14: 0.70 -D | F14: Oortveldruiters, PC. De | G14: 4 | H14: 71 | I14: 7 | J14: 6 | O14: 6 | BF14: =O14+X14+AG14+AO14+AW14+BE14 -> 6 | BG14: =IF($P$4>0,(LARGE(($O14,$X14,$AG14,$AO14,$AW14,$BE14),1)),"0") -> 6 | BH14: =BF14-BG14 -> 0 | BN14: =IF(G14>99,199,G14) -> 4 | BO14: =IF(H14="",0,H14) -> 71 | BP14: =IF(K14>99,199,K14) -> 0 | BQ14: =IF(L14="",0,L14) -> 0 | BR14: =BN14+BP14 -> 4 | BS14: =IF(P14>99,199,P14) -> 0 | BT14: =IF(Q14="",0,Q14) -> 0 | BU14: =IF(T14>99,199,T14) -> 0 | BV14: =IF(U14="",0,U14) -> 0 | BW14: =BS14+BU14 -> 0 | BX14: =IF(Y14>99,199,Y14) -> 0 | BY14: =IF(Z14="",0,Z14) -> 0 | BZ14: =IF(AC14>99,199,AC14) -> 0 | CA14: =IF(AD14="",0,AD14) -> 0 | CB14: =BX14+BZ14 -> 0 | CC14: =IF(AH14>99,199,AH14) -> 0 | CD14: =IF(AI14="",0,AI14) -> 0 | CE14: =IF(AK14>99,199,AK14) -> 0 | CF14: =IF(AL14="",0,AL14) -> 0 | CG14: =CC14+CE14 -> 0 | CH14: =IF(AP14>99,199,AP14) -> 0 | CI14: =IF(AQ14="",0,AQ14) -> 0 | CJ14: =IF(AS14>99,199,AS14) -> 0 | CK14: =IF(AT14="",0,AT14) -> 0 | CL14: =CH14+CJ14 -> 0 | CM14: =IF(AX14>99,199,AX14) -> 0 | CN14: =IF(AY14="",0,AY14) -> 0 | CO14: =IF(BA14>99,199,BA14) -> 0 | CP14: =IF(BB14="",0,BB14) -> 0 | CQ14: =CM14+CO14 -> 0
A15: 7 | B15: 1058547DG | C15: Elin Gerritsen | D15: Dancing Queen | E15: 0.70 -D | F15: Graafschap, PC. De | G15: 8 | H15: 67.5 | I15: 6.5 | J15: 7 | O15: 7 | BF15: =O15+X15+AG15+AO15+AW15+BE15 -> 7 | BG15: =IF($P$4>0,(LARGE(($O15,$X15,$AG15,$AO15,$AW15,$BE15),1)),"0") -> 7 | BH15: =BF15-BG15 -> 0 | BN15: =IF(G15>99,199,G15) -> 8 | BO15: =IF(H15="",0,H15) -> 67.5 | BP15: =IF(K15>99,199,K15) -> 0 | BQ15: =IF(L15="",0,L15) -> 0 | BR15: =BN15+BP15 -> 8 | BS15: =IF(P15>99,199,P15) -> 0 | BT15: =IF(Q15="",0,Q15) -> 0 | BU15: =IF(T15>99,199,T15) -> 0 | BV15: =IF(U15="",0,U15) -> 0 | BW15: =BS15+BU15 -> 0 | BX15: =IF(Y15>99,199,Y15) -> 0 | BY15: =IF(Z15="",0,Z15) -> 0 | BZ15: =IF(AC15>99,199,AC15) -> 0 | CA15: =IF(AD15="",0,AD15) -> 0 | CB15: =BX15+BZ15 -> 0 | CC15: =IF(AH15>99,199,AH15) -> 0 | CD15: =IF(AI15="",0,AI15) -> 0 | CE15: =IF(AK15>99,199,AK15) -> 0 | CF15: =IF(AL15="",0,AL15) -> 0 | CG15: =CC15+CE15 -> 0 | CH15: =IF(AP15>99,199,AP15) -> 0 | CI15: =IF(AQ15="",0,AQ15) -> 0 | CJ15: =IF(AS15>99,199,AS15) -> 0 | CK15: =IF(AT15="",0,AT15) -> 0 | CL15: =CH15+CJ15 -> 0 | CM15: =IF(AX15>99,199,AX15) -> 0 | CN15: =IF(AY15="",0,AY15) -> 0 | CO15: =IF(BA15>99,199,BA15) -> 0 | CP15: =IF(BB15="",0,BB15) -> 0 | CQ15: =CM15+CO15 -> 0
A16: 8 | B16: 992610JV | C16: Zoë Veldhuis | D16: Jagger | E16: 0.70 -D | F16: Oortveldruiters, PC. De | G16: 13 | H16: 67.5 | I16: 6.5 | J16: 8 | O16: 8 | BF16: =O16+X16+AG16+AO16+AW16+BE16 -> 8 | BG16: =IF($P$4>0,(LARGE(($O16,$X16,$AG16,$AO16,$AW16,$BE16),1)),"0") -> 8 | BH16: =BF16-BG16 -> 0 | BN16: =IF(G16>99,199,G16) -> 13 | BO16: =IF(H16="",0,H16) -> 67.5 | BP16: =IF(K16>99,199,K16) -> 0 | BQ16: =IF(L16="",0,L16) -> 0 | BR16: =BN16+BP16 -> 13 | BS16: =IF(P16>99,199,P16) -> 0 | BT16: =IF(Q16="",0,Q16) -> 0 | BU16: =IF(T16>99,199,T16) -> 0 | BV16: =IF(U16="",0,U16) -> 0 | BW16: =BS16+BU16 -> 0 | BX16: =IF(Y16>99,199,Y16) -> 0 | BY16: =IF(Z16="",0,Z16) -> 0 | BZ16: =IF(AC16>99,199,AC16) -> 0 | CA16: =IF(AD16="",0,AD16) -> 0 | CB16: =BX16+BZ16 -> 0 | CC16: =IF(AH16>99,199,AH16) -> 0 | CD16: =IF(AI16="",0,AI16) -> 0 | CE16: =IF(AK16>99,199,AK16) -> 0 | CF16: =IF(AL16="",0,AL16) -> 0 | CG16: =CC16+CE16 -> 0 | CH16: =IF(AP16>99,199,AP16) -> 0 | CI16: =IF(AQ16="",0,AQ16) -> 0 | CJ16: =IF(AS16>99,199,AS16) -> 0 | CK16: =IF(AT16="",0,AT16) -> 0 | CL16: =CH16+CJ16 -> 0 | CM16: =IF(AX16>99,199,AX16) -> 0 | CN16: =IF(AY16="",0,AY16) -> 0 | CO16: =IF(BA16>99,199,BA16) -> 0 | CP16: =IF(BB16="",0,BB16) -> 0 | CQ16: =CM16+CO16 -> 0
A17: 9 | B17: 1034586CJ | C17: Sam de Jong | D17: Chika | E17: 0.70 -D | F17: Veluwezoom (HSV.), PC. De | G17: 17 | H17: 71 | I17: 7 | J17: 9 | O17: 9 | BF17: =O17+X17+AG17+AO17+AW17+BE17 -> 9 | BG17: =IF($P$4>0,(LARGE(($O17,$X17,$AG17,$AO17,$AW17,$BE17),1)),"0") -> 9 | BH17: =BF17-BG17 -> 0 | BN17: =IF(G17>99,199,G17) -> 17 | BO17: =IF(H17="",0,H17) -> 71 | BP17: =IF(K17>99,199,K17) -> 0 | BQ17: =IF(L17="",0,L17) -> 0 | BR17: =BN17+BP17 -> 17 | BS17: =IF(P17>99,199,P17) -> 0 | BT17: =IF(Q17="",0,Q17) -> 0 | BU17: =IF(T17>99,199,T17) -> 0 | BV17: =IF(U17="",0,U17) -> 0 | BW17: =BS17+BU17 -> 0 | BX17: =IF(Y17>99,199,Y17) -> 0 | BY17: =IF(Z17="",0,Z17) -> 0 | BZ17: =IF(AC17>99,199,AC17) -> 0 | CA17: =IF(AD17="",0,AD17) -> 0 | CB17: =BX17+BZ17 -> 0 | CC17: =IF(AH17>99,199,AH17) -> 0 | CD17: =IF(AI17="",0,AI17) -> 0 | CE17: =IF(AK17>99,199,AK17) -> 0 | CF17: =IF(AL17="",0,AL17) -> 0 | CG17: =CC17+CE17 -> 0 | CH17: =IF(AP17>99,199,AP17) -> 0 | CI17: =IF(AQ17="",0,AQ17) -> 0 | CJ17: =IF(AS17>99,199,AS17) -> 0 | CK17: =IF(AT17="",0,AT17) -> 0 | CL17: =CH17+CJ17 -> 0 | CM17: =IF(AX17>99,199,AX17) -> 0 | CN17: =IF(AY17="",0,AY17) -> 0 | CO17: =IF(BA17>99,199,BA17) -> 0 | CP17: =IF(BB17="",0,BB17) -> 0 | CQ17: =CM17+CO17 -> 0
A18: 10 | B18: 1053203IR | C18: Lauren Ruiterkamp | D18: Indy | E18: 0.70 -D | F18: Graafschap, PC. De | G18: 21 | H18: 67.5 | I18: 6.5 | J18: 10 | O18: 10 | BF18: =O18+X18+AG18+AO18+AW18+BE18 -> 10 | BG18: =IF($P$4>0,(LARGE(($O18,$X18,$AG18,$AO18,$AW18,$BE18),1)),"0") -> 10 | BH18: =BF18-BG18 -> 0 | BN18: =IF(G18>99,199,G18) -> 21 | BO18: =IF(H18="",0,H18) -> 67.5 | BP18: =IF(K18>99,199,K18) -> 0 | BQ18: =IF(L18="",0,L18) -> 0 | BR18: =BN18+BP18 -> 21 | BS18: =IF(P18>99,199,P18) -> 0 | BT18: =IF(Q18="",0,Q18) -> 0 | BU18: =IF(T18>99,199,T18) -> 0 | BV18: =IF(U18="",0,U18) -> 0 | BW18: =BS18+BU18 -> 0 | BX18: =IF(Y18>99,199,Y18) -> 0 | BY18: =IF(Z18="",0,Z18) -> 0 | BZ18: =IF(AC18>99,199,AC18) -> 0 | CA18: =IF(AD18="",0,AD18) -> 0 | CB18: =BX18+BZ18 -> 0 | CC18: =IF(AH18>99,199,AH18) -> 0 | CD18: =IF(AI18="",0,AI18) -> 0 | CE18: =IF(AK18>99,199,AK18) -> 0 | CF18: =IF(AL18="",0,AL18) -> 0 | CG18: =CC18+CE18 -> 0 | CH18: =IF(AP18>99,199,AP18) -> 0 | CI18: =IF(AQ18="",0,AQ18) -> 0 | CJ18: =IF(AS18>99,199,AS18) -> 0 | CK18: =IF(AT18="",0,AT18) -> 0 | CL18: =CH18+CJ18 -> 0 | CM18: =IF(AX18>99,199,AX18) -> 0 | CN18: =IF(AY18="",0,AY18) -> 0 | CO18: =IF(BA18>99,199,BA18) -> 0 | CP18: =IF(BB18="",0,BB18) -> 0 | CQ18: =CM18+CO18 -> 0
A19: 11 | B19: 1066459ED | C19: Vera Dooper | D19: Eline V.D. Damsingel | E19: 0.70 -D | F19: IJsselruiters, PC. De | G19: Uit2 | O19: 11 | BF19: =O19+X19+AG19+AO19+AW19+BE19 -> 11 | BG19: =IF($P$4>0,(LARGE(($O19,$X19,$AG19,$AO19,$AW19,$BE19),1)),"0") -> 11 | BH19: =BF19-BG19 -> 0 | BN19: =IF(G19>99,199,G19) -> 199 | BO19: =IF(H19="",0,H19) -> 0 | BP19: =IF(K19>99,199,K19) -> 0 | BQ19: =IF(L19="",0,L19) -> 0 | BR19: =BN19+BP19 -> 199 | BS19: =IF(P19>99,199,P19) -> 0 | BT19: =IF(Q19="",0,Q19) -> 0 | BU19: =IF(T19>99,199,T19) -> 0 | BV19: =IF(U19="",0,U19) -> 0 | BW19: =BS19+BU19 -> 0 | BX19: =IF(Y19>99,199,Y19) -> 0 | BY19: =IF(Z19="",0,Z19) -> 0 | BZ19: =IF(AC19>99,199,AC19) -> 0 | CA19: =IF(AD19="",0,AD19) -> 0 | CB19: =BX19+BZ19 -> 0 | CC19: =IF(AH19>99,199,AH19) -> 0 | CD19: =IF(AI19="",0,AI19) -> 0 | CE19: =IF(AK19>99,199,AK19) -> 0 | CF19: =IF(AL19="",0,AL19) -> 0 | CG19: =CC19+CE19 -> 0 | CH19: =IF(AP19>99,199,AP19) -> 0 | CI19: =IF(AQ19="",0,AQ19) -> 0 | CJ19: =IF(AS19>99,199,AS19) -> 0 | CK19: =IF(AT19="",0,AT19) -> 0 | CL19: =CH19+CJ19 -> 0 | CM19: =IF(AX19>99,199,AX19) -> 0 | CN19: =IF(AY19="",0,AY19) -> 0 | CO19: =IF(BA19>99,199,BA19) -> 0 | CP19: =IF(BB19="",0,BB19) -> 0 | CQ19: =CM19+CO19 -> 0
A20: 11 | B20: 1027773HL | C20: Kiki Langenhof | D20: Hoekhorst Greda | E20: 0.70 -D | F20: Graafschap, PC. De | G20: Uit2 | O20: 11

Sheet 80(DE)
A1: Selectie uitslagen
O2: 1 | X2: 2 | AG2: 3 | AO2: 4 | AW2: 5 | BE2: 6 | BF2: =O2+X2+AG2+AO2+AW2+BE2 -> 21 | BG2: =IF($P$4>0,(LARGE(($O2,$X2,$AG2,$AO2,$AW2,$BE2),1)),"0") -> 6 | BH2: =BF2-BG2 -> 15 | BI2: =IF($P$4>1,(LARGE(($O2,$X2,$AG2,$AO2,$AW2,$BE2),1))+(LARGE(($O2,$X2,$AG2,$AO2,$AW2,$BE2),2)),"0") -> 0 | BN2: =IF(G2>99,199,G2) -> 0 | BO2: =IF(H2="",0,H2) -> 0 | BP2: =IF(K2>99,199,K2) -> 0 | BQ2: =IF(L2="",0,L2) -> 0 | BR2: =BN2+BP2 -> 0 | BS2: =IF(P2>99,199,P2) -> 0 | BT2: =IF(Q2="",0,Q2) -> 0 | BU2: =IF(T2>99,199,T2) -> 0 | BV2: =IF(U2="",0,U2) -> 0 | BW2: =BS2+BU2 -> 0 | BX2: =IF(Y2>99,199,Y2) -> 0 | BY2: =IF(Z2="",0,Z2) -> 0 | BZ2: =IF(AC2>99,199,AC2) -> 0 | CA2: =IF(AD2="",0,AD2) -> 0 | CB2: =BX2+BZ2 -> 0 | CC2: =IF(AH2>99,199,AH2) -> 0 | CD2: =IF(AI2="",0,AI2) -> 0 | CE2: =IF(AK2>99,199,AK2) -> 0 | CF2: =IF(AL2="",0,AL2) -> 0 | CG2: =CC2+CE2 -> 0 | CH2: =IF(AP2>99,199,AP2) -> 0 | CI2: =IF(AQ2="",0,AQ2) -> 0 | CJ2: =IF(AS2>99,199,AS2) -> 0 | CK2: =IF(AT2="",0,AT2) -> 0 | CL2: =CH2+CJ2 -> 0 | CM2: =IF(AX2>99,199,AX2) -> 0 | CN2: =IF(AY2="",0,AY2) -> 0 | CO2: =IF(BA2>99,199,BA2) -> 0 | CP2: =IF(BB2="",0,BB2) -> 0 | CQ2: =CM2+CO2 -> 0
A3: Kring: | C3: =Instellingen!B3 -> Kring Berkel IJssel | F3: Aantal afvaardiging Regio: | BF3: Aantal wedstrijden: | BJ3: =Instellingen!B6 -> 3
A4: Klasse: | C4: 0.80 | F4: Aantal afval resultaten: | P4: =Instellingen!B7 -> 1
A5: Cat.: | C5: D / E | F5: Plaatsingspunten niet gestart: | P5: =Instellingen!B5 -> 99 | BF5: Aantal reserves: | BJ5: 2
F6: Lokatie: | G6: =Instellingen!B40 -> Laag-Soeren | P6: =Instellingen!B41 -> Brummen | Y6: =Instellingen!B42 -> Brummen | AH6: =Instellingen!B43 | AP6: =Instellingen!B44 | AX6: =Instellingen!B45 | BF6: Springen
F7: Datum: | G7: =Instellingen!C40 -> 18-10-2026 | P7: =Instellingen!C41 -> 6-12-2026 | Y7: =Instellingen!C42 -> 10-1-2027 | AH7: =Instellingen!C43 | AP7: =Instellingen!C44 | AX7: =Instellingen!C45 | BF7: Tot. | BG7: afval | BH7: Beste
A8: Pl. | B8: Comb.nr. | C8: Ruiter/amazone | D8: Paard/pony | E8: kl. | F8: vereniging | G8: ftn1 | H8: styl1 | I8: wvr1 | J8: pp1 | K8: ftn2 | L8: tijd1 | M8: pp2 | N8: pl. | O8: pl.p. | P8: ftn1 | Q8: styl1 | R8: wvr1 | S8: pp1 | T8: ftn2 | U8: tijd1 | V8: pp2 | W8: pl. | X8: pl.p. | Y8: ftn1 | Z8: styl1 | AA8: wvr1 | AB8: pp1 | AC8: ftn2 | AD8: tijd1 | AE8: pp2 | AF8: pl. | AG8: pl.p. | AH8: ftn1 | AI8: styl1 | AJ8: wvr1 | AK8: ftn2 | AL8: styl2 | AM8: wvr2 | AN8: pl. | AO8: pl.p. | AP8: ftn1 | AQ8: styl1 | AR8: wvr1 | AS8: ftn2 | AT8: styl2 | AU8: wvr2 | AV8: pl. | AW8: pl.p. | AX8: ftn1 | AY8: styl1 | AZ8: wvr1 | BA8: ftn2 | BB8: styl2 | BC8: wvr2 | BD8: pl. | BE8: pl.p. | BF8: pl.pnt | BG8: pl.pnt | BH8: pl.pnt | BI8: Afv. | BJ8: Res. | BK8: Afv. Regio | BL8: opmerking | BN8: ftn1 1e | BO8: styl1 1e | BP8: ftn2 1e | BQ8: styl2 1e bar. | BR8: 1e tot ftn | BS8: ftn1 2e | BT8: styl1 2e | BU8: ftn2 2e | BV8: styl2 2e bar. | BW8: 2e tot ftn | BX8: ftn1 3e | BY8: styl1 3e | BZ8: ftn2 3e | CA8: styl2 3e bar. | CB8: 3e tot ftn | CC8: ftn1 4e | CD8: styl1 4e | CE8: ftn2 4e | CF8: styl2 4e bar. | CG8: 4e tot ftn | CH8: ftn1 5e | CI8: styl1 5e | CJ8: ftn2 5e | CK8: styl2 5e bar. | CL8: 5e tot ftn | CM8: ftn1 6e | CN8: styl1 6e | CO8: ftn2 6e | CP8: styl2 6e bar. | CQ8: 6e tot ftn
A9: 1 | B9: 1040812OL | C9: Cato Lenting | D9: Officier | E9: 0.80 -D | F9: Gorssel-Zutphen, PC. | G9: 0 | H9: 77.5 | I9: 7.5 | J9: 2 | K9: 0 | L9: 37.86 | M9: 1 | N9: 3 | O9: 1 | BF9: =O9+X9+AG9+AO9+AW9+BE9 -> 1 | BG9: =IF($P$4>0,(LARGE(($O9,$X9,$AG9,$AO9,$AW9,$BE9),1)),"0") -> 1 | BH9: =BF9-BG9 -> 0 | BN9: =IF(G9>99,199,G9) -> 0 | BO9: =IF(H9="",0,H9) -> 77.5 | BP9: =IF(K9>99,199,K9) -> 0 | BQ9: =IF(L9="",0,L9) -> 37.86 | BR9: =BN9+BP9 -> 0 | BS9: =IF(P9>99,199,P9) -> 0 | BT9: =IF(Q9="",0,Q9) -> 0 | BU9: =IF(T9>99,199,T9) -> 0 | BV9: =IF(U9="",0,U9) -> 0 | BW9: =BS9+BU9 -> 0 | BX9: =IF(Y9>99,199,Y9) -> 0 | BY9: =IF(Z9="",0,Z9) -> 0 | BZ9: =IF(AC9>99,199,AC9) -> 0 | CA9: =IF(AD9="",0,AD9) -> 0 | CB9: =BX9+BZ9 -> 0 | CC9: =IF(AH9>99,199,AH9) -> 0 | CD9: =IF(AI9="",0,AI9) -> 0 | CE9: =IF(AK9>99,199,AK9) -> 0 | CF9: =IF(AL9="",0,AL9) -> 0 | CG9: =CC9+CE9 -> 0 | CH9: =IF(AP9>99,199,AP9) -> 0 | CI9: =IF(AQ9="",0,AQ9) -> 0 | CJ9: =IF(AS9>99,199,AS9) -> 0 | CK9: =IF(AT9="",0,AT9) -> 0 | CL9: =CH9+CJ9 -> 0 | CM9: =IF(AX9>99,199,AX9) -> 0 | CN9: =IF(AY9="",0,AY9) -> 0 | CO9: =IF(BA9>99,199,BA9) -> 0 | CP9: =IF(BB9="",0,BB9) -> 0 | CQ9: =CM9+CO9 -> 0
A10: 2 | B10: 1012276TH | C10: Milou van Hest | D10: Tongerenhof Darya-Ye-Noor | E10: 0.80 -E | F10: IJsselruiters, PC. De | G10: 0 | H10: 80.5 | I10: 8 | J10: 1 | K10: 0 | L10: 40.49 | M10: 3 | N10: 4 | O10: 2 | BF10: =O10+X10+AG10+AO10+AW10+BE10 -> 2 | BG10: =IF($P$4>0,(LARGE(($O10,$X10,$AG10,$AO10,$AW10,$BE10),1)),"0") -> 2 | BH10: =BF10-BG10 -> 0 | BN10: =IF(G10>99,199,G10) -> 0 | BO10: =IF(H10="",0,H10) -> 80.5 | BP10: =IF(K10>99,199,K10) -> 0 | BQ10: =IF(L10="",0,L10) -> 40.49 | BR10: =BN10+BP10 -> 0 | BS10: =IF(P10>99,199,P10) -> 0 | BT10: =IF(Q10="",0,Q10) -> 0 | BU10: =IF(T10>99,199,T10) -> 0 | BV10: =IF(U10="",0,U10) -> 0 | BW10: =BS10+BU10 -> 0 | BX10: =IF(Y10>99,199,Y10) -> 0 | BY10: =IF(Z10="",0,Z10) -> 0 | BZ10: =IF(AC10>99,199,AC10) -> 0 | CA10: =IF(AD10="",0,AD10) -> 0 | CB10: =BX10+BZ10 -> 0 | CC10: =IF(AH10>99,199,AH10) -> 0 | CD10: =IF(AI10="",0,AI10) -> 0 | CE10: =IF(AK10>99,199,AK10) -> 0 | CF10: =IF(AL10="",0,AL10) -> 0 | CG10: =CC10+CE10 -> 0 | CH10: =IF(AP10>99,199,AP10) -> 0 | CI10: =IF(AQ10="",0,AQ10) -> 0 | CJ10: =IF(AS10>99,199,AS10) -> 0 | CK10: =IF(AT10="",0,AT10) -> 0 | CL10: =CH10+CJ10 -> 0 | CM10: =IF(AX10>99,199,AX10) -> 0 | CN10: =IF(AY10="",0,AY10) -> 0 | CO10: =IF(BA10>99,199,BA10) -> 0 | CP10: =IF(BB10="",0,BB10) -> 0 | CQ10: =CM10+CO10 -> 0
A11: 3 | B11: 1015317JT | C11: Anne van Til | D11: Jolene | E11: 0.80 -D | F11: Semper Fidelis, PC. | G11: 0 | H11: 75 | I11: 7.5 | J11: 4 | K11: 0 | L11: 40.89 | M11: 4 | N11: 8 | O11: 3 | BF11: =O11+X11+AG11+AO11+AW11+BE11 -> 3 | BG11: =IF($P$4>0,(LARGE(($O11,$X11,$AG11,$AO11,$AW11,$BE11),1)),"0") -> 3 | BH11: =BF11-BG11 -> 0 | BN11: =IF(G11>99,199,G11) -> 0 | BO11: =IF(H11="",0,H11) -> 75 | BP11: =IF(K11>99,199,K11) -> 0 | BQ11: =IF(L11="",0,L11) -> 40.89 | BR11: =BN11+BP11 -> 0 | BS11: =IF(P11>99,199,P11) -> 0 | BT11: =IF(Q11="",0,Q11) -> 0 | BU11: =IF(T11>99,199,T11) -> 0 | BV11: =IF(U11="",0,U11) -> 0 | BW11: =BS11+BU11 -> 0 | BX11: =IF(Y11>99,199,Y11) -> 0 | BY11: =IF(Z11="",0,Z11) -> 0 | BZ11: =IF(AC11>99,199,AC11) -> 0 | CA11: =IF(AD11="",0,AD11) -> 0 | CB11: =BX11+BZ11 -> 0 | CC11: =IF(AH11>99,199,AH11) -> 0 | CD11: =IF(AI11="",0,AI11) -> 0 | CE11: =IF(AK11>99,199,AK11) -> 0 | CF11: =IF(AL11="",0,AL11) -> 0 | CG11: =CC11+CE11 -> 0 | CH11: =IF(AP11>99,199,AP11) -> 0 | CI11: =IF(AQ11="",0,AQ11) -> 0 | CJ11: =IF(AS11>99,199,AS11) -> 0 | CK11: =IF(AT11="",0,AT11) -> 0 | CL11: =CH11+CJ11 -> 0 | CM11: =IF(AX11>99,199,AX11) -> 0 | CN11: =IF(AY11="",0,AY11) -> 0 | CO11: =IF(BA11>99,199,BA11) -> 0 | CP11: =IF(BB11="",0,BB11) -> 0 | CQ11: =CM11+CO11 -> 0
A12: 4 | B12: 1031426PK | C12: Valerie Kleijer | D12: Pascal | E12: 0.80 -D | F12: Oortveldruiters, PC. De | G12: 0 | H12: 70.5 | I12: 7 | J12: 7 | K12: 0 | L12: 39.58 | M12: 2 | N12: 9 | O12: 4 | BF12: =O12+X12+AG12+AO12+AW12+BE12 -> 4 | BG12: =IF($P$4>0,(LARGE(($O12,$X12,$AG12,$AO12,$AW12,$BE12),1)),"0") -> 4 | BH12: =BF12-BG12 -> 0 | BN12: =IF(G12>99,199,G12) -> 0 | BO12: =IF(H12="",0,H12) -> 70.5 | BP12: =IF(K12>99,199,K12) -> 0 | BQ12: =IF(L12="",0,L12) -> 39.58 | BR12: =BN12+BP12 -> 0 | BS12: =IF(P12>99,199,P12) -> 0 | BT12: =IF(Q12="",0,Q12) -> 0 | BU12: =IF(T12>99,199,T12) -> 0 | BV12: =IF(U12="",0,U12) -> 0 | BW12: =BS12+BU12 -> 0 | BX12: =IF(Y12>99,199,Y12) -> 0 | BY12: =IF(Z12="",0,Z12) -> 0 | BZ12: =IF(AC12>99,199,AC12) -> 0 | CA12: =IF(AD12="",0,AD12) -> 0 | CB12: =BX12+BZ12 -> 0 | CC12: =IF(AH12>99,199,AH12) -> 0 | CD12: =IF(AI12="",0,AI12) -> 0 | CE12: =IF(AK12>99,199,AK12) -> 0 | CF12: =IF(AL12="",0,AL12) -> 0 | CG12: =CC12+CE12 -> 0 | CH12: =IF(AP12>99,199,AP12) -> 0 | CI12: =IF(AQ12="",0,AQ12) -> 0 | CJ12: =IF(AS12>99,199,AS12) -> 0 | CK12: =IF(AT12="",0,AT12) -> 0 | CL12: =CH12+CJ12 -> 0 | CM12: =IF(AX12>99,199,AX12) -> 0 | CN12: =IF(AY12="",0,AY12) -> 0 | CO12: =IF(BA12>99,199,BA12) -> 0 | CP12: =IF(BB12="",0,BB12) -> 0 | CQ12: =CM12+CO12 -> 0
A13: 5 | B13: 1056972HS | C13: Sarah Sligman | D13: Harvey van de Ponderosahoeve | E13: 0.80 -D | F13: Graafschap, PC. De | G13: 0 | H13: 72.5 | I13: 7 | J13: 6 | K13: 0 | L13: 41.75 | M13: 5 | N13: 11 | O13: 5 | BF13: =O13+X13+AG13+AO13+AW13+BE13 -> 5 | BG13: =IF($P$4>0,(LARGE(($O13,$X13,$AG13,$AO13,$AW13,$BE13),1)),"0") -> 5 | BH13: =BF13-BG13 -> 0 | BN13: =IF(G13>99,199,G13) -> 0 | BO13: =IF(H13="",0,H13) -> 72.5 | BP13: =IF(K13>99,199,K13) -> 0 | BQ13: =IF(L13="",0,L13) -> 41.75 | BR13: =BN13+BP13 -> 0 | BS13: =IF(P13>99,199,P13) -> 0 | BT13: =IF(Q13="",0,Q13) -> 0 | BU13: =IF(T13>99,199,T13) -> 0 | BV13: =IF(U13="",0,U13) -> 0 | BW13: =BS13+BU13 -> 0 | BX13: =IF(Y13>99,199,Y13) -> 0 | BY13: =IF(Z13="",0,Z13) -> 0 | BZ13: =IF(AC13>99,199,AC13) -> 0 | CA13: =IF(AD13="",0,AD13) -> 0 | CB13: =BX13+BZ13 -> 0 | CC13: =IF(AH13>99,199,AH13) -> 0 | CD13: =IF(AI13="",0,AI13) -> 0 | CE13: =IF(AK13>99,199,AK13) -> 0 | CF13: =IF(AL13="",0,AL13) -> 0 | CG13: =CC13+CE13 -> 0 | CH13: =IF(AP13>99,199,AP13) -> 0 | CI13: =IF(AQ13="",0,AQ13) -> 0 | CJ13: =IF(AS13>99,199,AS13) -> 0 | CK13: =IF(AT13="",0,AT13) -> 0 | CL13: =CH13+CJ13 -> 0 | CM13: =IF(AX13>99,199,AX13) -> 0 | CN13: =IF(AY13="",0,AY13) -> 0 | CO13: =IF(BA13>99,199,BA13) -> 0 | CP13: =IF(BB13="",0,BB13) -> 0 | CQ13: =CM13+CO13 -> 0
A14: 6 | B14: 1064155OH | C14: Anna van Hest | D14: Orchid's Thanos | E14: 0.80 -D | F14: IJsselruiters, PC. De | G14: 0 | H14: 77.5 | I14: 7.5 | J14: 2 | K14: 4 | L14: 41.35 | M14: 10 | N14: 12 | O14: 6 | BF14: =O14+X14+AG14+AO14+AW14+BE14 -> 6 | BG14: =IF($P$4>0,(LARGE(($O14,$X14,$AG14,$AO14,$AW14,$BE14),1)),"0") -> 6 | BH14: =BF14-BG14 -> 0 | BN14: =IF(G14>99,199,G14) -> 0 | BO14: =IF(H14="",0,H14) -> 77.5 | BP14: =IF(K14>99,199,K14) -> 4 | BQ14: =IF(L14="",0,L14) -> 41.35 | BR14: =BN14+BP14 -> 4 | BS14: =IF(P14>99,199,P14) -> 0 | BT14: =IF(Q14="",0,Q14) -> 0 | BU14: =IF(T14>99,199,T14) -> 0 | BV14: =IF(U14="",0,U14) -> 0 | BW14: =BS14+BU14 -> 0 | BX14: =IF(Y14>99,199,Y14) -> 0 | BY14: =IF(Z14="",0,Z14) -> 0 | BZ14: =IF(AC14>99,199,AC14) -> 0 | CA14: =IF(AD14="",0,AD14) -> 0 | CB14: =BX14+BZ14 -> 0 | CC14: =IF(AH14>99,199,AH14) -> 0 | CD14: =IF(AI14="",0,AI14) -> 0 | CE14: =IF(AK14>99,199,AK14) -> 0 | CF14: =IF(AL14="",0,AL14) -> 0 | CG14: =CC14+CE14 -> 0 | CH14: =IF(AP14>99,199,AP14) -> 0 | CI14: =IF(AQ14="",0,AQ14) -> 0 | CJ14: =IF(AS14>99,199,AS14) -> 0 | CK14: =IF(AT14="",0,AT14) -> 0 | CL14: =CH14+CJ14 -> 0 | CM14: =IF(AX14>99,199,AX14) -> 0 | CN14: =IF(AY14="",0,AY14) -> 0 | CO14: =IF(BA14>99,199,BA14) -> 0 | CP14: =IF(BB14="",0,BB14) -> 0 | CQ14: =CM14+CO14 -> 0
A15: 7 | B15: 1050759AS | C15: Cas Swinkels te Bokkel | D15: Annick B. | E15: 0.80 -E | F15: Veluwezoom (HSV.), PC. De | G15: 0 | H15: 73.5 | I15: 7.5 | J15: 5 | K15: 0 | L15: 45.35 | M15: 7 | N15: 12 | O15: 7 | BF15: =O15+X15+AG15+AO15+AW15+BE15 -> 7 | BG15: =IF($P$4>0,(LARGE(($O15,$X15,$AG15,$AO15,$AW15,$BE15),1)),"0") -> 7 | BH15: =BF15-BG15 -> 0 | BN15: =IF(G15>99,199,G15) -> 0 | BO15: =IF(H15="",0,H15) -> 73.5 | BP15: =IF(K15>99,199,K15) -> 0 | BQ15: =IF(L15="",0,L15) -> 45.35 | BR15: =BN15+BP15 -> 0 | BS15: =IF(P15>99,199,P15) -> 0 | BT15: =IF(Q15="",0,Q15) -> 0 | BU15: =IF(T15>99,199,T15) -> 0 | BV15: =IF(U15="",0,U15) -> 0 | BW15: =BS15+BU15 -> 0 | BX15: =IF(Y15>99,199,Y15) -> 0 | BY15: =IF(Z15="",0,Z15) -> 0 | BZ15: =IF(AC15>99,199,AC15) -> 0 | CA15: =IF(AD15="",0,AD15) -> 0 | CB15: =BX15+BZ15 -> 0 | CC15: =IF(AH15>99,199,AH15) -> 0 | CD15: =IF(AI15="",0,AI15) -> 0 | CE15: =IF(AK15>99,199,AK15) -> 0 | CF15: =IF(AL15="",0,AL15) -> 0 | CG15: =CC15+CE15 -> 0 | CH15: =IF(AP15>99,199,AP15) -> 0 | CI15: =IF(AQ15="",0,AQ15) -> 0 | CJ15: =IF(AS15>99,199,AS15) -> 0 | CK15: =IF(AT15="",0,AT15) -> 0 | CL15: =CH15+CJ15 -> 0 | CM15: =IF(AX15>99,199,AX15) -> 0 | CN15: =IF(AY15="",0,AY15) -> 0 | CO15: =IF(BA15>99,199,BA15) -> 0 | CP15: =IF(BB15="",0,BB15) -> 0 | CQ15: =CM15+CO15 -> 0
